BEGIN:VCALENDAR
VERSION:2.0
PRODID:-//beim Lis | Groupe elisabeth - ECPv6.15.16//NONSGML v1.0//EN
CALSCALE:GREGORIAN
METHOD:PUBLISH
X-WR-CALNAME:beim Lis | Groupe elisabeth
X-ORIGINAL-URL:https://www.beimlis.lu
X-WR-CALDESC:évènements pour beim Lis | Groupe elisabeth
REFRESH-INTERVAL;VALUE=DURATION:PT1H
X-Robots-Tag:noindex
X-PUBLISHED-TTL:PT1H
BEGIN:VTIMEZONE
TZID:Europe/Paris
BEGIN:DAYLIGHT
TZOFFSETFROM:+0100
TZOFFSETTO:+0200
TZNAME:CEST
DTSTART:20210328T010000
END:DAYLIGHT
BEGIN:STANDARD
TZOFFSETFROM:+0200
TZOFFSETTO:+0100
TZNAME:CET
DTSTART:20211031T010000
END:STANDARD
BEGIN:DAYLIGHT
TZOFFSETFROM:+0100
TZOFFSETTO:+0200
TZNAME:CEST
DTSTART:20220327T010000
END:DAYLIGHT
BEGIN:STANDARD
TZOFFSETFROM:+0200
TZOFFSETTO:+0100
TZNAME:CET
DTSTART:20221030T010000
END:STANDARD
BEGIN:DAYLIGHT
TZOFFSETFROM:+0100
TZOFFSETTO:+0200
TZNAME:CEST
DTSTART:20230326T010000
END:DAYLIGHT
BEGIN:STANDARD
TZOFFSETFROM:+0200
TZOFFSETTO:+0100
TZNAME:CET
DTSTART:20231029T010000
END:STANDARD
END:VTIMEZONE
BEGIN:VEVENT
DTSTART;TZID=Europe/Paris:20221201T180000
DTEND;TZID=Europe/Paris:20221201T184500
DTSTAMP:20260424T210551
CREATED:20220928T085112Z
LAST-MODIFIED:20220928T085112Z
UID:3797-1669917600-1669920300@www.beimlis.lu
SUMMARY:Inklusiv Schwammcouren fir Kanner ab 5 Joer
DESCRIPTION:Ab 5 Joer kennen d’Kanner bei eis an de Schwammcours kommen. \n145€ fir 10 Seancen an der Piscine zu Betzder am Institut St.Joseph \nTermine: \n01.12.22               18-18:45 \n03.12.22               13-13:45 \n06.12.22               18-18:45 \n08.12.22               18-18:45 \n10.12.22               13-13:45 \n13.12.22               18-18:45 \n15.12.22               18-18:45 \n17.12.22               13-13:45 \n20.12.22               18-18:45 \n22.12.22               18-18:45
URL:https://www.beimlis.lu/calendrier/inklusiv-schwammcouren-fir-kanner-ab-5-joer-2/
CATEGORIES:Kanneratelier
ATTACH;FMTTYPE=image/png:https://www.beimlis.lu/wp-content/uploads/2022/06/Sans-titre9.png
ORGANIZER;CN="Duerftreff beim Lis":MAILTO:moien@beimlis.lu
END:VEVENT
BEGIN:VEVENT
DTSTART;TZID=Europe/Paris:20221209T133000
DTEND;TZID=Europe/Paris:20221209T153000
DTSTAMP:20260424T210551
CREATED:20221116T142925Z
LAST-MODIFIED:20221116T142925Z
UID:3872-1670592600-1670599800@www.beimlis.lu
SUMMARY:Bakatelier Stollen
DESCRIPTION:Mir baken zesummen Stollen. Jiddereen ass wëllkomm\, ob grouss oder kleng\, jonk oder al\, leet ären Schiitesch prett a mellt iech un.
URL:https://www.beimlis.lu/calendrier/bakatelier-stollen/
LOCATION:Bowéngsbierg  zu Roodt/Syr\, 14 rue d'Olingen\, Roodt/Syr\, 6914\, Luxembourg
CATEGORIES:Lis Treff
ATTACH;FMTTYPE=image/jpeg:https://www.beimlis.lu/wp-content/uploads/2022/11/Kopie-von-Duerfbuttek-Posts-Social-Media.jpg
ORGANIZER;CN="Duerftreff beim Lis":MAILTO:moien@beimlis.lu
END:VEVENT
BEGIN:VEVENT
DTSTART;TZID=Europe/Paris:20221220T140000
DTEND;TZID=Europe/Paris:20221220T160000
DTSTAMP:20260424T210551
CREATED:20221129T161735Z
LAST-MODIFIED:20221202T134431Z
UID:3886-1671544800-1671552000@www.beimlis.lu
SUMMARY:Mir baken Kichelcher fir Chrëschtdag
DESCRIPTION:D’Chrëschtzäit kennt ëmmer méi no. A wat gehéiert definitiv zur Chrëschtzäit\, de leckeren Doft vun Kichelcher. \nHues du Loscht a flotter Ambiance an a gudder Gesellschaft e puer Kichelcher ze baken\, bass de bei eis genau richteg. \nZeck net a mell dech bei eis un. Mir géingen eis freeën.
URL:https://www.beimlis.lu/calendrier/mir-baken-kichelcher-fir-chreschtdag/
LOCATION:Bowéngsbierg  zu Roodt/Syr\, Roodt/Syr\, Luxembourg
CATEGORIES:Lis Treff
ATTACH;FMTTYPE=image/png:https://www.beimlis.lu/wp-content/uploads/2022/11/Kichelcher-Hompage.png
ORGANIZER;CN="Duerftreff beim Lis":MAILTO:moien@beimlis.lu
END:VEVENT
END:VCALENDAR