BEGIN:VCALENDAR
VERSION:2.0
PRODID:-//beim Lis | Groupe elisabeth - ECPv6.15.16//NONSGML v1.0//EN
CALSCALE:GREGORIAN
METHOD:PUBLISH
X-ORIGINAL-URL:https://www.beimlis.lu
X-WR-CALDESC:évènements pour beim Lis | Groupe elisabeth
REFRESH-INTERVAL;VALUE=DURATION:PT1H
X-Robots-Tag:noindex
X-PUBLISHED-TTL:PT1H
BEGIN:VTIMEZONE
TZID:Europe/Paris
BEGIN:DAYLIGHT
TZOFFSETFROM:+0100
TZOFFSETTO:+0200
TZNAME:CEST
DTSTART:20210328T010000
END:DAYLIGHT
BEGIN:STANDARD
TZOFFSETFROM:+0200
TZOFFSETTO:+0100
TZNAME:CET
DTSTART:20211031T010000
END:STANDARD
BEGIN:DAYLIGHT
TZOFFSETFROM:+0100
TZOFFSETTO:+0200
TZNAME:CEST
DTSTART:20220327T010000
END:DAYLIGHT
BEGIN:STANDARD
TZOFFSETFROM:+0200
TZOFFSETTO:+0100
TZNAME:CET
DTSTART:20221030T010000
END:STANDARD
BEGIN:DAYLIGHT
TZOFFSETFROM:+0100
TZOFFSETTO:+0200
TZNAME:CEST
DTSTART:20230326T010000
END:DAYLIGHT
BEGIN:STANDARD
TZOFFSETFROM:+0200
TZOFFSETTO:+0100
TZNAME:CET
DTSTART:20231029T010000
END:STANDARD
END:VTIMEZONE
BEGIN:VEVENT
DTSTART;TZID=Europe/Paris:20221108T180000
DTEND;TZID=Europe/Paris:20221108T184500
DTSTAMP:20260424T192858
CREATED:20220928T084634Z
LAST-MODIFIED:20220928T084851Z
UID:3791-1667930400-1667933100@www.beimlis.lu
SUMMARY:Inklusiv Schwammcouren fir Kanner ab 5 Joer
DESCRIPTION:Ab 5 Joer kennen d’Kanner bei eis an de Schwammcours kommen. \n145€ fir 10 Seancen an der Piscine zu Betzder am Institut St.Joseph \nDatumer: \n\nStunde am 08.11.22 18 Uhr\nStunde am 10.11.22 18 Uhr\nStunde am 12.11.22 13 Uhr\nStunde am 15.11.22 18 Uhr\nStunde am 17.11.22 18 Uhr\nStunde am 19.11.22 13 Uhr\nStunde am 22.11.22 18 Uhr\nStunde am 24.11.22 18 Uhr\nStunde am 26.11.22 13 Uhr\nStunde am 29.11.22 18 Uhr
URL:https://www.beimlis.lu/calendrier/inklusiv-schwammcouren-fir-kanner-ab-5-joer/
LOCATION:Piscine ISJB\, 2 rue de Wecker\, Betzdorf\, 6832\, Luxembourg
CATEGORIES:Kanneratelier
ATTACH;FMTTYPE=image/png:https://www.beimlis.lu/wp-content/uploads/2022/06/Sans-titre9.png
ORGANIZER;CN="Duerftreff beim Lis":MAILTO:moien@beimlis.lu
END:VEVENT
BEGIN:VEVENT
DTSTART;TZID=Europe/Paris:20221108T190000
DTEND;TZID=Europe/Paris:20221108T203000
DTSTAMP:20260424T192858
CREATED:20221005T082544Z
LAST-MODIFIED:20221005T090131Z
UID:3801-1667934000-1667939400@www.beimlis.lu
SUMMARY:Yin Yoga
DESCRIPTION:Ab November bidden mir zesummen mam Carole Yin Yoga un. \n2018 huet et Yin Yoga fir sech entdeckt an sech 2020 doran ausbilde gelooss. \nYin Yoga ass een rouegen Yogastil wou d’Positiounen ouni Muskeluspaanung 3-5 Minutten gehalen gi. Doduerch gi déi déif Schichten am Kierper erreecht wéi d’ Bindegewebe\, d’Faszien mee och d’Bänner\, d’Seenen an d’Knachen gi ugesprach. \nAusserdeem gëtt Yin Yoga d’Méiglechkeet fir een Moment rauszeklammen aus dem Alldagsstress\, ewech vum Leeschtungsdenken\, säi Bléck no bannen ze riichten\, erëm léieren sengem Kierper nozelauschteren an ze akzeptéieren wat ass\, ouni eppes wëllen ze veränneren\, wat zu engem Gefill vun déiwer Zefriddenheet féieren kann. \nMir starten mat 10 Seancen fir 150€ \nDatumer: 8.11/15.11/22.11/29.11/6.12/13.12/20.12/10.01/17.01/24.01
URL:https://www.beimlis.lu/calendrier/yin-yoga/
LOCATION:Isjb\, 2 rue de wecker\, betzdorf
CATEGORIES:Workshop
ATTACH;FMTTYPE=image/jpeg:https://www.beimlis.lu/wp-content/uploads/2022/10/Yoga-November-1.jpg
ORGANIZER;CN="Duerftreff beim Lis":MAILTO:moien@beimlis.lu
END:VEVENT
BEGIN:VEVENT
DTSTART;TZID=Europe/Paris:20221112T110000
DTEND;TZID=Europe/Paris:20221112T130000
DTSTAMP:20260424T192858
CREATED:20220808T132118Z
LAST-MODIFIED:20220808T132118Z
UID:3739-1668250800-1668258000@www.beimlis.lu
SUMMARY:Intensiv Workshop Salben rühren
DESCRIPTION:Salbenrühren nach traditionellem Rezept \nDie Natur stellt uns nicht nur Essen und Trinken zur Verfügung\, sie bietet auch einiges für unser menschliches Wohlbefinden. Die Herstellung von Salben  mit natürlichen Zutaten macht Spaß\, Freude und tut gut. \nIn diesem sehr intensiven Workshop mit nur wenigen Teilnehmern lernen wir Zubehör und Zutaten kennen\, die zum Herstellen von Salben benötigt werden. Einfache Naturvielfalt. \nAus diesen hochwertigen Zutaten stellt jeder Teilnehmer verschiedene Salben nach vorgegebener Rezeptur und Erklärung her. \nDie Vorgehensweise und das Arbeitsmaterial für die Herstellung werden besprochen und erklärt\, ebenso die Zutaten. Die im Workshop verwendeten Materialien und Zutaten stammen aus biologischem Anbau. Kräuter werden entsprechend der Jahreszeit eingesetzt.
URL:https://www.beimlis.lu/calendrier/intensiv-workshop-salben-ruhren/
LOCATION:A Wiewesch\, 12 Syrdallstrooss\,\, Manternach\, L-6850\, Luxembourg
ATTACH;FMTTYPE=image/png:https://www.beimlis.lu/wp-content/uploads/2022/08/Salben.png
END:VEVENT
BEGIN:VEVENT
DTSTART;TZID=Europe/Paris:20221112T150000
DTEND;TZID=Europe/Paris:20221112T170000
DTSTAMP:20260424T192858
CREATED:20220926T084024Z
LAST-MODIFIED:20220926T084024Z
UID:3788-1668265200-1668272400@www.beimlis.lu
SUMMARY:Kannertauchen Schnuppercours
DESCRIPTION:Wolls du schon ëmmer emol wëssen wei et ass mat engem Gerät ze tauchen\, ënner Waasser Saachen ze sichen an Rätselen ze léisen? \nDann ass eisen Schnuppercours genau dat richtegt fir dech. \nFir Kanner ab 8 Joer \nPrais 45€ all Material inclus
URL:https://www.beimlis.lu/calendrier/kannertauchen-schnuppercours-6/
CATEGORIES:Workshop
ORGANIZER;CN="Duerftreff beim Lis":MAILTO:moien@beimlis.lu
END:VEVENT
BEGIN:VEVENT
DTSTART;TZID=Europe/Paris:20221115T190000
DTEND;TZID=Europe/Paris:20221115T203000
DTSTAMP:20260424T192858
CREATED:20221005T083432Z
LAST-MODIFIED:20221005T090045Z
UID:3808-1668538800-1668544200@www.beimlis.lu
SUMMARY:Yin Yoga
DESCRIPTION:Ab November bidden mir zesummen mam Carole Yin Yoga un. \n2018 huet et Yin Yoga fir sech entdeckt an sech 2020 doran ausbilde gelooss. \nYin Yoga ass een rouegen Yogastil wou d’Positiounen ouni Muskeluspaanung 3-5 Minutten gehalen gi. Doduerch gi déi déif Schichten am Kierper erreecht wéi d’ Bindegewebe\, d’Faszien mee och d’Bänner\, d’Seenen an d’Knachen gi ugesprach. \nAusserdeem gëtt Yin Yoga d’Méiglechkeet fir een Moment rauszeklammen aus dem Alldagsstress\, ewech vum Leeschtungsdenken\, säi Bléck no bannen ze riichten\, erëm léieren sengem Kierper nozelauschteren an ze akzeptéieren wat ass\, ouni eppes wëllen ze veränneren\, wat zu engem Gefill vun déiwer Zefriddenheet féieren kann. \nMir starten mat 10 Seancen fir 150€ \nDatumer: 8.11/15.11/22.11/29.11/6.12/13.12/20.12/10.01/17.01/24.01
URL:https://www.beimlis.lu/calendrier/yin-yoga-2/
LOCATION:Isjb\, 2 rue de wecker\, betzdorf
CATEGORIES:Workshop
ATTACH;FMTTYPE=image/jpeg:https://www.beimlis.lu/wp-content/uploads/2022/10/Yoga-November-1.jpg
END:VEVENT
BEGIN:VEVENT
DTSTART;TZID=Europe/Paris:20221122T190000
DTEND;TZID=Europe/Paris:20221122T203000
DTSTAMP:20260424T192858
CREATED:20221005T083535Z
LAST-MODIFIED:20221005T090003Z
UID:3810-1669143600-1669149000@www.beimlis.lu
SUMMARY:Yin Yoga
DESCRIPTION:Ab November bidden mir zesummen mam Carole Yin Yoga un. \n2018 huet et Yin Yoga fir sech entdeckt an sech 2020 doran ausbilde gelooss. \nYin Yoga ass een rouegen Yogastil wou d’Positiounen ouni Muskeluspaanung 3-5 Minutten gehalen gi. Doduerch gi déi déif Schichten am Kierper erreecht wéi d’ Bindegewebe\, d’Faszien mee och d’Bänner\, d’Seenen an d’Knachen gi ugesprach. \nAusserdeem gëtt Yin Yoga d’Méiglechkeet fir een Moment rauszeklammen aus dem Alldagsstress\, ewech vum Leeschtungsdenken\, säi Bléck no bannen ze riichten\, erëm léieren sengem Kierper nozelauschteren an ze akzeptéieren wat ass\, ouni eppes wëllen ze veränneren\, wat zu engem Gefill vun déiwer Zefriddenheet féieren kann. \nMir starten mat 10 Seancen fir 150€ \nDatumer: 8.11/15.11/22.11/29.11/6.12/13.12/20.12/10.01/17.01/24.01
URL:https://www.beimlis.lu/calendrier/3810/
LOCATION:Isjb\, 2 rue de wecker\, betzdorf
CATEGORIES:Workshop
ATTACH;FMTTYPE=image/jpeg:https://www.beimlis.lu/wp-content/uploads/2022/10/Yoga-November-1.jpg
END:VEVENT
BEGIN:VEVENT
DTSTART;TZID=Europe/Paris:20221125T160000
DTEND;TZID=Europe/Paris:20221127T180000
DTSTAMP:20260424T192858
CREATED:20221116T143830Z
LAST-MODIFIED:20221116T143830Z
UID:3876-1669392000-1669572000@www.beimlis.lu
SUMMARY:Betzder Chrëschtmaart
DESCRIPTION:🎄Start zesummen mat eis an d’Adventszäit\, besicht eis Konschthandwierker Stänn\, sicht iech schonn eng flott Chrëschtdeko oder schonn deen een oder anere Cadeau fir ënnert de Beemchen.🎄\n\n\n \n\n\nEis Veräiner suergen dofir dass de groussen a klengen Honger gestëllt gëtt\, e Patt ze drénken gëtt et natierlech och.\n\n\n \n\n\nAn enger heemlecher Ambiance freeën mir eis iech wëllkomm ze heeschen\n\n\n \n\n\nVum 25-27 November zu Rued beim Syrkus\, mir freeën eis op ären Besuch.
URL:https://www.beimlis.lu/calendrier/betzder-chreschtmaart-4/
LOCATION:Syrkus\, 20 rte de Luxembourg\, Rued\, 6910\, Luxembourg
CATEGORIES:Foires et Marchés
ATTACH;FMTTYPE=image/jpeg:https://www.beimlis.lu/wp-content/uploads/2022/11/Plakat-Chreschtmaart-2022-scaled.jpg
END:VEVENT
BEGIN:VEVENT
DTSTART;TZID=Europe/Paris:20221126T150000
DTEND;TZID=Europe/Paris:20221126T170000
DTSTAMP:20260424T192858
CREATED:20221114T103556Z
LAST-MODIFIED:20221114T103556Z
UID:3869-1669474800-1669482000@www.beimlis.lu
SUMMARY:Kannertauchen Schnuppercours
DESCRIPTION:Wolls du schon ëmmer emol wëssen wei et ass mat engem Gerät ze tauchen\, ënner Waasser Saachen ze sichen an Rätselen ze léisen? \nDann ass eisen Schnuppercours genau dat richtegt fir dech. \nFir Kanner ab 8 Joer \nPrais 45€ all Material inclus
URL:https://www.beimlis.lu/calendrier/kannertauchen-schnuppercours-7/
LOCATION:Piscine ISJB\, 2 rue de Wecker\, Betzdorf\, 6832\, Luxembourg
CATEGORIES:Kanneratelier
ATTACH;FMTTYPE=image/jpeg:https://www.beimlis.lu/wp-content/uploads/2022/07/Kannertauchen.jpg
ORGANIZER;CN="Duerftreff beim Lis":MAILTO:moien@beimlis.lu
END:VEVENT
BEGIN:VEVENT
DTSTART;TZID=Europe/Paris:20221129T190000
DTEND;TZID=Europe/Paris:20221129T203000
DTSTAMP:20260424T192858
CREATED:20221005T083636Z
LAST-MODIFIED:20221005T085914Z
UID:3812-1669748400-1669753800@www.beimlis.lu
SUMMARY:Yin Yoga
DESCRIPTION:Ab November bidden mir zesummen mam Carole Yin Yoga un. \n2018 huet et Yin Yoga fir sech entdeckt an sech 2020 doran ausbilde gelooss. \nYin Yoga ass een rouegen Yogastil wou d’Positiounen ouni Muskeluspaanung 3-5 Minutten gehalen gi. Doduerch gi déi déif Schichten am Kierper erreecht wéi d’ Bindegewebe\, d’Faszien mee och d’Bänner\, d’Seenen an d’Knachen gi ugesprach. \nAusserdeem gëtt Yin Yoga d’Méiglechkeet fir een Moment rauszeklammen aus dem Alldagsstress\, ewech vum Leeschtungsdenken\, säi Bléck no bannen ze riichten\, erëm léieren sengem Kierper nozelauschteren an ze akzeptéieren wat ass\, ouni eppes wëllen ze veränneren\, wat zu engem Gefill vun déiwer Zefriddenheet féieren kann. \nMir starten mat 10 Seancen fir 150€ \nDatumer: 8.11/15.11/22.11/29.11/6.12/13.12/20.12/10.01/17.01/24.01
URL:https://www.beimlis.lu/calendrier/yin-yoga-3/
LOCATION:Isjb\, 2 rue de wecker\, betzdorf
CATEGORIES:Workshop
ORGANIZER;CN="Duerftreff beim Lis":MAILTO:moien@beimlis.lu
END:VEVENT
END:VCALENDAR