BEGIN:VCALENDAR
VERSION:2.0
PRODID:-//beim Lis | Groupe elisabeth - ECPv6.15.16//NONSGML v1.0//EN
CALSCALE:GREGORIAN
METHOD:PUBLISH
X-WR-CALNAME:beim Lis | Groupe elisabeth
X-ORIGINAL-URL:https://www.beimlis.lu
X-WR-CALDESC:évènements pour beim Lis | Groupe elisabeth
REFRESH-INTERVAL;VALUE=DURATION:PT1H
X-Robots-Tag:noindex
X-PUBLISHED-TTL:PT1H
BEGIN:VTIMEZONE
TZID:Europe/Paris
BEGIN:DAYLIGHT
TZOFFSETFROM:+0100
TZOFFSETTO:+0200
TZNAME:CEST
DTSTART:20210328T010000
END:DAYLIGHT
BEGIN:STANDARD
TZOFFSETFROM:+0200
TZOFFSETTO:+0100
TZNAME:CET
DTSTART:20211031T010000
END:STANDARD
BEGIN:DAYLIGHT
TZOFFSETFROM:+0100
TZOFFSETTO:+0200
TZNAME:CEST
DTSTART:20220327T010000
END:DAYLIGHT
BEGIN:STANDARD
TZOFFSETFROM:+0200
TZOFFSETTO:+0100
TZNAME:CET
DTSTART:20221030T010000
END:STANDARD
BEGIN:DAYLIGHT
TZOFFSETFROM:+0100
TZOFFSETTO:+0200
TZNAME:CEST
DTSTART:20230326T010000
END:DAYLIGHT
BEGIN:STANDARD
TZOFFSETFROM:+0200
TZOFFSETTO:+0100
TZNAME:CET
DTSTART:20231029T010000
END:STANDARD
END:VTIMEZONE
BEGIN:VEVENT
DTSTART;TZID=Europe/Paris:20220802T090000
DTEND;TZID=Europe/Paris:20220802T170000
DTSTAMP:20260424T145436
CREATED:20220704T094234Z
LAST-MODIFIED:20220704T094234Z
UID:3700-1659430800-1659459600@www.beimlis.lu
SUMMARY:Mam Bus op Treier
DESCRIPTION:Verbréngt mat eis e flotten Dag zu Treier\, mir maachen eis zesummen e flotten Dag\, ginn gemittlech iessen an jiddereen huet d’Geleeënheet e bëssi ze shoppen.  Si dir interesséiert dann mëllt iech gären nach un. \n \n 
URL:https://www.beimlis.lu/calendrier/mam-bus-op-treier/
CATEGORIES:Lis Treff
ATTACH;FMTTYPE=application/pdf:https://www.beimlis.lu/wp-content/uploads/2022/07/Bus-Tour-mam-Lynn-4.pdf
END:VEVENT
END:VCALENDAR