BEGIN:VCALENDAR
VERSION:2.0
PRODID:-//beim Lis | Groupe elisabeth - ECPv6.15.16//NONSGML v1.0//EN
CALSCALE:GREGORIAN
METHOD:PUBLISH
X-ORIGINAL-URL:https://www.beimlis.lu
X-WR-CALDESC:évènements pour beim Lis | Groupe elisabeth
REFRESH-INTERVAL;VALUE=DURATION:PT1H
X-Robots-Tag:noindex
X-PUBLISHED-TTL:PT1H
BEGIN:VTIMEZONE
TZID:Europe/Paris
BEGIN:DAYLIGHT
TZOFFSETFROM:+0100
TZOFFSETTO:+0200
TZNAME:CEST
DTSTART:20210328T010000
END:DAYLIGHT
BEGIN:STANDARD
TZOFFSETFROM:+0200
TZOFFSETTO:+0100
TZNAME:CET
DTSTART:20211031T010000
END:STANDARD
BEGIN:DAYLIGHT
TZOFFSETFROM:+0100
TZOFFSETTO:+0200
TZNAME:CEST
DTSTART:20220327T010000
END:DAYLIGHT
BEGIN:STANDARD
TZOFFSETFROM:+0200
TZOFFSETTO:+0100
TZNAME:CET
DTSTART:20221030T010000
END:STANDARD
BEGIN:DAYLIGHT
TZOFFSETFROM:+0100
TZOFFSETTO:+0200
TZNAME:CEST
DTSTART:20230326T010000
END:DAYLIGHT
BEGIN:STANDARD
TZOFFSETFROM:+0200
TZOFFSETTO:+0100
TZNAME:CET
DTSTART:20231029T010000
END:STANDARD
END:VTIMEZONE
BEGIN:VEVENT
DTSTART;TZID=Europe/Paris:20220506T180000
DTEND;TZID=Europe/Paris:20220506T193000
DTSTAMP:20260424T163413
CREATED:20220420T095345Z
LAST-MODIFIED:20220425T114803Z
UID:3589-1651860000-1651865400@www.beimlis.lu
SUMMARY:Mosaik Workshop "Kleine Steine die das Leben bunter machen"/1
DESCRIPTION:Op de Spueren vum Summer an mir maachen mir eisen Gaart schéin. An engem entspaanten Cour gestalten mir flott Steen mat all méiglechem Mosaik\, Muschelen\, Jicken \, Formen a Faarwen.. Sou kritt och eisen Gaart e puer faarweg Platzen. De Cour besteet aus 2 Deeler\, Freides den 06.05 an den 13.05 \nDe Präis ass mam Material inclus
URL:https://www.beimlis.lu/calendrier/steng-mat-mosaik-gestalten-deel1/
LOCATION:Institut St Joseph Betzdorf\, 2 Rue de Wecker\, Betzdorf\, 6832\, Luxembourg
CATEGORIES:Workshop
ATTACH;FMTTYPE=image/png:https://www.beimlis.lu/wp-content/uploads/2022/04/Kieselsteine.png
ORGANIZER;CN="Duerftreff beim Lis":MAILTO:moien@beimlis.lu
END:VEVENT
BEGIN:VEVENT
DTSTART;TZID=Europe/Paris:20220513T100000
DTEND;TZID=Europe/Paris:20220513T150000
DTSTAMP:20260424T163413
CREATED:20220302T105458Z
LAST-MODIFIED:20220302T105458Z
UID:3576-1652436000-1652454000@www.beimlis.lu
SUMMARY:Mam Bus um Tour op Echternach
DESCRIPTION:Dir wëllt mol eppes anescht gesinn? Wei wier et mat engem Tour aop Echternach? \nMam Mini-Bus fueren mir géint 10 Auer fort an verbréngen do e puer flotter Stonnen\, bummelen \, babbelen zesummen iessen an dann géint 15 sinn mir erëm zeréck. \nMëllt iech elo un \, de Busservice ass gratis
URL:https://www.beimlis.lu/calendrier/mam-bus-um-tour-op-echternach/
LOCATION:Echternach\, Echternach\, Luxembourg
CATEGORIES:Lis on Tour
ATTACH;FMTTYPE=image/png:https://www.beimlis.lu/wp-content/uploads/2022/03/Bus-Tour-2.png
END:VEVENT
BEGIN:VEVENT
DTSTART;TZID=Europe/Paris:20220513T180000
DTEND;TZID=Europe/Paris:20220513T193000
DTSTAMP:20260424T163414
CREATED:20220420T095757Z
LAST-MODIFIED:20220425T114721Z
UID:3596-1652464800-1652470200@www.beimlis.lu
SUMMARY:Mosaik Workshop "Kleine Steine die das Leben bunter machen"/2
DESCRIPTION:Op de Spueren vum Summer an mir maachen mir eisen Gaart schéin. An engem entspaanten Cour gestalten mir flott Steen mat all méiglechem Mosaik\, Muschelen\, Jicken \, Formen a Faarwen.. Sou kritt och eisen Gaart e puer faarweg Platzen. De Cour besteet aus 2 Deeler\, Freides den 06.05 an den 13.05 \nDe Präis ass mam Material inclus \n \n 
URL:https://www.beimlis.lu/calendrier/steng-mat-mosaik-gestalten-deel2/
LOCATION:Institut St Joseph Betzdorf\, 2 Rue de Wecker\, Betzdorf\, 6832\, Luxembourg
CATEGORIES:Workshop
ATTACH;FMTTYPE=image/png:https://www.beimlis.lu/wp-content/uploads/2022/04/Kieselsteine.png
ORGANIZER;CN="Duerftreff beim Lis":MAILTO:moien@beimlis.lu
END:VEVENT
BEGIN:VEVENT
DTSTART;TZID=Europe/Paris:20220521T143000
DTEND;TZID=Europe/Paris:20220521T173000
DTSTAMP:20260424T163414
CREATED:20210324T155651Z
LAST-MODIFIED:20220422T084435Z
UID:3225-1653143400-1653154200@www.beimlis.lu
SUMMARY:Wildkräuterführung in der Alltagsküche
DESCRIPTION:Schon immer hat man mit den Schätzen der Natur etwas hergestellt und viel Zeit mit Pflanzen und Kräutern\nverbracht. Genau das wollen wir zusammen erleben und wiederentdecken. Gemeinsam werden wir uns auf\nEntdeckungsreise begeben und gesammelte Schätze der Natur einfach und alltagstauglich verarbeiten.\nIn der kleinen Kräuterwanderung werden wir Pflanzen suchen\, sammeln\, die Nutzung für die Küche\nerklären anhand von vorbereiteten Rezepten. Wir besprechen was wir alles mit unseren gesammelten\nPflanzen tun können. z.b. das Trocknen der Pflanzen\, die Verwendung für Speisen\, Kräuteröle Tee\, Körper\nÖl und mehr. Das Ziel ist\, ein paar schöne Stunden in der Welt der Pflanzen zu verbringen und Anregungen\nmit in den Alltag zu nehmen. \nWährend einer Pause werden wir unser mitgebrachtes Picknick verzehren und die Verarbeitung in der\nKüche anhand der vorgegebenen Rezepte besprechen. Die Rezepte nimmt jeder mit nach Hause. Auch die\ndazu selbst gesammelten Pflanzen. Was es gibt entscheidet die Natur. Zurück am Ausgangspunkt werden\nwir uns mit gekühlten Getränken stärken\, sowie eine kleine Ueberraschung mit nach Hause nehmen. \nTeilnehmer: maximal 10 Erwachsene (Hunde können nicht mitgehen). \nDauer 3-4 Stunden
URL:https://www.beimlis.lu/calendrier/wildkrauterfuhrung-in-der-alltagskuche/
CATEGORIES:Lis on Tour
ATTACH;FMTTYPE=image/jpeg:https://www.beimlis.lu/wp-content/uploads/2021/03/Kraider-scaled.jpg
ORGANIZER;CN="Duerftreff beim Lis":MAILTO:moien@beimlis.lu
END:VEVENT
END:VCALENDAR