BEGIN:VCALENDAR
VERSION:2.0
PRODID:-//beim Lis | Groupe elisabeth - ECPv6.15.16//NONSGML v1.0//EN
CALSCALE:GREGORIAN
METHOD:PUBLISH
X-ORIGINAL-URL:https://www.beimlis.lu
X-WR-CALDESC:évènements pour beim Lis | Groupe elisabeth
REFRESH-INTERVAL;VALUE=DURATION:PT1H
X-Robots-Tag:noindex
X-PUBLISHED-TTL:PT1H
BEGIN:VTIMEZONE
TZID:Europe/Paris
BEGIN:DAYLIGHT
TZOFFSETFROM:+0100
TZOFFSETTO:+0200
TZNAME:CEST
DTSTART:20210328T010000
END:DAYLIGHT
BEGIN:STANDARD
TZOFFSETFROM:+0200
TZOFFSETTO:+0100
TZNAME:CET
DTSTART:20211031T010000
END:STANDARD
BEGIN:DAYLIGHT
TZOFFSETFROM:+0100
TZOFFSETTO:+0200
TZNAME:CEST
DTSTART:20220327T010000
END:DAYLIGHT
BEGIN:STANDARD
TZOFFSETFROM:+0200
TZOFFSETTO:+0100
TZNAME:CET
DTSTART:20221030T010000
END:STANDARD
BEGIN:DAYLIGHT
TZOFFSETFROM:+0100
TZOFFSETTO:+0200
TZNAME:CEST
DTSTART:20230326T010000
END:DAYLIGHT
BEGIN:STANDARD
TZOFFSETFROM:+0200
TZOFFSETTO:+0100
TZNAME:CET
DTSTART:20231029T010000
END:STANDARD
END:VTIMEZONE
BEGIN:VEVENT
DTSTART;TZID=Europe/Paris:20220402T100000
DTEND;TZID=Europe/Paris:20220402T113000
DTSTAMP:20260424T175933
CREATED:20220112T104641Z
LAST-MODIFIED:20220112T104641Z
UID:3528-1648893600-1648899000@www.beimlis.lu
SUMMARY:Kanneratelier- Mixed media Collage
DESCRIPTION:  \nAn dësem kreativ Atelier gestalten mir eisen eegenen Portrait aus Kartong\, Pabeier Schnouer an Fiederen \nDe Cour ass fir Kanner ab 6 Joer\, d’Material ass am Präis mat abegraff
URL:https://www.beimlis.lu/calendrier/kanneratelier-mixed-media-collage/
LOCATION:Bowéngsbierg  zu Roodt/Syr\, 14 rue d'Olingen\, Roodt/Syr\, 6914\, Luxembourg
CATEGORIES:Kanneratelier
ATTACH;FMTTYPE=image/png:https://www.beimlis.lu/wp-content/uploads/2022/01/Mixed-Media-collage.png
END:VEVENT
BEGIN:VEVENT
DTSTART;TZID=Europe/Paris:20220402T140000
DTEND;TZID=Europe/Paris:20220402T170000
DTSTAMP:20260424T175933
CREATED:20220304T102933Z
LAST-MODIFIED:20220304T102933Z
UID:3582-1648908000-1648918800@www.beimlis.lu
SUMMARY:Ouschtereeërsich
DESCRIPTION:VERBRÉNGT E FLOTTEN NOMËTTEG MAT ÄRE KANNER\nBASTELT ÄERT OUSCHTERNASCHT\nA MAACHT IECH OP D’SICH NO DE VERSTOPPTEN EEËR
URL:https://www.beimlis.lu/calendrier/ouschtereeersich/
LOCATION:Bei der Gemeng zu Bierg\, 11 Rue du Château\, Berg\, 6922
CATEGORIES:Fairtrade
ATTACH;FMTTYPE=image/png:https://www.beimlis.lu/wp-content/uploads/2022/03/Flyer-Greng.png
ORGANIZER;CN="Duerftreff beim Lis":MAILTO:moien@beimlis.lu
END:VEVENT
BEGIN:VEVENT
DTSTART;TZID=Europe/Paris:20220405T090000
DTEND;TZID=Europe/Paris:20220405T150000
DTSTAMP:20260424T175933
CREATED:20220302T105253Z
LAST-MODIFIED:20220302T105253Z
UID:3574-1649149200-1649170800@www.beimlis.lu
SUMMARY:Mam Bus um Tour
DESCRIPTION:Dir wëllt mol eppes anescht gesinn? Wei wier et mat engem Tour an d’Belle Etoile? \nMam Mini-Bus fueren mir géint 9 Auer fort an verbréngen do e puer flotter Stonnen\, bummelen \, babbelen zesummen iessen an dann géint 15 sinn mir erëm zeréck. \nMëllt iech elo un \, de Busservice ass gratis
URL:https://www.beimlis.lu/calendrier/mam-bus-um-tour-2/
CATEGORIES:Lis on Tour
ATTACH;FMTTYPE=image/png:https://www.beimlis.lu/wp-content/uploads/2022/03/Bus-Tour-2.png
END:VEVENT
BEGIN:VEVENT
DTSTART;TZID=Europe/Paris:20220409T153000
DTEND;TZID=Europe/Paris:20220409T173000
DTSTAMP:20260424T175933
CREATED:20220209T104042Z
LAST-MODIFIED:20220209T104042Z
UID:3560-1649518200-1649525400@www.beimlis.lu
SUMMARY:Sauerteig Fladenbrot
DESCRIPTION:Fladenbrot ist ein einfaches\, rundes\, flaches Brot aus Wasser und Mehl. Wir verändern die Rezeptur und peppen die Zutaten mit Sauerteig auf um so eine saftige\, leckere Beigabe zum Grillen oder Picknick vorzubereiten.
URL:https://www.beimlis.lu/calendrier/sauerteig-fladenbrot/
LOCATION:A Wiewesch\, 12 Syrdallstrooss\,\, Manternach\, L-6850\, Luxembourg
CATEGORIES:Workshop
ATTACH;FMTTYPE=image/png:https://www.beimlis.lu/wp-content/uploads/2022/02/Fladenbrot.png
END:VEVENT
BEGIN:VEVENT
DTSTART;TZID=Europe/Paris:20220423T140000
DTEND;TZID=Europe/Paris:20220423T173000
DTSTAMP:20260424T175933
CREATED:20210324T075217Z
LAST-MODIFIED:20220302T105751Z
UID:3215-1650722400-1650735000@www.beimlis.lu
SUMMARY:Wildkräuterrundgang für die Alltagsküche
DESCRIPTION:Kleine Wildkräuterführung \nSchon immer hat man mit den Schätzen der Natur etwas hergestellt und viel Zeit mit Pflanzen und\nKräutern verbracht. Genau das wollen wir zusammen erleben und wiederentdecken. Gemeinsam\nwerden wir uns auf Entdeckungsreise begeben und gesammelte Schätze der Natur einfach und\nalltagstauglich verarbeiten.\nIn der kleinen Kräuterführung werden wir Pflanzen suchen\, sammeln\, die Nutzung für die Küche\nbesprechen und uns über die praktische Verarbeitung austauschen. Wir besprechen was wir alles\nmit unseren gesammelten Pflanzen tun können. z.b. das Trocknen der Pflanzen\, die Verwendung\nfür Speisen\, Kräuteröle Tee\, Körper Öl und mehr.\nDas Ziel ist\, ein paar schöne Stunden in der Welt der Pflanzen zu verbringen und Anregungen mit\nin den Alltag zu nehmen. \nGetränken.
URL:https://www.beimlis.lu/calendrier/wildkrauterrundgang-fur-die-alltagskuche/
CATEGORIES:Lis on Tour,Workshop
ATTACH;FMTTYPE=image/jpeg:https://www.beimlis.lu/wp-content/uploads/2021/03/Kraider-scaled.jpg
ORGANIZER;CN="Duerftreff beim Lis":MAILTO:moien@beimlis.lu
END:VEVENT
BEGIN:VEVENT
DTSTART;TZID=Europe/Paris:20220430T100000
DTEND;TZID=Europe/Paris:20220430T113000
DTSTAMP:20260424T175933
CREATED:20220112T110128Z
LAST-MODIFIED:20220112T110128Z
UID:3531-1651312800-1651318200@www.beimlis.lu
SUMMARY:Kanneratelier- Wandspill
DESCRIPTION:Passend zum Fréijoer loossen mir eiser Kreativitéit freien Laf an bastelen aus klengen Toundëppercher\, Pärelen\, Bännercher a faarwegen Fiederen e Wandspill. \nDen Atelier ass fir Kanner ab 6 Joer\, d’Material ass am Präis mat dran
URL:https://www.beimlis.lu/calendrier/kanneratelier-wandspill/
LOCATION:Bowéngsbierg  zu Roodt/Syr\, 14 rue d'Olingen\, Roodt/Syr\, 6914\, Luxembourg
CATEGORIES:Kanneratelier
ATTACH;FMTTYPE=image/png:https://www.beimlis.lu/wp-content/uploads/2022/01/Winsdpiel.png
END:VEVENT
END:VCALENDAR