BEGIN:VCALENDAR
VERSION:2.0
PRODID:-//beim Lis | Groupe elisabeth - ECPv6.15.16//NONSGML v1.0//EN
CALSCALE:GREGORIAN
METHOD:PUBLISH
X-ORIGINAL-URL:https://www.beimlis.lu
X-WR-CALDESC:évènements pour beim Lis | Groupe elisabeth
REFRESH-INTERVAL;VALUE=DURATION:PT1H
X-Robots-Tag:noindex
X-PUBLISHED-TTL:PT1H
BEGIN:VTIMEZONE
TZID:Europe/Paris
BEGIN:DAYLIGHT
TZOFFSETFROM:+0100
TZOFFSETTO:+0200
TZNAME:CEST
DTSTART:20200329T010000
END:DAYLIGHT
BEGIN:STANDARD
TZOFFSETFROM:+0200
TZOFFSETTO:+0100
TZNAME:CET
DTSTART:20201025T010000
END:STANDARD
BEGIN:DAYLIGHT
TZOFFSETFROM:+0100
TZOFFSETTO:+0200
TZNAME:CEST
DTSTART:20210328T010000
END:DAYLIGHT
BEGIN:STANDARD
TZOFFSETFROM:+0200
TZOFFSETTO:+0100
TZNAME:CET
DTSTART:20211031T010000
END:STANDARD
BEGIN:DAYLIGHT
TZOFFSETFROM:+0100
TZOFFSETTO:+0200
TZNAME:CEST
DTSTART:20220327T010000
END:DAYLIGHT
BEGIN:STANDARD
TZOFFSETFROM:+0200
TZOFFSETTO:+0100
TZNAME:CET
DTSTART:20221030T010000
END:STANDARD
END:VTIMEZONE
BEGIN:VEVENT
DTSTART;TZID=Europe/Paris:20210703T110000
DTEND;TZID=Europe/Paris:20210703T130000
DTSTAMP:20260424T132352
CREATED:20210225T080959Z
LAST-MODIFIED:20210615T102347Z
UID:3153-1625310000-1625317200@www.beimlis.lu
SUMMARY:Yoga & Faszien Workshop
DESCRIPTION:In diesem Workshop kannst du Eintauchen in die Welt des Yin Yoga. Langsame achtsame Bewegungen\ndie deinen gesamten Körper in seinen Einklang bringen.\nJetzt fragst du dich vielleicht\, was ist Yin Yoga? Es ist ein passiver und zugleich dynamischer Yoga-Stil.\nZu den Grundsätzen gehört die ganzheitliche Einbeziehung des Körpers und dessen Muskelgruppen in\nverschiedenen Winkeln. Auf diese Weise kannst du die Faszienbahnen deines gesamten Körpers dehnen\nund mobilisieren.\nWir starten und beenden den Workshop mit einer kleinen Meditation. Der Hauptanteil des Workshops\nwird in einer ausgiebigen Yin Yogapraxis liegen bei der wir die Faszien und deinen gesamten\nOrganismus miteinbeziehen und mobilisieren.\nMaximal 6 Personen
URL:https://www.beimlis.lu/calendrier/yoga-faszien-workshop/
CATEGORIES:Workshop
ATTACH;FMTTYPE=image/jpeg:https://www.beimlis.lu/wp-content/uploads/2021/02/Faszien.jpg
END:VEVENT
BEGIN:VEVENT
DTSTART;TZID=Europe/Paris:20210710T110000
DTEND;TZID=Europe/Paris:20210710T130000
DTSTAMP:20260424T132352
CREATED:20210225T081225Z
LAST-MODIFIED:20210302T094523Z
UID:3156-1625914800-1625922000@www.beimlis.lu
SUMMARY:Neumond & Yoga Workshop
DESCRIPTION:Um uns aufs Neumondwünschen vorzubereiten starten wir mit einem Flow im Zeichen des Neumonds\nund des jeweiligen Sternzeichens in dem er sich gerade befindet\, um unser Herz zu öffnen\nund Raum für neue Ideen zu schaffen. Anschließend praktizieren wir gemeinsam das schöne Ritual des\nNeumondwünschens. Wir schließen es mit einer Visualisierungsmeditation ab.\nDer Neumond:„Selenophile – a person who loves the moon.“—\nDer Mond steht für unsere innere Welt\, unsere Gefühle\, unsere Bedürfnisse\, unser Unterbewusstsein\nund unsere Intuition. Er steht außerdem für unser inneres Kind und unsere innere Mutter\, unsere\nVergangenheit und unserer Vorfahren. Wenn der Mond nicht am Himmel zu sehen ist\, ist Neumond – ein\nneuer Zyklus beginnt. Der Anfang dieses neuen Zyklus steht für Neubeginn. Wir nutzen proaktiv die\nEnergie des Neumondes\, um das was wir uns wünschen in unser Leben zu ziehen.\nMaximal 6 Personen
URL:https://www.beimlis.lu/calendrier/neumond-yoga-workshop/
LOCATION:Festsall ISJB\, 2 rue de Wecker\, Betzdorf\, 6832\, Luxembourg
CATEGORIES:Workshop
ATTACH;FMTTYPE=image/jpeg:https://www.beimlis.lu/wp-content/uploads/2021/02/Neumond-1.jpg
END:VEVENT
BEGIN:VEVENT
DTSTART;TZID=Europe/Paris:20210710T110000
DTEND;TZID=Europe/Paris:20210710T130000
DTSTAMP:20260424T132352
CREATED:20210608T091620Z
LAST-MODIFIED:20210608T091620Z
UID:3306-1625914800-1625922000@www.beimlis.lu
SUMMARY:Intensiv-Back-Workshop- Brötchen aus Sauerteig
DESCRIPTION:Wir backen Brötchen mal anderes \nWir stellen die Brötchen mal ganz anders her\, nämlich wie es sie nur selten gibt: -mit Sauerteig- ! Einfach köstlich.\nIn diesem sehr intensiven Workshop in einem kleinen Teilnehmerkreis lernen Sie das Backen mit Sauerteig kennen\nund erfahren vieles über Sauerteig\, Brot und Brotsorten\, Mehltypen\, Getreide usw. Die praktische Umsetzung erfolgt\nzeitnah mit der Möglichkeit des Austausches und Vertiefung in das Thema. \n \n 
URL:https://www.beimlis.lu/calendrier/intensiv-back-workshop-brotchen-aus-sauerteig/
LOCATION:A Wiewesch\, 12 Syrdallstrooss\,\, Manternach\, L-6850\, Luxembourg
CATEGORIES:Workshop
ATTACH;FMTTYPE=image/jpeg:https://www.beimlis.lu/wp-content/uploads/2021/06/Brotchen.jpg
ORGANIZER;CN="Duerftreff beim Lis":MAILTO:moien@beimlis.lu
END:VEVENT
BEGIN:VEVENT
DTSTART;TZID=Europe/Paris:20210720T143000
DTEND;TZID=Europe/Paris:20210720T160000
DTSTAMP:20260424T132352
CREATED:20210622T123326Z
LAST-MODIFIED:20210622T123326Z
UID:3313-1626791400-1626796800@www.beimlis.lu
SUMMARY:Gaardesteng aus Beton/Deel 1
DESCRIPTION:Pünktlech fir d’Summervakanz maachen mir e flotten Kanneratelier wou dir aus Beton en Steen kennt gestalten fir äre Gaart mei faarweg ze maachen. An dësem Cour géissen mir aus Beton Steng déi mir mat all méiglechem Mosaik\, Muschelen\, Jicken \, Formen a Faarwen kennen individuell gestalten. \nDe Präis ass mam Material inclus de Cour besteet aus 2 Deeler \nDenschdes den 20.07 vun 14.30-16.00an den 27.07 vun 14.30-15.30 \n \n 
URL:https://www.beimlis.lu/calendrier/gaardesteng-aus-beton-deel-1/
LOCATION:Duerftreff beim Lis\, 7 rue de la Gare\, Roodt-Syre\, 6910\, Luxembourg
CATEGORIES:Kanneratelier
ATTACH;FMTTYPE=image/jpeg:https://www.beimlis.lu/wp-content/uploads/2021/06/Gartentrittsteine.jpg
ORGANIZER;CN="Duerftreff beim Lis":MAILTO:moien@beimlis.lu
END:VEVENT
BEGIN:VEVENT
DTSTART;TZID=Europe/Paris:20210721T143000
DTEND;TZID=Europe/Paris:20210721T160000
DTSTAMP:20260424T132352
CREATED:20210622T125403Z
LAST-MODIFIED:20210622T125431Z
UID:3323-1626877800-1626883200@www.beimlis.lu
SUMMARY:Eng Käerz aus Beton / Deel 1
DESCRIPTION:An 2 Nomëtteger gestalten mir eng Käerz fir iech. Aus Beton gegoss an dono flott ugemoolt. Dir fëllt de Wues selwer an är Form dran\, op fir iech oder als Kaddo dëst ass eng super flott Iddi. \nDe Cour besteet aus 2 Deeler. Mëttwochs den 21.07 vun 14.30-16.00 an den 28.07 vun 14.30-16.00 \nDe Präis ass 20€ mam Material inclus
URL:https://www.beimlis.lu/calendrier/kaerz-aus-beton/
LOCATION:Duerftreff beim Lis\, 7 rue de la Gare\, Roodt-Syre\, 6910\, Luxembourg
CATEGORIES:Kanneratelier
ATTACH;FMTTYPE=image/jpeg:https://www.beimlis.lu/wp-content/uploads/2021/06/Kaerzen-Beton-e1624366237797.jpg
ORGANIZER;CN="Duerftreff beim Lis":MAILTO:moien@beimlis.lu
END:VEVENT
BEGIN:VEVENT
DTSTART;TZID=Europe/Paris:20210727T143000
DTEND;TZID=Europe/Paris:20210727T153000
DTSTAMP:20260424T132352
CREATED:20210622T123557Z
LAST-MODIFIED:20210622T123557Z
UID:3321-1627396200-1627399800@www.beimlis.lu
SUMMARY:Gaardesteng aus Beton /Deel2
DESCRIPTION:Pünktlech fir d’Summervakanz maachen mir e flotten Kanneratelier wou dir aus Beton en Steen kennt gestalten fir äre Gaart mei faarweg ze maachen. An dësem Cour géissen mir aus Beton Steng déi mir mat all méiglechem Mosaik\, Muschelen\, Jicken \, Formen a Faarwen kennen individuell gestalten. \nDe Präis ass mam Material inclus de Cour besteet aus 2 Deeler \nDenschdes den 20.07 vun 14.30-16.00an den 27.07 vun 14.30-15.30
URL:https://www.beimlis.lu/calendrier/gaardesteng-aus-beton-deel2/
LOCATION:Duerftreff beim Lis\, 7 rue de la Gare\, Roodt-Syre\, 6910\, Luxembourg
CATEGORIES:Kanneratelier
ATTACH;FMTTYPE=image/jpeg:https://www.beimlis.lu/wp-content/uploads/2021/06/Gartentrittsteine2.jpg
ORGANIZER;CN="Duerftreff beim Lis":MAILTO:moien@beimlis.lu
END:VEVENT
BEGIN:VEVENT
DTSTART;TZID=Europe/Paris:20210728T143000
DTEND;TZID=Europe/Paris:20210728T160000
DTSTAMP:20260424T132352
CREATED:20210622T125557Z
LAST-MODIFIED:20210622T143531Z
UID:3328-1627482600-1627488000@www.beimlis.lu
SUMMARY:Eng Käerz aus Beton / Deel 2
DESCRIPTION:An 2 Nomëtteger gestalten mir eng Käerz fir iech. Aus Beton gegoss an dono flott ugemoolt. Dir fëllt de Wues selwer an är Form dran\, op fir iech oder als Kaddo dëst ass eng super flott Iddi. \nDe Cour besteet aus 2 Deeler. Mëttwochs den 21.07 vun 14.30-16.00 an den 28.07 vun 14.30-16.00 \nDe Präis ass 20€ mam Material inclus
URL:https://www.beimlis.lu/calendrier/eng-kaerz-aus-beton-deel-2/
LOCATION:Duerftreff beim Lis\, 7 rue de la Gare\, Roodt-Syre\, 6910\, Luxembourg
CATEGORIES:Kanneratelier
ATTACH;FMTTYPE=image/jpeg:https://www.beimlis.lu/wp-content/uploads/2021/06/Kaerzen-Beton-e1624366237797.jpg
ORGANIZER;CN="Duerftreff beim Lis":MAILTO:moien@beimlis.lu
END:VEVENT
END:VCALENDAR