BEGIN:VCALENDAR
VERSION:2.0
PRODID:-//beim Lis | Groupe elisabeth - ECPv6.15.16//NONSGML v1.0//EN
CALSCALE:GREGORIAN
METHOD:PUBLISH
X-ORIGINAL-URL:https://www.beimlis.lu
X-WR-CALDESC:évènements pour beim Lis | Groupe elisabeth
REFRESH-INTERVAL;VALUE=DURATION:PT1H
X-Robots-Tag:noindex
X-PUBLISHED-TTL:PT1H
BEGIN:VTIMEZONE
TZID:Europe/Paris
BEGIN:DAYLIGHT
TZOFFSETFROM:+0100
TZOFFSETTO:+0200
TZNAME:CEST
DTSTART:20200329T010000
END:DAYLIGHT
BEGIN:STANDARD
TZOFFSETFROM:+0200
TZOFFSETTO:+0100
TZNAME:CET
DTSTART:20201025T010000
END:STANDARD
BEGIN:DAYLIGHT
TZOFFSETFROM:+0100
TZOFFSETTO:+0200
TZNAME:CEST
DTSTART:20210328T010000
END:DAYLIGHT
BEGIN:STANDARD
TZOFFSETFROM:+0200
TZOFFSETTO:+0100
TZNAME:CET
DTSTART:20211031T010000
END:STANDARD
BEGIN:DAYLIGHT
TZOFFSETFROM:+0100
TZOFFSETTO:+0200
TZNAME:CEST
DTSTART:20220327T010000
END:DAYLIGHT
BEGIN:STANDARD
TZOFFSETFROM:+0200
TZOFFSETTO:+0100
TZNAME:CET
DTSTART:20221030T010000
END:STANDARD
END:VTIMEZONE
BEGIN:VEVENT
DTSTART;TZID=Europe/Paris:20210604T170000
DTEND;TZID=Europe/Paris:20210604T190000
DTSTAMP:20260424T115624
CREATED:20210224T140453Z
LAST-MODIFIED:20210409T093605Z
UID:3142-1622826000-1622833200@www.beimlis.lu
SUMMARY:Envie de créer des bijoux simples et uniques / 4séances
DESCRIPTION:Vous avez envie de créer des bijoux simples et uniques ?\nVeronica d’ArteSana\, passionnée de l’artisanat et du slow design\, Vous fait connaître la technique « Wire Jewellery” pour créer à votre goût des bracelets\, des colliers\, des boucles d’oreilles et des bagues\, idéal pour porter tous les jours.\nAfin de pouvoir vous offrir un cours 100% personnalisé\, le nombre de participants est limité à 4 personnes. Vous pourrez donc en toute tranquillité laisser libre-cours à votre créativité\, tout en profitant d’un accompagnement personnalisé.\n4 séances à 150 EUR ( inclus : kit de pinces sur place et matériels de base pour réaliser les bijoux en fantaisie.\nPossibilité d’acheter de pierres semi-précieuses et matériel en argent/plaqué or sur place. \nLangues parlées : français – anglais
URL:https://www.beimlis.lu/calendrier/envie-de-creer-des-bijoux-simples-et-uniques-4seances/
LOCATION:Bowéngsbierg  zu Roodt/Syr\, 14 rue d'Olingen\, Roodt/Syr\, 6914\, Luxembourg
CATEGORIES:Workshop
ATTACH;FMTTYPE=image/jpeg:https://www.beimlis.lu/wp-content/uploads/2021/02/Bracelet-2021.jpg
ORGANIZER;CN="Duerftreff beim Lis":MAILTO:moien@beimlis.lu
END:VEVENT
BEGIN:VEVENT
DTSTART;TZID=Europe/Paris:20210605T140000
DTEND;TZID=Europe/Paris:20210605T163000
DTSTAMP:20260424T115624
CREATED:20210511T091833Z
LAST-MODIFIED:20210511T091833Z
UID:3268-1622901600-1622910600@www.beimlis.lu
SUMMARY:Atelier fête des mères
DESCRIPTION:ATELIER FETE DES MERES\nGEMSTONES & PEARLS BAR BRACELET & NECKLACE\nRejoignez-nous dans cet atelier pour créer et faire vous-même un cadeau bijoux pour la fête des mères. Un design simple et élégant.\nVous allez découvrir les signification des pierres pour chaque mois d’anniversaire et réaliser un collier et/ou bracelet de barre en petites pierres semi-précieuses facettées.\nmax 6 participants\nLangue parlée Fr+En \nPrix 40€ + 25€ matériel
URL:https://www.beimlis.lu/calendrier/atelier-fete-des-meres/
LOCATION:Bowéngsbierg  zu Roodt/Syr\, 14 rue d'Olingen\, Roodt/Syr\, 6914\, Luxembourg
CATEGORIES:Workshop
ATTACH;FMTTYPE=image/jpeg:https://www.beimlis.lu/wp-content/uploads/2021/05/Bracelet-mammendag.jpg
ORGANIZER;CN="Duerftreff beim Lis":MAILTO:moien@beimlis.lu
END:VEVENT
BEGIN:VEVENT
DTSTART;TZID=Europe/Paris:20210605T140000
DTEND;TZID=Europe/Paris:20210605T163000
DTSTAMP:20260424T115624
CREATED:20210511T092148Z
LAST-MODIFIED:20210511T092148Z
UID:3266-1622901600-1622910600@www.beimlis.lu
SUMMARY:Bijou Atelier fir Mammendag
DESCRIPTION:Mammendag steet virun der Dier \nWei wier et mat engem neien Bracelet oder Bijou? \nFir ze verschenken oder ze halen\, an engem klengen Grupp leiert dir di verschidden Techniken kennen fir ären eegenen Bijou ze kreéieren \nSief et dezent fir den Alldag oder méi extravagant\, kommt a loosst ärer Fantasie freien laf. \nMëllt iech un per Mail op moien@beimlis.lu \nDe Präis ass 40€ fir de Cour an 25€ fir d’Material \nDe Cour ass op Fr+En
URL:https://www.beimlis.lu/calendrier/bijou-atelier-fir-mammendag/
LOCATION:Bowéngsbierg  zu Roodt/Syr\, 14 rue d'Olingen\, Roodt/Syr\, 6914\, Luxembourg
CATEGORIES:Workshop
ATTACH;FMTTYPE=image/jpeg:https://www.beimlis.lu/wp-content/uploads/2021/05/Bracelet-mammendag.jpg
ORGANIZER;CN="Duerftreff beim Lis":MAILTO:moien@beimlis.lu
END:VEVENT
BEGIN:VEVENT
DTSTART;TZID=Europe/Paris:20210611T170000
DTEND;TZID=Europe/Paris:20210611T190000
DTSTAMP:20260424T115624
CREATED:20210224T141145Z
LAST-MODIFIED:20210409T093705Z
UID:3144-1623430800-1623438000@www.beimlis.lu
SUMMARY:Envie de créer des bijoux simples et uniques? / 4séances
DESCRIPTION:Vous avez envie de créer des bijoux simples et uniques ?\nVeronica d’ArteSana\, passionnée de l’artisanat et du slow design\, Vous fait connaître la technique « Wire Jewellery” pour créer à votre goût des bracelets\, des colliers\, des boucles d’oreilles et des bagues\, idéal pour porter tous les jours.\nAfin de pouvoir vous offrir un cours 100% personnalisé\, le nombre de participants est limité à 4 personnes. Vous pourrez donc en toute tranquillité laisser libre-cours à votre créativité\, tout en profitant d’un accompagnement personnalisé.\n4 séances à 150 EUR ( inclus : kit de pinces sur place et matériels de base pour réaliser les bijoux en fantaisie.\nPossibilité d’acheter de pierres semi-précieuses et matériel en argent/plaqué or sur place. \nLangues parlées : français – anglais
URL:https://www.beimlis.lu/calendrier/envie-de-creer-des-bijoux-simples-et-uniques-4seances-2/
LOCATION:Bowéngsbierg  zu Roodt/Syr\, 14 rue d'Olingen\, Roodt/Syr\, 6914\, Luxembourg
CATEGORIES:Workshop
ATTACH;FMTTYPE=image/jpeg:https://www.beimlis.lu/wp-content/uploads/2021/02/Bracelet-2021.jpg
ORGANIZER;CN="Duerftreff beim Lis":MAILTO:moien@beimlis.lu
END:VEVENT
BEGIN:VEVENT
DTSTART;TZID=Europe/Paris:20210611T180000
DTEND;TZID=Europe/Paris:20210611T193000
DTSTAMP:20260424T115624
CREATED:20210514T090652Z
LAST-MODIFIED:20210514T091016Z
UID:3274-1623434400-1623439800@www.beimlis.lu
SUMMARY:Ein Traumfänger aus Knetbeton/ Teil1
DESCRIPTION:Mit Mosaiksteinen\, Perlen und Muscheln formen wir verspielte Traumfänger aus Knetbeton. Ob im Fenster oder draussen im Garten an einem Baum\, der Traumfänger versprüht Sommerstimmung. \nDieser Workshop besteht aus 2 Teieln\, 11.06 & 19.06 von 18.00-19.30 Uhr \nDas Material ist im Preis inbegriffen
URL:https://www.beimlis.lu/calendrier/ein-traumfanger-aus-knetbeton-teil1/
LOCATION:Institut St Joseph Betzdorf\, 2 Rue de Wecker\, Betzdorf\, 6832\, Luxembourg
CATEGORIES:Workshop
ATTACH;FMTTYPE=image/jpeg:https://www.beimlis.lu/wp-content/uploads/2021/05/Traumfanger.jpg
ORGANIZER;CN="Duerftreff beim Lis":MAILTO:moien@beimlis.lu
END:VEVENT
BEGIN:VEVENT
DTSTART;TZID=Europe/Paris:20210612T100000
DTEND;TZID=Europe/Paris:20210612T113000
DTSTAMP:20260424T115624
CREATED:20210423T095236Z
LAST-MODIFIED:20210601T113403Z
UID:3256-1623492000-1623497400@www.beimlis.lu
SUMMARY:Kannerworkshop- Vulkan
DESCRIPTION:Zesummen am klengen Grupp bastelen a gestalten mir eisen eegenen Vulkan. Unhand vun engem Experiment loossen mir en ausbriechen. Zum Schluss duerf all Kand säin eegenen Vulkan mat Heem huelen. \nAlter ab 5 Joer \nMaximal 6 Kanner \nDe Cour besteet aus 2 Deeler\, am Präis mat dran ass d’Material an och eng Broschüre
URL:https://www.beimlis.lu/calendrier/3256/
LOCATION:Bowéngsbierg  zu Roodt/Syr\, 14 rue d'Olingen\, Roodt/Syr\, 6914\, Luxembourg
CATEGORIES:Kanneratelier
ATTACH;FMTTYPE=image/jpeg:https://www.beimlis.lu/wp-content/uploads/2021/04/Vulkan-Leni.jpg
END:VEVENT
BEGIN:VEVENT
DTSTART;TZID=Europe/Paris:20210612T160000
DTEND;TZID=Europe/Paris:20210612T180000
DTSTAMP:20260424T115624
CREATED:20210324T160145Z
LAST-MODIFIED:20210324T160145Z
UID:3229-1623513600-1623520800@www.beimlis.lu
SUMMARY:Intensiv-Back-Workshop FOCACCIA
DESCRIPTION:Wir backen FOCACCIA mal anderes\nDie italienische Spezialität -lingurisches Fladenbrot- FOCACCIA ist eine leckere Beilage\, Vorspeise oder\nZwischenmalzeit. Es wird auch Schiacciata oder Crescentia genannt und unterschiedlich verarbeitet. Wir stellen die\nFOCACCIA mal ganz anders her\, nämlich wie es ihn nur selten gibt: -mit Sauerteig- ! Einfach köstlich.\nIn diesem sehr intensiven Workshop in einem kleinen Teilnehmerkreis lernen Sie das Backen mit Sauerteig kennen\nund erfahren vieles über Sauerteig\, Brot und Brotsorten\, Mehltypen\, Getreide usw. Die praktische Umsetzung erfolgt\nzeitnah mit der Möglichkeit des Austausches und Vertiefung in das Thema. \nJeder Teilnehmer wird einen aktiven Sauerteig zur Pflege erhalten und bearbeiten. Wir werden nach vorgegebener\nRezeptur den Teig herstellen\, dehnen und falten. Der fertige Focaccia-Teig wird mit nach Hause genommen zum\nBacken. Dies ist wegen der langen Ruhezeit beim Sauerteigbrot nur so möglich. Vor Ort werden wir eine vorbereitete\, gereifte Focaccia belegen\, backen und verkosten (falls die aktuellen Situation dies zulässt). \nTaumhaft lecker!\n\nJeder Teilnehmer findet an seinem Arbeitsplatz die notwendigen Zutaten und Arbeitsmaterialien vor und\nnimmt den Rest mit nach Hause. Die Arbeitsplätze haben genügend Abstand voneinander.\nDer Workshop findet statt unter Einhaltung der aktuellen Vorgaben des Gesundheitsamtes.
URL:https://www.beimlis.lu/calendrier/intensiv-back-workshop-focaccia/
LOCATION:A Wiewesch\, 12 Syrdallstrooss\,\, Manternach\, L-6850\, Luxembourg
CATEGORIES:Workshop
ATTACH;FMTTYPE=image/jpeg:https://www.beimlis.lu/wp-content/uploads/2021/03/Brout-Collage-scaled.jpg
ORGANIZER;CN="Duerftreff beim Lis":MAILTO:moien@beimlis.lu
END:VEVENT
BEGIN:VEVENT
DTSTART;TZID=Europe/Paris:20210615T150000
DTEND;TZID=Europe/Paris:20210615T170000
DTSTAMP:20260424T115624
CREATED:20210608T095053Z
LAST-MODIFIED:20210608T095053Z
UID:3309-1623769200-1623776400@www.beimlis.lu
SUMMARY:Kanneratelier Upcycling Kraidergaart
DESCRIPTION:Wat ass Upcycling? \nGanz einfach et mëscht een aus eppes wat een net méi brauch oder Offall eppes Neies. \nGenau dat maachen mir haut \nAus engem alen Mëllech oder Jus Kartong\, e bëssi Faarf an e puer Holzbengelen  /Glacestäbecher zauberen mir e klengen Kraidergaart. \nInteresséiert? Dann komm laanscht luussen ech freeën mech op dech. \nBréng gären en eidelen Kartong mat\, vläicht hues de och nach e puer al Knäpp oder Stengercher fir drop ze pechen \nUmellen kann een sech iwwer Mail op moien@beimlis.lu oder maacht mir en SMS 691719013 \nBei guddem Wieder sinn mir beim Duerfbuttek op der Terrasse a bei Reen gëtt um Bowengsbierg geschafft
URL:https://www.beimlis.lu/calendrier/kanneratelier-upcycling-kraidergaart/
LOCATION:Duerftreff beim Lis\, 7 rue de la Gare\, Roodt-Syre\, 6910\, Luxembourg
CATEGORIES:Kanneratelier
ATTACH;FMTTYPE=image/jpeg:https://www.beimlis.lu/wp-content/uploads/2021/06/Kraidergaart-recycling-scaled.jpg
ORGANIZER;CN="Duerftreff beim Lis":MAILTO:moien@beimlis.lu
END:VEVENT
BEGIN:VEVENT
DTSTART;TZID=Europe/Paris:20210619T100000
DTEND;TZID=Europe/Paris:20210619T113000
DTSTAMP:20260424T115624
CREATED:20210423T095030Z
LAST-MODIFIED:20210601T113506Z
UID:3251-1624096800-1624102200@www.beimlis.lu
SUMMARY:Kannerworkshop - Vulkan
DESCRIPTION:Zesummen am klengen Grupp bastelen a gestalten mir eisen eegenen Vulkan. Unhand vun engem Experiment loossen mir en ausbriechen. Zum Schluss duerf all Kand säin eegenen Vulkan mat Heem huelen. \nAlter ab 5 Joer \nMaximal 6 Kanner \nDe Cour besteet aus 2 Deeler\, am Präis mat dran ass d’Material an och eng Broschüre \n 
URL:https://www.beimlis.lu/calendrier/kannerworkshop-faarwen-fuhrerschain/
LOCATION:Bowéngsbierg  zu Roodt/Syr\, 14 rue d'Olingen\, Roodt/Syr\, 6914\, Luxembourg
CATEGORIES:Kanneratelier
ATTACH;FMTTYPE=image/jpeg:https://www.beimlis.lu/wp-content/uploads/2021/04/Vulkan-Leni.jpg
ORGANIZER;CN="Duerftreff beim Lis":MAILTO:moien@beimlis.lu
END:VEVENT
BEGIN:VEVENT
DTSTART;TZID=Europe/Paris:20210619T180000
DTEND;TZID=Europe/Paris:20210619T193000
DTSTAMP:20260424T115624
CREATED:20210514T090949Z
LAST-MODIFIED:20210514T090949Z
UID:3277-1624125600-1624131000@www.beimlis.lu
SUMMARY:Ein Traumfänger aus Knetbeton/Teil2
DESCRIPTION:Mit Mosaiksteinen\, Perlen und Muscheln formen wir verspielte Traumfänger aus Knetbeton. Ob im Fenster oder draussen im Garten an einem Baum\, der Traumfänger versprüht Sommerstimmung. \nDieser Workshop besteht aus 2 Teieln\, 11.06 & 19.06 von 18.00-19.30 Uhr \nDas Material ist im Preis inbegriffen
URL:https://www.beimlis.lu/calendrier/ein-traumfanger-aus-knetbeton-teil2/
LOCATION:Institut St Joseph Betzdorf\, 2 Rue de Wecker\, Betzdorf\, 6832\, Luxembourg
CATEGORIES:Workshop
ATTACH;FMTTYPE=image/jpeg:https://www.beimlis.lu/wp-content/uploads/2021/05/Traumfanger.jpg
ORGANIZER;CN="Duerftreff beim Lis":MAILTO:moien@beimlis.lu
END:VEVENT
END:VCALENDAR