BEGIN:VCALENDAR
VERSION:2.0
PRODID:-//beim Lis | Groupe elisabeth - ECPv6.15.16//NONSGML v1.0//EN
CALSCALE:GREGORIAN
METHOD:PUBLISH
X-ORIGINAL-URL:https://www.beimlis.lu
X-WR-CALDESC:évènements pour beim Lis | Groupe elisabeth
REFRESH-INTERVAL;VALUE=DURATION:PT1H
X-Robots-Tag:noindex
X-PUBLISHED-TTL:PT1H
BEGIN:VTIMEZONE
TZID:Europe/Paris
BEGIN:DAYLIGHT
TZOFFSETFROM:+0100
TZOFFSETTO:+0200
TZNAME:CEST
DTSTART:20200329T010000
END:DAYLIGHT
BEGIN:STANDARD
TZOFFSETFROM:+0200
TZOFFSETTO:+0100
TZNAME:CET
DTSTART:20201025T010000
END:STANDARD
BEGIN:DAYLIGHT
TZOFFSETFROM:+0100
TZOFFSETTO:+0200
TZNAME:CEST
DTSTART:20210328T010000
END:DAYLIGHT
BEGIN:STANDARD
TZOFFSETFROM:+0200
TZOFFSETTO:+0100
TZNAME:CET
DTSTART:20211031T010000
END:STANDARD
BEGIN:DAYLIGHT
TZOFFSETFROM:+0100
TZOFFSETTO:+0200
TZNAME:CEST
DTSTART:20220327T010000
END:DAYLIGHT
BEGIN:STANDARD
TZOFFSETFROM:+0200
TZOFFSETTO:+0100
TZNAME:CET
DTSTART:20221030T010000
END:STANDARD
END:VTIMEZONE
BEGIN:VEVENT
DTSTART;TZID=Europe/Paris:20210203T163000
DTEND;TZID=Europe/Paris:20210203T183000
DTSTAMP:20260424T115517
CREATED:20200703T100901Z
LAST-MODIFIED:20210115T101041Z
UID:2834-1612369800-1612377000@www.beimlis.lu
SUMMARY:Heekelen mat Arte Sana
DESCRIPTION:Et geet weider… Den Duerftreff bitt erëm en Heekelcour un\, zesummen mat Arte Sana gett iwwer 6 Nomëtteger am Duerftreff geheekelt . Si dir schonn e bëssi geüübt an start gären en neien Projet\, oder si dir Ufänger. An eisem klengen Grupp si dir häerzlech wëllkomm \nHei leiert dir déi gängeg Kniet an leiert esou wei een kleng a méi grouss Projeten realiséiert. \nDe Cour geet iwwer 6 Nomëtteger\, Mëttwochs den 03.02/10.02/17.02/24.02/03.03 an den 10.03.2021 a kascht am ganzen 130 EUR.
URL:https://www.beimlis.lu/calendrier/heekelen-mat-arte-sana-2/
CATEGORIES:Workshop
ATTACH;FMTTYPE=image/png:https://www.beimlis.lu/wp-content/uploads/2019/07/Artesana.png
ORGANIZER;CN="Duerftreff beim Lis":MAILTO:moien@beimlis.lu
END:VEVENT
BEGIN:VEVENT
DTSTART;TZID=Europe/Paris:20210210T163000
DTEND;TZID=Europe/Paris:20210210T183000
DTSTAMP:20260424T115517
CREATED:20210113T143604Z
LAST-MODIFIED:20210113T143604Z
UID:3054-1612974600-1612981800@www.beimlis.lu
SUMMARY:Heekelen mat Arte Sana
DESCRIPTION:Et geet weider… Den Duerftreff bitt erëm en Heekelcour un\, zesummen mat Arte Sana gett iwwer 6 Nomëtteger am Duerftreff geheekelt . Si dir schonn e bëssi geüübt an start gären en neien Projet\, oder si dir Ufänger. An eisem klengen Grupp si dir häerzlech wëllkomm \nHei leiert dir déi gängeg Kniet an leiert esou wei een kleng a méi grouss Projeten realiséiert. \nDe Cour geet iwwer 6 Nomëtteger\, Mëttwochs den 03.02/10.02/17.02/24.02/03.03 an den 10.03.2021 a kascht am ganzen 130 EUR.
URL:https://www.beimlis.lu/calendrier/heekelen-mat-arte-sana-3/
LOCATION:Bowéngsbierg  zu Roodt/Syr\, 14 rue d'Olingen\, Roodt/Syr\, 6914\, Luxembourg
CATEGORIES:Workshop
ATTACH;FMTTYPE=image/png:https://www.beimlis.lu/wp-content/uploads/2020/07/Artesana.png
ORGANIZER;CN="Duerftreff beim Lis":MAILTO:moien@beimlis.lu
END:VEVENT
BEGIN:VEVENT
DTSTART;TZID=Europe/Paris:20210213T160000
DTEND;TZID=Europe/Paris:20210213T180000
DTSTAMP:20260424T115517
CREATED:20210122T094101Z
LAST-MODIFIED:20210122T094101Z
UID:3077-1613232000-1613239200@www.beimlis.lu
SUMMARY:E flotte Bijou fir är Frisur
DESCRIPTION:Valentinsdag steet virun der Dier\, de perfekte Moment sech eppes ze gënnen. \nDir frot iech wei een  esou e flotten Bijou fir är Frisur maacht? \nAm Diy Atelier mat Arte Sana krit dir d’Äntwert. Am klenge Kader kënnt dir ären Iddien freien laf loossen an ënner Uleedung e flotten individuellen Bijou fir e flotten  Ulass maachen. Sief et schlicht fir den Alldag oder méi extra fir en Event\, op Swarovski Pärelen\, Leem-Glaspärelen\, Fiederen oder gedréchent Blummen\, dir kënnt iech alles ukucken an selwer zesummestellen. \nSamschdes mëttes den 13.03.2021 um 16.00 Auer gi mir eis rdv zu Rued um Bowéngsbierg. De Präis leit bei 70€ mam Material inclus. \nMëllt iech elo un per Mail op moien@beimlis.lu oder per SMS 691719013
URL:https://www.beimlis.lu/calendrier/e-flotte-bijou-fir-ar-frisur/
LOCATION:Bowéngsbierg  zu Roodt/Syr\, 14 rue d'Olingen\, Roodt/Syr\, 6914\, Luxembourg
CATEGORIES:Workshop
ATTACH;FMTTYPE=image/jpeg:https://www.beimlis.lu/wp-content/uploads/2021/01/Peigne-Barette1.jpg
ORGANIZER;CN="Duerftreff beim Lis":MAILTO:moien@beimlis.lu
END:VEVENT
BEGIN:VEVENT
DTSTART;TZID=Europe/Paris:20210217T163000
DTEND;TZID=Europe/Paris:20210217T183000
DTSTAMP:20260424T115517
CREATED:20210113T143717Z
LAST-MODIFIED:20210113T143717Z
UID:3056-1613579400-1613586600@www.beimlis.lu
SUMMARY:Heekelen mat Arte Sana
DESCRIPTION:Et geet weider… Den Duerftreff bitt erëm en Heekelcour un\, zesummen mat Arte Sana gett iwwer 6 Nomëtteger am Duerftreff geheekelt . Si dir schonn e bëssi geüübt an start gären en neien Projet\, oder si dir Ufänger. An eisem klengen Grupp si dir häerzlech wëllkomm \nHei leiert dir déi gängeg Kniet an leiert esou wei een kleng a méi grouss Projeten realiséiert. \nDe Cour geet iwwer 6 Nomëtteger\, Mëttwochs den 03.02/10.02/17.02/24.02/03.03 an den 10.03.2021 a kascht am ganzen 130 EUR.
URL:https://www.beimlis.lu/calendrier/heekelen-mat-arte-sana-4/
LOCATION:Bowéngsbierg  zu Roodt/Syr\, 14 rue d'Olingen\, Roodt/Syr\, 6914\, Luxembourg
CATEGORIES:Workshop
ATTACH;FMTTYPE=image/png:https://www.beimlis.lu/wp-content/uploads/2020/07/Artesana.png
ORGANIZER;CN="Duerftreff beim Lis":MAILTO:moien@beimlis.lu
END:VEVENT
BEGIN:VEVENT
DTSTART;TZID=Europe/Paris:20210224T163000
DTEND;TZID=Europe/Paris:20210224T183000
DTSTAMP:20260424T115517
CREATED:20210113T143822Z
LAST-MODIFIED:20210113T143822Z
UID:3058-1614184200-1614191400@www.beimlis.lu
SUMMARY:Heekelen mat Arte Sana
DESCRIPTION:Et geet weider… Den Duerftreff bitt erëm en Heekelcour un\, zesummen mat Arte Sana gett iwwer 6 Nomëtteger am Duerftreff geheekelt . Si dir schonn e bëssi geüübt an start gären en neien Projet\, oder si dir Ufänger. An eisem klengen Grupp si dir häerzlech wëllkomm \nHei leiert dir déi gängeg Kniet an leiert esou wei een kleng a méi grouss Projeten realiséiert. \nDe Cour geet iwwer 6 Nomëtteger\, Mëttwochs den 03.02/10.02/17.02/24.02/03.03 an den 10.03.2021 a kascht am ganzen 130 EUR.
URL:https://www.beimlis.lu/calendrier/heekelen-mat-arte-sana-5/
LOCATION:Bowéngsbierg  zu Roodt/Syr\, 14 rue d'Olingen\, Roodt/Syr\, 6914\, Luxembourg
CATEGORIES:Workshop
ATTACH;FMTTYPE=image/png:https://www.beimlis.lu/wp-content/uploads/2020/07/Artesana.png
ORGANIZER;CN="Duerftreff beim Lis":MAILTO:moien@beimlis.lu
END:VEVENT
END:VCALENDAR