BEGIN:VCALENDAR
VERSION:2.0
PRODID:-//beim Lis | Groupe elisabeth - ECPv6.15.16//NONSGML v1.0//EN
CALSCALE:GREGORIAN
METHOD:PUBLISH
X-ORIGINAL-URL:https://www.beimlis.lu
X-WR-CALDESC:évènements pour beim Lis | Groupe elisabeth
REFRESH-INTERVAL;VALUE=DURATION:PT1H
X-Robots-Tag:noindex
X-PUBLISHED-TTL:PT1H
BEGIN:VTIMEZONE
TZID:Europe/Paris
BEGIN:DAYLIGHT
TZOFFSETFROM:+0100
TZOFFSETTO:+0200
TZNAME:CEST
DTSTART:20190331T010000
END:DAYLIGHT
BEGIN:STANDARD
TZOFFSETFROM:+0200
TZOFFSETTO:+0100
TZNAME:CET
DTSTART:20191027T010000
END:STANDARD
BEGIN:DAYLIGHT
TZOFFSETFROM:+0100
TZOFFSETTO:+0200
TZNAME:CEST
DTSTART:20200329T010000
END:DAYLIGHT
BEGIN:STANDARD
TZOFFSETFROM:+0200
TZOFFSETTO:+0100
TZNAME:CET
DTSTART:20201025T010000
END:STANDARD
BEGIN:DAYLIGHT
TZOFFSETFROM:+0100
TZOFFSETTO:+0200
TZNAME:CEST
DTSTART:20210328T010000
END:DAYLIGHT
BEGIN:STANDARD
TZOFFSETFROM:+0200
TZOFFSETTO:+0100
TZNAME:CET
DTSTART:20211031T010000
END:STANDARD
END:VTIMEZONE
BEGIN:VEVENT
DTSTART;TZID=Europe/Paris:20201205T100000
DTEND;TZID=Europe/Paris:20201205T120000
DTSTAMP:20260423T151121
CREATED:20200915T084007Z
LAST-MODIFIED:20200930T115000Z
UID:2913-1607162400-1607169600@www.beimlis.lu
SUMMARY:Makramee X-Mas
DESCRIPTION:E bëssi Chrëscht Deko gefälleg? \nMir maachen aus e puer Kniet flott Stären fir de Beemchen\, d’Fënster oder ze verschenken.
URL:https://www.beimlis.lu/calendrier/makramee-x-mas/
LOCATION:Bowéngsbierg  zu Roodt/Syr\, 14 rue d'Olingen\, Roodt/Syr\, 6914\, Luxembourg
CATEGORIES:Workshop
ATTACH;FMTTYPE=image/jpeg:https://www.beimlis.lu/wp-content/uploads/2020/09/Staren-Makramee-e1601466563196.jpg
ORGANIZER;CN="Duerftreff beim Lis":MAILTO:moien@beimlis.lu
END:VEVENT
BEGIN:VEVENT
DTSTART;TZID=Europe/Paris:20201205T140000
DTEND;TZID=Europe/Paris:20201205T170000
DTSTAMP:20260423T151121
CREATED:20200908T145354Z
LAST-MODIFIED:20200909T090709Z
UID:2899-1607176800-1607187600@www.beimlis.lu
SUMMARY:Atelier de crochet "Noël"
DESCRIPTION:Cet atelier est idéal pour réaliser ses ouvrages pour Noël!\nDes étoiles\, des boules et d’autres décorations au crochet\ndonneront beaucoup de couleur et de douceur dans votre sapin. \nArteSana – Atelier Crochet Noel \n 
URL:https://www.beimlis.lu/calendrier/atelier-de-crochet-noel/
LOCATION:Bowéngsbierg  zu Roodt/Syr\, 14 rue d'Olingen\, Roodt/Syr\, 6914\, Luxembourg
CATEGORIES:Workshop
ATTACH;FMTTYPE=image/jpeg:https://www.beimlis.lu/wp-content/uploads/2020/09/Heeklen-noel.jpg
ORGANIZER;CN="Duerftreff beim Lis":MAILTO:moien@beimlis.lu
END:VEVENT
END:VCALENDAR