BEGIN:VCALENDAR
VERSION:2.0
PRODID:-//beim Lis | Groupe elisabeth - ECPv6.15.16//NONSGML v1.0//EN
CALSCALE:GREGORIAN
METHOD:PUBLISH
X-WR-CALNAME:beim Lis | Groupe elisabeth
X-ORIGINAL-URL:https://www.beimlis.lu
X-WR-CALDESC:évènements pour beim Lis | Groupe elisabeth
REFRESH-INTERVAL;VALUE=DURATION:PT1H
X-Robots-Tag:noindex
X-PUBLISHED-TTL:PT1H
BEGIN:VTIMEZONE
TZID:Europe/Paris
BEGIN:DAYLIGHT
TZOFFSETFROM:+0100
TZOFFSETTO:+0200
TZNAME:CEST
DTSTART:20190331T010000
END:DAYLIGHT
BEGIN:STANDARD
TZOFFSETFROM:+0200
TZOFFSETTO:+0100
TZNAME:CET
DTSTART:20191027T010000
END:STANDARD
BEGIN:DAYLIGHT
TZOFFSETFROM:+0100
TZOFFSETTO:+0200
TZNAME:CEST
DTSTART:20200329T010000
END:DAYLIGHT
BEGIN:STANDARD
TZOFFSETFROM:+0200
TZOFFSETTO:+0100
TZNAME:CET
DTSTART:20201025T010000
END:STANDARD
BEGIN:DAYLIGHT
TZOFFSETFROM:+0100
TZOFFSETTO:+0200
TZNAME:CEST
DTSTART:20210328T010000
END:DAYLIGHT
BEGIN:STANDARD
TZOFFSETFROM:+0200
TZOFFSETTO:+0100
TZNAME:CET
DTSTART:20211031T010000
END:STANDARD
END:VTIMEZONE
BEGIN:VEVENT
DTSTART;TZID=Europe/Paris:20201113T180000
DTEND;TZID=Europe/Paris:20201113T200000
DTSTAMP:20260423T133624
CREATED:20201021T092239Z
LAST-MODIFIED:20201029T101538Z
UID:2934-1605290400-1605297600@www.beimlis.lu
SUMMARY:Adventskranz Doheem
DESCRIPTION:Duerch déi aktuell Situatioun gëtt eisen Workshop elo ëmorganiséiert an et erwaart iech en Cour mol anescht. \nMat Beton gëtt et modern an trotzdeem gemittlech.Dir gestalt ären ganz eegenen individuellen Adventskranz fir äert Doheem\, oder och fir ze verschenken. \nDir kritt e Package Heem mat dem Material\, enger Beschreiwung an engem online-Treff wou mir zesummen alles beschwätzen. \nDann geet et lass. Den Advent kann kommen
URL:https://www.beimlis.lu/calendrier/adventskranz-am-beton-deel-1/
LOCATION:Institut St Joseph Betzdorf\, 2 Rue de Wecker\, Betzdorf\, 6832\, Luxembourg
CATEGORIES:Workshop
ATTACH;FMTTYPE=image/jpeg:https://www.beimlis.lu/wp-content/uploads/2020/10/Adventskranz-am-Beton1.jpg
ORGANIZER;CN="Duerftreff beim Lis":MAILTO:moien@beimlis.lu
END:VEVENT
BEGIN:VEVENT
DTSTART;TZID=Europe/Paris:20201120T180000
DTEND;TZID=Europe/Paris:20201120T200000
DTSTAMP:20260423T133624
CREATED:20201021T092344Z
LAST-MODIFIED:20201021T092344Z
UID:2936-1605895200-1605902400@www.beimlis.lu
SUMMARY:Adventskranz am Beton/Deel2
DESCRIPTION:Mat Beton gëtt et modern an trotzdeem gemittlech. An 2 Owenter gestalt dir aus Beton ären ganz eegenen individuellen Adventskranz fir äert Doheem\, oder och fir ze verschenken. \nDe Cour besteet aus 2 Deeler\, den éischten Deel gëtt modeléiert an den 2ten Owend décoreiert gemoolt oder mat Gréngs fäerdeg gemaach
URL:https://www.beimlis.lu/calendrier/adventskranz-am-beton-deel2-2/
LOCATION:Institut St Joseph Betzdorf\, 2 Rue de Wecker\, Betzdorf\, 6832\, Luxembourg
CATEGORIES:Workshop
ATTACH;FMTTYPE=image/jpeg:https://www.beimlis.lu/wp-content/uploads/2020/10/Adventskranz-am-Beton1.jpg
ORGANIZER;CN="Duerftreff beim Lis":MAILTO:moien@beimlis.lu
END:VEVENT
BEGIN:VEVENT
DTSTART;TZID=Europe/Paris:20201128T140000
DTEND;TZID=Europe/Paris:20201128T170000
DTSTAMP:20260423T133624
CREATED:20200908T144226Z
LAST-MODIFIED:20200908T144226Z
UID:2895-1606572000-1606582800@www.beimlis.lu
SUMMARY:Atelier de bijoux "Spécial Noël"
DESCRIPTION:Rejoignez-nous dans cet atelier de bijoux “Spécial Noël” et apprenez l’art de fabriquer à la main votre bracelet et\nvos boucles d’oreilles en pierres semi-précieuses! \nC’est aussi une bonne occasion pour offrir vos créations à vos proches.
URL:https://www.beimlis.lu/calendrier/atelier-de-bijoux-special-noel/
LOCATION:Bowéngsbierg  zu Roodt/Syr\, 14 rue d'Olingen\, Roodt/Syr\, 6914\, Luxembourg
CATEGORIES:Workshop
ATTACH;FMTTYPE=application/pdf:https://www.beimlis.lu/wp-content/uploads/2020/09/Christmas-Jewellery-Workshop-2020-compressé-1.pdf
ORGANIZER;CN="Duerftreff beim Lis":MAILTO:moien@beimlis.lu
END:VEVENT
END:VCALENDAR