BEGIN:VCALENDAR
VERSION:2.0
PRODID:-//beim Lis | Groupe elisabeth - ECPv6.15.16//NONSGML v1.0//EN
CALSCALE:GREGORIAN
METHOD:PUBLISH
X-ORIGINAL-URL:https://www.beimlis.lu
X-WR-CALDESC:évènements pour beim Lis | Groupe elisabeth
REFRESH-INTERVAL;VALUE=DURATION:PT1H
X-Robots-Tag:noindex
X-PUBLISHED-TTL:PT1H
BEGIN:VTIMEZONE
TZID:Europe/Paris
BEGIN:DAYLIGHT
TZOFFSETFROM:+0100
TZOFFSETTO:+0200
TZNAME:CEST
DTSTART:20190331T010000
END:DAYLIGHT
BEGIN:STANDARD
TZOFFSETFROM:+0200
TZOFFSETTO:+0100
TZNAME:CET
DTSTART:20191027T010000
END:STANDARD
BEGIN:DAYLIGHT
TZOFFSETFROM:+0100
TZOFFSETTO:+0200
TZNAME:CEST
DTSTART:20200329T010000
END:DAYLIGHT
BEGIN:STANDARD
TZOFFSETFROM:+0200
TZOFFSETTO:+0100
TZNAME:CET
DTSTART:20201025T010000
END:STANDARD
BEGIN:DAYLIGHT
TZOFFSETFROM:+0100
TZOFFSETTO:+0200
TZNAME:CEST
DTSTART:20210328T010000
END:DAYLIGHT
BEGIN:STANDARD
TZOFFSETFROM:+0200
TZOFFSETTO:+0100
TZNAME:CET
DTSTART:20211031T010000
END:STANDARD
END:VTIMEZONE
BEGIN:VEVENT
DTSTART;TZID=Europe/Paris:20200915T143000
DTEND;TZID=Europe/Paris:20200915T160000
DTSTAMP:20260423T165337
CREATED:20200908T152431Z
LAST-MODIFIED:20200908T152431Z
UID:2903-1600180200-1600185600@www.beimlis.lu
SUMMARY:Kanneratelier: Mir gi an de Bësch
DESCRIPTION:Mir gi an de Bësch\, sammele Material\, spillen a wann d’Wieder matspillt maache mir e Barfusspfad \nAb dem 15.09. bidde mir nees Dënschdes Mëttes flott Kanneraktivitéiten un.\nAwer net méi beim Lis\, do ass et leider ze kléng fir all di néideg Hygiènes- an Ofstandsregelen anzehalen\, mee um Bowéngsbierg.\nMir kënne max. 5 Kanner huelen\, an och just wann se ageschriwwe sinn. Umelle wgl per SMS op den 691 719 013 oder iwwert mail op moien@beimlis.lu bis Freides 12 Auer.\nSoubal et erëm méiglech ass\, wäerte mir natierlech erëm eis gewinnten Platz am Duerfbuttek notzen.
URL:https://www.beimlis.lu/calendrier/kanneratelier-mir-gi-an-de-besch/
LOCATION:Bowéngsbierg  zu Roodt/Syr\, 14 rue d'Olingen\, Roodt/Syr\, 6914\, Luxembourg
CATEGORIES:Kanneratelier
ATTACH;FMTTYPE=image/jpeg:https://www.beimlis.lu/wp-content/uploads/2020/09/September.jpg
ORGANIZER;CN="Duerftreff beim Lis":MAILTO:moien@beimlis.lu
END:VEVENT
BEGIN:VEVENT
DTSTART;TZID=Europe/Paris:20200922T143000
DTEND;TZID=Europe/Paris:20200922T160000
DTSTAMP:20260423T165337
CREATED:20200915T083557Z
LAST-MODIFIED:20200915T083557Z
UID:2910-1600785000-1600790400@www.beimlis.lu
SUMMARY:Kanneratelier : Fliegende Fische
DESCRIPTION:Fliegende Fische\, e bëssi Faarf gefälleg\, hei kennt nach emol Schwong an de Gaart. \nDënschdes vun 14.30-16.00 Auer hunn mir e Kanneratelier fir jiddereen ab 5 Joer. \nMëllt iech weg bis Freides den 18.09.2020 un per SMS 691719013 oder Email moien@beimlis.lu. \nMir treffen eis ëmmer um Bowéngsbierg op 14 rue d’Olingen zu Rued
URL:https://www.beimlis.lu/calendrier/kanneratelier-fliegende-fische/
LOCATION:Bowéngsbierg  zu Roodt/Syr\, Roodt/Syr\, Luxembourg
CATEGORIES:Kanneratelier
ORGANIZER;CN="Duerftreff beim Lis":MAILTO:moien@beimlis.lu
END:VEVENT
END:VCALENDAR