BEGIN:VCALENDAR
VERSION:2.0
PRODID:-//beim Lis | Groupe elisabeth - ECPv6.15.16//NONSGML v1.0//EN
CALSCALE:GREGORIAN
METHOD:PUBLISH
X-ORIGINAL-URL:https://www.beimlis.lu
X-WR-CALDESC:évènements pour beim Lis | Groupe elisabeth
REFRESH-INTERVAL;VALUE=DURATION:PT1H
X-Robots-Tag:noindex
X-PUBLISHED-TTL:PT1H
BEGIN:VTIMEZONE
TZID:Europe/Paris
BEGIN:DAYLIGHT
TZOFFSETFROM:+0100
TZOFFSETTO:+0200
TZNAME:CEST
DTSTART:20190331T010000
END:DAYLIGHT
BEGIN:STANDARD
TZOFFSETFROM:+0200
TZOFFSETTO:+0100
TZNAME:CET
DTSTART:20191027T010000
END:STANDARD
BEGIN:DAYLIGHT
TZOFFSETFROM:+0100
TZOFFSETTO:+0200
TZNAME:CEST
DTSTART:20200329T010000
END:DAYLIGHT
BEGIN:STANDARD
TZOFFSETFROM:+0200
TZOFFSETTO:+0100
TZNAME:CET
DTSTART:20201025T010000
END:STANDARD
BEGIN:DAYLIGHT
TZOFFSETFROM:+0100
TZOFFSETTO:+0200
TZNAME:CEST
DTSTART:20210328T010000
END:DAYLIGHT
BEGIN:STANDARD
TZOFFSETFROM:+0200
TZOFFSETTO:+0100
TZNAME:CET
DTSTART:20211031T010000
END:STANDARD
END:VTIMEZONE
BEGIN:VEVENT
DTSTART;TZID=Europe/Paris:20200722T180000
DTEND;TZID=Europe/Paris:20200722T200000
DTSTAMP:20260423T200244
CREATED:20190709T132709Z
LAST-MODIFIED:20200710T124402Z
UID:2457-1595440800-1595448000@www.beimlis.lu
SUMMARY:Heekelcours mam Veronica Di Leo
DESCRIPTION:Et geet weider… Den Duerftreff bitt erëm en Heekelcour un\, zesummen mat Arte Sana gett iwwer 3 Owenter mam Duerftreff geheekelt . \nHei leiert dir déi gängeg Kniet an leiert esou wei een kleng a méi grouss Projeten realiséiert. \nDe Cour geet iwwer 3 Owenter\, Mëttwochs den 22.07\, 29.07 an 5.08  a kascht am ganzen 60 EUR fir di 3 Owenter \n  \n 
URL:https://www.beimlis.lu/calendrier/heekelschnuppercours-mam-veronica-di-leo/
LOCATION:Duerfbuttek Beim Lis
CATEGORIES:Workshop
ATTACH;FMTTYPE=image/png:https://www.beimlis.lu/wp-content/uploads/2019/07/Artesana.png
ORGANIZER;CN="Duerftreff beim Lis":MAILTO:moien@beimlis.lu
END:VEVENT
BEGIN:VEVENT
DTSTART;TZID=Europe/Paris:20200724T140000
DTEND;TZID=Europe/Paris:20200724T160000
DTSTAMP:20260423T200244
CREATED:20200706T142213Z
LAST-MODIFIED:20200707T082921Z
UID:2836-1595599200-1595606400@www.beimlis.lu
SUMMARY:Kanneratelier - Mir gi eiser aler Mëllech-Tut en neit Gesicht:)
DESCRIPTION:Wat e bëssen Waasser\, Faarf an Päsch heiansdo bewierken kann\, gesi dir an eisem kreativen Upcycling Atelier. \nKanneratelier-Upcycling mam Duerftreff \nMir gi eis um 14 Auer rdv am Haff beim Duerfbuttek/Duerftreff an gestalten zesummen e puer flott Blummendëppercher oder Stiftehalter oder wat och ëmmer dir iech afalen loosst fir d’Mëllech Tut weider liewen ze loossen. \nMëllt iech weg un\, esou dass mir genuch Material prett hunn. \nBass du interesséiert? Dann sammel 3 Mëllech Tuten an no der Umeldung kriss du vun mir gesot wat’s de schonn doheem kanns virbereeden. \nEch freeën mech op iech \nLynn
URL:https://www.beimlis.lu/calendrier/kanneratelier-mir-gi-eiser-aler-mellech-tut-en-neit-gesicht/
LOCATION:Duerftreff beim Lis\, 7 rue de la Gare\, Roodt-Syre\, 6910\, Luxembourg
CATEGORIES:Kanneratelier
ATTACH;FMTTYPE=image/jpeg:https://www.beimlis.lu/wp-content/uploads/2020/07/Mëllëch-Upcy-scaled-e1594110530393.jpg
ORGANIZER;CN="Duerftreff beim Lis":MAILTO:moien@beimlis.lu
END:VEVENT
BEGIN:VEVENT
DTSTART;TZID=Europe/Paris:20200724T180000
DTEND;TZID=Europe/Paris:20200724T210000
DTSTAMP:20260423T200244
CREATED:20200212T160048Z
LAST-MODIFIED:20200625T095755Z
UID:2730-1595613600-1595624400@www.beimlis.lu
SUMMARY:E Wandliicht aus Makramee
DESCRIPTION:Wat esou e puer Kniet kennen ausmaachen\, gesi dir an eisem Workshop. Hei weisen mir iech wei een mat Fuedem a Knuet wonnerschéin Wandliichter zaubert. Eng Deko oder Cadeau Iddi déi sécher Succès huet. \nDe Präis ass mam Material inclus \nMëllt iech elo un mir freeën eis op iech
URL:https://www.beimlis.lu/calendrier/e-wandliicht-aus-makramee/
LOCATION:Bowéngsbierg  zu Roodt/Syr\, 14 rue d'Olingen\, Roodt/Syr\, 6914\, Luxembourg
CATEGORIES:Workshop
ATTACH;FMTTYPE=image/jpeg:https://www.beimlis.lu/wp-content/uploads/2020/02/Makramee-rotated.jpg
ORGANIZER;CN="Duerftreff beim Lis":MAILTO:moien@beimlis.lu
END:VEVENT
BEGIN:VEVENT
DTSTART;TZID=Europe/Paris:20200729T180000
DTEND;TZID=Europe/Paris:20200729T200000
DTSTAMP:20260423T200244
CREATED:20200703T100742Z
LAST-MODIFIED:20200714T093526Z
UID:2829-1596045600-1596052800@www.beimlis.lu
SUMMARY:Heekelen mat Arte Sana
DESCRIPTION:Et geet weider… Den Duerftreff bitt erëm en Heekelcour un\, zesummen mat Arte Sana gett iwwer 3  Owenter am Duerftreff geheekelt . \nHei leiert dir déi gängeg Kniet an leiert esou wei een kleng a méi grouss Projeten realiséiert. \nDe Cour geet iwwer 3  Owenter\, Mëttwochs den 22.07\, 29.07 an 5.08  a kascht am ganzen 60 EUR fir di 3  Owenter
URL:https://www.beimlis.lu/calendrier/heekelen-mat-arte-sana/
LOCATION:Duerftreff beim Lis\, 7 rue de la Gare\, Roodt-Syre\, 6910\, Luxembourg
CATEGORIES:Workshop
ATTACH;FMTTYPE=image/jpeg:https://www.beimlis.lu/wp-content/uploads/2019/07/Tasche-heekelen.jpg
ORGANIZER;CN="Duerftreff beim Lis":MAILTO:moien@beimlis.lu
END:VEVENT
BEGIN:VEVENT
DTSTART;TZID=Europe/Paris:20200731T140000
DTEND;TZID=Europe/Paris:20200731T160000
DTSTAMP:20260423T200244
CREATED:20200707T083823Z
LAST-MODIFIED:20200707T083926Z
UID:2841-1596204000-1596211200@www.beimlis.lu
SUMMARY:Kreativatelier fir Kanner Glasënnersëtzer aus Kork
DESCRIPTION:Mir bastelen e Glasënnersëtzer aus Kork. \nOb Zeitung\, Foto\, Landkaarten oder Comic… alles kann mat drop. \nMat dësen Kork Glasënnersëtzer si dir dësen Summer de Star am Gaart. \nBréngt är Liblingsfoto op Pabeier ausgedréckt mat\, oder ären Liblingscomic…an loosst eis zesummen lassleeën. \nMëllt iech weg iwwer SMS oder Email un\, ech freeën mech op iech \nAtelier 1: 14.00-15.00 \nAtelier 2: 15.00-16.00 \n 
URL:https://www.beimlis.lu/calendrier/kreativatelier-fir-kanner-glasennersetzer-aus-kork/
LOCATION:Duerftreff beim Lis\, 7 rue de la Gare\, Roodt-Syre\, 6910\, Luxembourg
CATEGORIES:Kanneratelier
ORGANIZER;CN="Duerftreff beim Lis":MAILTO:moien@beimlis.lu
END:VEVENT
BEGIN:VEVENT
DTSTART;TZID=Europe/Paris:20200731T180000
DTEND;TZID=Europe/Paris:20200731T193000
DTSTAMP:20260423T200244
CREATED:20200625T100352Z
LAST-MODIFIED:20200625T100638Z
UID:2807-1596218400-1596223800@www.beimlis.lu
SUMMARY:Beton fir an de Gaart/ Deel 1
DESCRIPTION:Mir ginn eisen alen Tasen an Telleren en neit Liewen an maachen eis eng schéin Gaarden Deco. \nDe Präis ass fir déi 2 Owenter mam Material inclus
URL:https://www.beimlis.lu/calendrier/beton-fir-an-de-gaart-deel-1/
LOCATION:Institut St Joseph Betzdorf\, 2 Rue de Wecker\, Betzdorf\, 6832\, Luxembourg
CATEGORIES:Workshop
ATTACH;FMTTYPE=image/jpeg:https://www.beimlis.lu/wp-content/uploads/2020/06/Beton-rotated.jpeg
ORGANIZER;CN="Duerftreff beim Lis":MAILTO:moien@beimlis.lu
END:VEVENT
END:VCALENDAR