BEGIN:VCALENDAR
VERSION:2.0
PRODID:-//beim Lis | Groupe elisabeth - ECPv6.15.16//NONSGML v1.0//EN
CALSCALE:GREGORIAN
METHOD:PUBLISH
X-WR-CALNAME:beim Lis | Groupe elisabeth
X-ORIGINAL-URL:https://www.beimlis.lu
X-WR-CALDESC:évènements pour beim Lis | Groupe elisabeth
REFRESH-INTERVAL;VALUE=DURATION:PT1H
X-Robots-Tag:noindex
X-PUBLISHED-TTL:PT1H
BEGIN:VTIMEZONE
TZID:Europe/Paris
BEGIN:DAYLIGHT
TZOFFSETFROM:+0100
TZOFFSETTO:+0200
TZNAME:CEST
DTSTART:20190331T010000
END:DAYLIGHT
BEGIN:STANDARD
TZOFFSETFROM:+0200
TZOFFSETTO:+0100
TZNAME:CET
DTSTART:20191027T010000
END:STANDARD
BEGIN:DAYLIGHT
TZOFFSETFROM:+0100
TZOFFSETTO:+0200
TZNAME:CEST
DTSTART:20200329T010000
END:DAYLIGHT
BEGIN:STANDARD
TZOFFSETFROM:+0200
TZOFFSETTO:+0100
TZNAME:CET
DTSTART:20201025T010000
END:STANDARD
BEGIN:DAYLIGHT
TZOFFSETFROM:+0100
TZOFFSETTO:+0200
TZNAME:CEST
DTSTART:20210328T010000
END:DAYLIGHT
BEGIN:STANDARD
TZOFFSETFROM:+0200
TZOFFSETTO:+0100
TZNAME:CET
DTSTART:20211031T010000
END:STANDARD
END:VTIMEZONE
BEGIN:VEVENT
DTSTART;TZID=Europe/Paris:20200613T103000
DTEND;TZID=Europe/Paris:20200613T114500
DTSTAMP:20260423T213748
CREATED:20200226T105807Z
LAST-MODIFIED:20200226T105807Z
UID:2759-1592044200-1592048700@www.beimlis.lu
SUMMARY:YOGA Kids (3 Couren)
DESCRIPTION:Yoga fir déi Kleng ab 5 Joer \nEng Stonn fir ze laachen\, entspanen\, den Kierper ze beweegen\, Fantasiereesen ze maachen\, Musek ze lauschteren an einfach Kand ze sinn ! \nHei gëtt op spilleresch Aart an Weis den Wee an déi verschidden Yogastellungen bruecht mat vill Witz an ouni Drock. Ganz nom Motto alles kann\, näischt muss. \nGehalen gëtt dësen Cours op lëtzebuergesch . \nEn ass ugeluecht fir min. 4 Gruppen mat 1 Kand an sengem Begleeder\, dëst kann Mamma / Pappa\, awer och Bomi/Bopi/Tatta/etc sinn. \nDe Präis fir déi 3 Couren ass 45 € pro Grupp. \nDatumer sinn den 16.05\, den 30.05 an den 13.06
URL:https://www.beimlis.lu/calendrier/yoga-kids-3-couren-3/
LOCATION:Bowéngsbierg  zu Roodt/Syr\, 14 rue d'Olingen\, Roodt/Syr\, 6914\, Luxembourg
CATEGORIES:Workshop
ATTACH;FMTTYPE=image/jpeg:https://www.beimlis.lu/wp-content/uploads/2020/02/Kanneryoga-relax.jpg
ORGANIZER;CN="Duerftreff beim Lis":MAILTO:moien@beimlis.lu
END:VEVENT
END:VCALENDAR