BEGIN:VCALENDAR
VERSION:2.0
PRODID:-//beim Lis | Groupe elisabeth - ECPv6.15.16//NONSGML v1.0//EN
CALSCALE:GREGORIAN
METHOD:PUBLISH
X-ORIGINAL-URL:https://www.beimlis.lu
X-WR-CALDESC:évènements pour beim Lis | Groupe elisabeth
REFRESH-INTERVAL;VALUE=DURATION:PT1H
X-Robots-Tag:noindex
X-PUBLISHED-TTL:PT1H
BEGIN:VTIMEZONE
TZID:Europe/Paris
BEGIN:DAYLIGHT
TZOFFSETFROM:+0100
TZOFFSETTO:+0200
TZNAME:CEST
DTSTART:20200329T010000
END:DAYLIGHT
BEGIN:STANDARD
TZOFFSETFROM:+0200
TZOFFSETTO:+0100
TZNAME:CET
DTSTART:20201025T010000
END:STANDARD
BEGIN:DAYLIGHT
TZOFFSETFROM:+0100
TZOFFSETTO:+0200
TZNAME:CEST
DTSTART:20210328T010000
END:DAYLIGHT
BEGIN:STANDARD
TZOFFSETFROM:+0200
TZOFFSETTO:+0100
TZNAME:CET
DTSTART:20211031T010000
END:STANDARD
BEGIN:DAYLIGHT
TZOFFSETFROM:+0100
TZOFFSETTO:+0200
TZNAME:CEST
DTSTART:20220327T010000
END:DAYLIGHT
BEGIN:STANDARD
TZOFFSETFROM:+0200
TZOFFSETTO:+0100
TZNAME:CET
DTSTART:20221030T010000
END:STANDARD
END:VTIMEZONE
BEGIN:VEVENT
DTSTART;TZID=Europe/Paris:20211008T180000
DTEND;TZID=Europe/Paris:20211008T193000
DTSTAMP:20260425T183321
CREATED:20210630T095312Z
LAST-MODIFIED:20210831T125940Z
UID:3343-1633716000-1633721400@www.beimlis.lu
SUMMARY:Lichtschale aus Knetbeton/Deel1
DESCRIPTION:Braucht dir nach eng kleng Deko fir den Hierscht? Mat eisem Workshop si dir genee richteg\, aus Knetbeton maachen mir eng Kugel\, déi kann een super gutt beplanzen oder eng Käerz erastellen fir eng dezent Beliichtung. \nDen Cour besteet aus 2 Deeler\, den 8 &15 Oktober 2021 ëmmer vun 18.00-19.30 \nDe Präis ass mam Material inclus
URL:https://www.beimlis.lu/calendrier/lichtschale-aus-knetbeton-2/
LOCATION:Institut St Joseph Betzdorf\, 2 Rue de Wecker\, Betzdorf\, 6832\, Luxembourg
CATEGORIES:Workshop
ATTACH;FMTTYPE=image/jpeg:https://www.beimlis.lu/wp-content/uploads/2021/06/Beton-Kugel-2.jpg
END:VEVENT
END:VCALENDAR