BEGIN:VCALENDAR
VERSION:2.0
PRODID:-//beim Lis | Groupe elisabeth - ECPv6.15.16//NONSGML v1.0//EN
CALSCALE:GREGORIAN
METHOD:PUBLISH
X-ORIGINAL-URL:https://www.beimlis.lu
X-WR-CALDESC:évènements pour beim Lis | Groupe elisabeth
REFRESH-INTERVAL;VALUE=DURATION:PT1H
X-Robots-Tag:noindex
X-PUBLISHED-TTL:PT1H
BEGIN:VTIMEZONE
TZID:Europe/Paris
BEGIN:DAYLIGHT
TZOFFSETFROM:+0100
TZOFFSETTO:+0200
TZNAME:CEST
DTSTART:20200329T010000
END:DAYLIGHT
BEGIN:STANDARD
TZOFFSETFROM:+0200
TZOFFSETTO:+0100
TZNAME:CET
DTSTART:20201025T010000
END:STANDARD
BEGIN:DAYLIGHT
TZOFFSETFROM:+0100
TZOFFSETTO:+0200
TZNAME:CEST
DTSTART:20210328T010000
END:DAYLIGHT
BEGIN:STANDARD
TZOFFSETFROM:+0200
TZOFFSETTO:+0100
TZNAME:CET
DTSTART:20211031T010000
END:STANDARD
BEGIN:DAYLIGHT
TZOFFSETFROM:+0100
TZOFFSETTO:+0200
TZNAME:CEST
DTSTART:20220327T010000
END:DAYLIGHT
BEGIN:STANDARD
TZOFFSETFROM:+0200
TZOFFSETTO:+0100
TZNAME:CET
DTSTART:20221030T010000
END:STANDARD
END:VTIMEZONE
BEGIN:VEVENT
DTSTART;TZID=Europe/Paris:20211105T180000
DTEND;TZID=Europe/Paris:20211105T193000
DTSTAMP:20260425T183107
CREATED:20201021T091934Z
LAST-MODIFIED:20210831T140856Z
UID:2928-1636135200-1636140600@www.beimlis.lu
SUMMARY:Adventskranz am Beton/Deel1
DESCRIPTION:Mat Beton gëtt et modern an trotzdeem gemittlech. An 2 Owenter gestalt dir aus Beton ären ganz eegenen individuellen Adventskranz fir äert Doheem\, oder och fir ze verschenken. \nDe Cour besteet aus 2 Deeler\, den éischten Deel gëtt modeléiert an den 2ten Owend décoreiert gemoolt oder mat Gréngs fäerdeg gemaach \n \n  \n 
URL:https://www.beimlis.lu/calendrier/adventskranz-am-beton/
LOCATION:Institut St Joseph Betzdorf\, 2 Rue de Wecker\, Betzdorf\, 6832\, Luxembourg
CATEGORIES:Workshop
ATTACH;FMTTYPE=image/jpeg:https://www.beimlis.lu/wp-content/uploads/2020/10/Adventskranz-am-Beton1.jpg
ORGANIZER;CN="Duerftreff beim Lis":MAILTO:moien@beimlis.lu
END:VEVENT
BEGIN:VEVENT
DTSTART;TZID=Europe/Paris:20211111T150000
DTEND;TZID=Europe/Paris:20211111T170000
DTSTAMP:20260425T183107
CREATED:20210518T073009Z
LAST-MODIFIED:20210831T135648Z
UID:3280-1636642800-1636650000@www.beimlis.lu
SUMMARY:Heekelen-Atelier Crochet
DESCRIPTION:Aimeriez-vous faire du crochet votre moment préféré de la journée ?\nDans ces Workshops de Crochet\, Veronica vous apprend à crocheter avec sa méthode étape par étape\, en construisant une base solide pour faire progresser rapidement votre technique de crochet.\nEn toute simplicité\, vous créerez de merveilleux projets avec vos mains et vous découvrirez la magie du crochet !\nÀ votre rythme\, pendant que vous apprenez tous les points et astuces dont vous avez besoin pour crocheter de manière simple et progressive\, nous allons partager des moments conviviaux qui vous apporteront un moment de paix et de créativité.\nLangues parlées : français – anglais \nPrix pour les 6 séances 160€ \nDates:\n7.10.21\n14.10\n21.10\n28.10\n04.11\n11.11
URL:https://www.beimlis.lu/calendrier/heekelen-atelier-crochet/
LOCATION:Bowéngsbierg  zu Roodt/Syr\, 14 rue d'Olingen\, Roodt/Syr\, 6914\, Luxembourg
CATEGORIES:Workshop
ATTACH;FMTTYPE=image/jpeg:https://www.beimlis.lu/wp-content/uploads/2021/02/Heekelen-oktober.jpg
ORGANIZER;CN="Duerftreff beim Lis":MAILTO:moien@beimlis.lu
END:VEVENT
BEGIN:VEVENT
DTSTART;TZID=Europe/Paris:20211112T180000
DTEND;TZID=Europe/Paris:20211112T193000
DTSTAMP:20260425T183107
CREATED:20201021T092104Z
LAST-MODIFIED:20210831T141022Z
UID:2932-1636740000-1636745400@www.beimlis.lu
SUMMARY:Adventskranz am Beton/Deel 2
DESCRIPTION:Mat Beton gëtt et modern an trotzdeem gemittlech. An 2 Owenter gestalt dir aus Beton ären ganz eegenen individuellen Adventskranz fir äert Doheem\, oder och fir ze verschenken. \nDe Cour besteet aus 2 Deeler\, den éischten Deel gëtt modeléiert an den 2ten Owend décoreiert gemoolt oder mat Gréngs fäerdeg gemaach
URL:https://www.beimlis.lu/calendrier/adventskranz-am-beton-deel-2/
LOCATION:Institut St Joseph Betzdorf\, 2 Rue de Wecker\, Betzdorf\, 6832\, Luxembourg
CATEGORIES:Workshop
ATTACH;FMTTYPE=image/jpeg:https://www.beimlis.lu/wp-content/uploads/2020/10/Adventskranz-am-Beton1.jpg
ORGANIZER;CN="Duerftreff beim Lis":MAILTO:moien@beimlis.lu
END:VEVENT
BEGIN:VEVENT
DTSTART;TZID=Europe/Paris:20211113T103000
DTEND;TZID=Europe/Paris:20211113T150000
DTSTAMP:20260425T183107
CREATED:20210831T141454Z
LAST-MODIFIED:20210831T141454Z
UID:3383-1636799400-1636815600@www.beimlis.lu
SUMMARY:Workshop Blätterteig -Intensivkurs-
DESCRIPTION:In dieser Halbtagsaktivität nehmen wir uns Zeit und stellen Schritt für Schritt gemeinsam den Grundteig und dann den Blätterteig her. Die wichtigste Zutat für SELBST hergestellten Blätterteig ist Zeit und Ruhe. Mit wenig Zutaten\, unter Berücksichtigung von ein paar Regeln\, werden wir gemeinsam diese Blätterschichten zu einem traumhaft\, leckerschmeckenden Geschmacksgenuss verarbeiten. \nBesonders ist die geringe Teilnehmerzahl an diesem Workshop und somit ist der intensive Austausch miteinander sehr bereichernd. Deshalb können wir in entspannt Atmosphäre die aktuellen Gesundheitsregeln einhalten. \nJeder Teilnehmer/in stellt nach vorgegebener Rezeptur einen eigenen Blätterteig her\, das berühmte Tourieren wird jeder Teilnehmer ausgiebig üben. Die Weiterverarbeitung und das Belegen der Teige sowie das Backen setzten wir gemeinsam um. Süsses kreieren und herzhaftes köcheln wir für unseren Blätterteig. Zwischendurch wird verkostet. Am Ende werden die gebackenen Köstlichkeiten untereinander aufgeteilt und mit nach Hause genommen. Grundsätzlich wird die praktische Umsetzung der aktuellen Situation angepasst.
URL:https://www.beimlis.lu/calendrier/workshop-blatterteig-intensivkurs/
LOCATION:A Wiewesch\, 12 Syrdallstrooss\,\, Manternach\, L-6850\, Luxembourg
CATEGORIES:Workshop
ORGANIZER;CN="Duerftreff beim Lis":MAILTO:moien@beimlis.lu
END:VEVENT
BEGIN:VEVENT
DTSTART;TZID=Europe/Paris:20211113T180000
DTEND;TZID=Europe/Paris:20211113T200000
DTSTAMP:20260425T183107
CREATED:20210831T141703Z
LAST-MODIFIED:20210831T141703Z
UID:3385-1636826400-1636833600@www.beimlis.lu
SUMMARY:
DESCRIPTION:Räuchern: «Das Verbrennen/ Verglimmen von aromatischen Pflanzen». Jahrtausendelang war das Räuchern ein wichtiger Bestandteil des menschlichen Lebens und wurde im Alltag\, für Rituale\, Reinigung Feste etc. verwendet. Räuchern braucht Zeit. Zeit für sich selbst haben und in Ruhe das unmittelbare Erlebnis von Düften und Rauch genießen. \nIn diesem Workshop werden wir alles Notwendige zum Räuchern kennenlernen und die praktische Anwendung von Räucherwerk gemeinsam durchführen.
URL:https://www.beimlis.lu/calendrier/3385/
LOCATION:A Wiewesch\, 12 Syrdallstrooss\,\, Manternach\, L-6850\, Luxembourg
CATEGORIES:Workshop
END:VEVENT
BEGIN:VEVENT
DTSTART;TZID=Europe/Paris:20211113T180000
DTEND;TZID=Europe/Paris:20211113T200000
DTSTAMP:20260425T183107
CREATED:20210928T101819Z
LAST-MODIFIED:20210928T101819Z
UID:3433-1636826400-1636833600@www.beimlis.lu
SUMMARY:Räuchern von pflanzlichen Substanzen
DESCRIPTION:Räuchern: «Das Verbrennen/ Verglimmen von aromatischen Pflanzen». Jahrtausendelang war das Räuchern ein wichtiger Bestandteil des menschlichen Lebens und wurde im Alltag\, für Rituale\, Reinigung Feste etc. verwendet. Räuchern braucht Zeit. Zeit für sich selbst haben und in Ruhe das unmittelbare Erlebnis von Düften und Rauch genießen. \nIn diesem Workshop werden wir alles Notwendige zum Räuchern kennenlernen und die praktische Anwendung von Räucherwerk gemeinsam durchführen.
URL:https://www.beimlis.lu/calendrier/rauchern-von-pflanzlichen-substanzen/
LOCATION:A Wiewesch\, 12 Syrdallstrooss\,\, Manternach\, L-6850\, Luxembourg
CATEGORIES:Workshop
END:VEVENT
BEGIN:VEVENT
DTSTART;TZID=Europe/Paris:20211114T100000
DTEND;TZID=Europe/Paris:20211114T120000
DTSTAMP:20260425T183107
CREATED:20210831T141907Z
LAST-MODIFIED:20210831T141907Z
UID:3387-1636884000-1636891200@www.beimlis.lu
SUMMARY:Workshop Intensiv-Brotbacken mit Sauerteig für Geübte
DESCRIPTION:Wir vertiefen uns in die wunderbare Welt vom Sauerteig \nNur mit Mehl und Wasser -total einfach- erschaffen wir die Basis für einen einzigartigen Geschmacksgenuss\, unser eigenes\, von Hand und mit Liebe gerührtes Sauerteigbrot. \nDie wunderbare Welt vom Sauerteig wird sich mit diesem Workshop vertiefen. Gemeinsam tasten wir uns langsam an ein komplexeres Rezept heran und erleben mit unseren Sinnen die Zutaten von Mehl\, Wasser\, Sauerteig. Die Verwendungsmöglichkeiten setzten wir in die Tat um\, mit Zeit\, Ruhe\, Erfahrung. \nIn diesem Intensiv-Brotbackkurs werden alle notwendigen Arbeitsschritte und Zutaten\, die ein gutes Brot benötigt\, durchgeführt und durchlebt. Dieser Kurs ist an Teilnehmer gereichtet\, die den Einstieg zum Thema Sauerteig bereits hinter sich haben und darin etwas geübt sind. Ziel ist eine Gruppe von Teilnehmern zusammenzubringen\, die sich gerne in regelmässigen Abständen zum Brotbacken treffen.
URL:https://www.beimlis.lu/calendrier/workshop-intensiv-brotbacken-mit-sauerteig-fur-geubte/
LOCATION:A Wiewesch\, 12 Syrdallstrooss\,\, Manternach\, L-6850\, Luxembourg
CATEGORIES:Workshop
ORGANIZER;CN="Duerftreff beim Lis":MAILTO:moien@beimlis.lu
END:VEVENT
BEGIN:VEVENT
DTSTART;TZID=Europe/Paris:20211120T100000
DTEND;TZID=Europe/Paris:20211120T120000
DTSTAMP:20260425T183107
CREATED:20210706T090512Z
LAST-MODIFIED:20210706T090512Z
UID:3352-1637402400-1637409600@www.beimlis.lu
SUMMARY:Yoga Workshop
DESCRIPTION:Yoga Workshop
URL:https://www.beimlis.lu/calendrier/yoga-workshop-3/
LOCATION:Festsall ISJB\, 2 rue de Wecker\, Betzdorf\, 6832\, Luxembourg
CATEGORIES:Workshop
ATTACH;FMTTYPE=image/jpeg:https://www.beimlis.lu/wp-content/uploads/2021/02/Flexibilitat.jpg
END:VEVENT
BEGIN:VEVENT
DTSTART;TZID=Europe/Paris:20211125T150000
DTEND;TZID=Europe/Paris:20211125T170000
DTSTAMP:20260425T183107
CREATED:20211020T100155Z
LAST-MODIFIED:20211117T112929Z
UID:3455-1637852400-1637859600@www.beimlis.lu
SUMMARY:Crochet Spécial Noël
DESCRIPTION:La période de Noël approche de plus en plus\, il est évident que nous voulons aussi décorer notre environnement.\nDans notre cour de Noël\, vous apprendrez à crocheter des sapins\, des boules de Noël et beaucoup d’autres belles décorations.\n\nCe cour se compose de 4 unités\, les jeudis a partir de 15.00 jusqu’à 17.00\n\nLes dates: 25.11/2.12 /9.12 et le 16.12\nLe prix de 110€ est pour les 4 cours
URL:https://www.beimlis.lu/calendrier/crochet-special-noel-2/
LOCATION:Bowéngsbierg  zu Roodt/Syr\, 14 rue d'Olingen\, Roodt/Syr\, 6914\, Luxembourg
CATEGORIES:Workshop
ATTACH;FMTTYPE=image/jpeg:https://www.beimlis.lu/wp-content/uploads/2021/10/Heekelen-chreschtdag.jpg
ORGANIZER;CN="Duerftreff beim Lis":MAILTO:moien@beimlis.lu
END:VEVENT
END:VCALENDAR