BEGIN:VCALENDAR
VERSION:2.0
PRODID:-//beim Lis | Groupe elisabeth - ECPv6.15.16//NONSGML v1.0//EN
CALSCALE:GREGORIAN
METHOD:PUBLISH
X-WR-CALNAME:beim Lis | Groupe elisabeth
X-ORIGINAL-URL:https://www.beimlis.lu
X-WR-CALDESC:évènements pour beim Lis | Groupe elisabeth
REFRESH-INTERVAL;VALUE=DURATION:PT1H
X-Robots-Tag:noindex
X-PUBLISHED-TTL:PT1H
BEGIN:VTIMEZONE
TZID:Europe/Paris
BEGIN:DAYLIGHT
TZOFFSETFROM:+0100
TZOFFSETTO:+0200
TZNAME:CEST
DTSTART:20200329T010000
END:DAYLIGHT
BEGIN:STANDARD
TZOFFSETFROM:+0200
TZOFFSETTO:+0100
TZNAME:CET
DTSTART:20201025T010000
END:STANDARD
BEGIN:DAYLIGHT
TZOFFSETFROM:+0100
TZOFFSETTO:+0200
TZNAME:CEST
DTSTART:20210328T010000
END:DAYLIGHT
BEGIN:STANDARD
TZOFFSETFROM:+0200
TZOFFSETTO:+0100
TZNAME:CET
DTSTART:20211031T010000
END:STANDARD
BEGIN:DAYLIGHT
TZOFFSETFROM:+0100
TZOFFSETTO:+0200
TZNAME:CEST
DTSTART:20220327T010000
END:DAYLIGHT
BEGIN:STANDARD
TZOFFSETFROM:+0200
TZOFFSETTO:+0100
TZNAME:CET
DTSTART:20221030T010000
END:STANDARD
END:VTIMEZONE
BEGIN:VEVENT
DTSTART;TZID=Europe/Paris:20211001T180000
DTEND;TZID=Europe/Paris:20211001T193000
DTSTAMP:20260425T170733
CREATED:20210409T060557Z
LAST-MODIFIED:20210630T064017Z
UID:3244-1633111200-1633116600@www.beimlis.lu
SUMMARY:Blattschale aus Knetbeton / 2
DESCRIPTION:Aus in Knetbeton abgedruckten Blättern gestalten wir tolle Schalen zum bepflanzen oder dekorieren. Jede Schale ist durch seinen Blattabdruck einzigartig. \nDieser Kurs besteht aus 2 Terminen\, am 24.9 + 1.10 jeweils von 18.00-19.30 \nDer Preis ist mit dem Material inklusive
URL:https://www.beimlis.lu/calendrier/blattschale-aus-knetbeton-2/
LOCATION:Institut St Joseph Betzdorf\, 2 Rue de Wecker\, Betzdorf\, 6832\, Luxembourg
CATEGORIES:Workshop
ATTACH;FMTTYPE=image/jpeg:https://www.beimlis.lu/wp-content/uploads/2021/04/Blattschale.jpg
ORGANIZER;CN="Duerftreff beim Lis":MAILTO:moien@beimlis.lu
END:VEVENT
BEGIN:VEVENT
DTSTART;TZID=Europe/Paris:20211007T150000
DTEND;TZID=Europe/Paris:20211007T170000
DTSTAMP:20260425T170733
CREATED:20210518T081007Z
LAST-MODIFIED:20210831T134501Z
UID:3291-1633618800-1633626000@www.beimlis.lu
SUMMARY:Heekelen - Atelier Crochet/6seances
DESCRIPTION:Aimeriez-vous faire du crochet votre moment préféré de la journée ?\nDans ces Workshops de Crochet\, Veronica vous apprend à crocheter avec sa méthode étape par étape\, en construisant une base solide pour faire progresser rapidement votre technique de crochet.\nEn toute simplicité\, vous créerez de merveilleux projets avec vos mains et vous découvrirez la magie du crochet !\nÀ votre rythme\, pendant que vous apprenez tous les points et astuces dont vous avez besoin pour crocheter de manière simple et progressive\, nous allons partager des moments conviviaux qui vous apporteront un moment de paix et de créativité.\nLangues parlées : français – anglais \nPrix pour les 6 séances 160€ \nDates: \n7.10.\n14.10\n21.10\n28.10\n04.11\n11.11
URL:https://www.beimlis.lu/calendrier/heekelen-atelier-crochet-5/
LOCATION:Bowéngsbierg  zu Roodt/Syr\, 14 rue d'Olingen\, Roodt/Syr\, 6914\, Luxembourg
CATEGORIES:Workshop
ATTACH;FMTTYPE=image/jpeg:https://www.beimlis.lu/wp-content/uploads/2021/05/Artesana-Luxembourg-27022021-byLugdivineUnfer-soft-50.jpeg
ORGANIZER;CN="Duerftreff beim Lis":MAILTO:moien@beimlis.lu
END:VEVENT
BEGIN:VEVENT
DTSTART;TZID=Europe/Paris:20211007T183000
DTEND;TZID=Europe/Paris:20211007T203000
DTSTAMP:20260425T170733
CREATED:20210331T101116Z
LAST-MODIFIED:20210831T134144Z
UID:3234-1633631400-1633638600@www.beimlis.lu
SUMMARY:Découvrir la technique du tissage de perles Miyuki
DESCRIPTION:Un moment créatif pour soi pour découvrir la technique du tissage de perles Miyuki\nArteSana vous invite à réaliser de superbes créations (boucles d’oreilles\, colliers\, bracelets) avec le tissage en perles Miyuki.\nC’est quoi les perles Miyuki ?\nCe sont des petites perles en verre de la marque Japonaise MIYUKI qui ont la particularité d’avoir une forme cylindrique très régulière.\nLes perles Miyuki Delicas ont un trou très grand ce qui permet de faire plusieurs passages avec le fil.\nLes Miyuki Delicas 11/0 sont les plus utilisées.\nElles sont parfaites pour le tissage de perles avec un métier à tisser et les techniques de tissage Peyote et Brick Stitch.\n6 participants max \nPrix: 40 EUR sans matériels\nPossibilité d’acheter les matériels sur place : Kit à 25 EUR\nUne liste de matériel sera envoyé également avec la possibilité d’acheter les matériels soi même
URL:https://www.beimlis.lu/calendrier/decouvrir-la-technique-du-tissage-de-perles-miyuki/
LOCATION:Bowéngsbierg  zu Roodt/Syr\, Roodt/Syr\, Luxembourg
CATEGORIES:Workshop
ATTACH;FMTTYPE=image/jpeg:https://www.beimlis.lu/wp-content/uploads/2021/03/Bijoux.jpeg
ORGANIZER;CN="Duerftreff beim Lis":MAILTO:moien@beimlis.lu
END:VEVENT
BEGIN:VEVENT
DTSTART;TZID=Europe/Paris:20211008T180000
DTEND;TZID=Europe/Paris:20211008T193000
DTSTAMP:20260425T170733
CREATED:20210630T095312Z
LAST-MODIFIED:20210831T125940Z
UID:3343-1633716000-1633721400@www.beimlis.lu
SUMMARY:Lichtschale aus Knetbeton/Deel1
DESCRIPTION:Braucht dir nach eng kleng Deko fir den Hierscht? Mat eisem Workshop si dir genee richteg\, aus Knetbeton maachen mir eng Kugel\, déi kann een super gutt beplanzen oder eng Käerz erastellen fir eng dezent Beliichtung. \nDen Cour besteet aus 2 Deeler\, den 8 &15 Oktober 2021 ëmmer vun 18.00-19.30 \nDe Präis ass mam Material inclus
URL:https://www.beimlis.lu/calendrier/lichtschale-aus-knetbeton-2/
LOCATION:Institut St Joseph Betzdorf\, 2 Rue de Wecker\, Betzdorf\, 6832\, Luxembourg
CATEGORIES:Workshop
ATTACH;FMTTYPE=image/jpeg:https://www.beimlis.lu/wp-content/uploads/2021/06/Beton-Kugel-2.jpg
END:VEVENT
BEGIN:VEVENT
DTSTART;TZID=Europe/Paris:20211014T150000
DTEND;TZID=Europe/Paris:20211014T170000
DTSTAMP:20260425T170733
CREATED:20210518T080822Z
LAST-MODIFIED:20210831T134719Z
UID:3289-1634223600-1634230800@www.beimlis.lu
SUMMARY:Heekelen-Atelier Crochet
DESCRIPTION:Aimeriez-vous faire du crochet votre moment préféré de la journée ?\nDans ces Workshops de Crochet\, Veronica vous apprend à crocheter avec sa méthode étape par étape\, en construisant une base solide pour faire progresser rapidement votre technique de crochet.\nEn toute simplicité\, vous créerez de merveilleux projets avec vos mains et vous découvrirez la magie du crochet !\nÀ votre rythme\, pendant que vous apprenez tous les points et astuces dont vous avez besoin pour crocheter de manière simple et progressive\, nous allons partager des moments conviviaux qui vous apporteront un moment de paix et de créativité.\nLangues parlées : français – anglais \nPrix pour les 6 séances 160€ \nDates: \n7.10.\n14.10\n21.10\n28.10\n04.11\n11.11
URL:https://www.beimlis.lu/calendrier/3289/
LOCATION:Bowéngsbierg  zu Roodt/Syr\, 14 rue d'Olingen\, Roodt/Syr\, 6914\, Luxembourg
CATEGORIES:Workshop
ATTACH;FMTTYPE=image/jpeg:https://www.beimlis.lu/wp-content/uploads/2021/02/Heekelen-oktober.jpg
ORGANIZER;CN="Duerftreff beim Lis":MAILTO:moien@beimlis.lu
END:VEVENT
BEGIN:VEVENT
DTSTART;TZID=Europe/Paris:20211015T180000
DTEND;TZID=Europe/Paris:20211015T193000
DTSTAMP:20260425T170733
CREATED:20210630T094842Z
LAST-MODIFIED:20210831T130052Z
UID:3340-1634320800-1634326200@www.beimlis.lu
SUMMARY:Lichtschale aus Knetbeton/Deel 2
DESCRIPTION:Braucht dir nach eng kleng Deko fir den Hierscht? Mat eisem Workshop si dir genee richteg\, aus Knetbeton maachen mir eng Kugel\, déi kann een super gutt beplanzen oder eng Käerz erastellen fir eng dezent Beliichtung. \nDen Cour besteet aus 2 Deeler\, den8 & 15 Oktober 2021 ëmmer vun 18.00-19.30 \nDe Präis ass mam Material inclus \n \n 
URL:https://www.beimlis.lu/calendrier/lichtschale-aus-knetbeton/
LOCATION:Institut St Joseph Betzdorf\, 2 Rue de Wecker\, Betzdorf\, 6832\, Luxembourg
CATEGORIES:Workshop
ATTACH;FMTTYPE=image/jpeg:https://www.beimlis.lu/wp-content/uploads/2021/06/Beton-Kugel-2.jpg
END:VEVENT
BEGIN:VEVENT
DTSTART;TZID=Europe/Paris:20211021T150000
DTEND;TZID=Europe/Paris:20211021T170000
DTSTAMP:20260425T170733
CREATED:20210518T075855Z
LAST-MODIFIED:20210831T135101Z
UID:3287-1634828400-1634835600@www.beimlis.lu
SUMMARY:Heekelen - Atelier crochet
DESCRIPTION:Aimeriez-vous faire du crochet votre moment préféré de la journée ?\nDans ces Workshops de Crochet\, Veronica vous apprend à crocheter avec sa méthode étape par étape\, en construisant une base solide pour faire progresser rapidement votre technique de crochet.\nEn toute simplicité\, vous créerez de merveilleux projets avec vos mains et vous découvrirez la magie du crochet !\nÀ votre rythme\, pendant que vous apprenez tous les points et astuces dont vous avez besoin pour crocheter de manière simple et progressive\, nous allons partager des moments conviviaux qui vous apporteront un moment de paix et de créativité.\nLangues parlées : français – anglais \nPrix pour les 6 séances 160€ \nDates:\n7.10.\n14.10\n21.10\n28.10\n04.11\n11.11
URL:https://www.beimlis.lu/calendrier/heekelen-atelier-crochet-4/
LOCATION:Bowéngsbierg  zu Roodt/Syr\, 14 rue d'Olingen\, Roodt/Syr\, 6914\, Luxembourg
CATEGORIES:Workshop
ATTACH;FMTTYPE=image/jpeg:https://www.beimlis.lu/wp-content/uploads/2021/05/Artesana-Luxembourg-27022021-byLugdivineUnfer-soft-50.jpeg
ORGANIZER;CN="Duerftreff beim Lis":MAILTO:moien@beimlis.lu
END:VEVENT
BEGIN:VEVENT
DTSTART;TZID=Europe/Paris:20211023T100000
DTEND;TZID=Europe/Paris:20211023T120000
DTSTAMP:20260425T170733
CREATED:20210706T090401Z
LAST-MODIFIED:20210706T090647Z
UID:3350-1634983200-1634990400@www.beimlis.lu
SUMMARY:Yoga Workshop
DESCRIPTION:Yoga Workshop
URL:https://www.beimlis.lu/calendrier/yoga-workshop-5/
CATEGORIES:Workshop
ATTACH;FMTTYPE=image/jpeg:https://www.beimlis.lu/wp-content/uploads/2021/02/Neumond-1.jpg
END:VEVENT
END:VCALENDAR