BEGIN:VCALENDAR
VERSION:2.0
PRODID:-//beim Lis | Groupe elisabeth - ECPv6.15.16//NONSGML v1.0//EN
CALSCALE:GREGORIAN
METHOD:PUBLISH
X-WR-CALNAME:beim Lis | Groupe elisabeth
X-ORIGINAL-URL:https://www.beimlis.lu
X-WR-CALDESC:évènements pour beim Lis | Groupe elisabeth
REFRESH-INTERVAL;VALUE=DURATION:PT1H
X-Robots-Tag:noindex
X-PUBLISHED-TTL:PT1H
BEGIN:VTIMEZONE
TZID:Europe/Paris
BEGIN:DAYLIGHT
TZOFFSETFROM:+0100
TZOFFSETTO:+0200
TZNAME:CEST
DTSTART:20190331T010000
END:DAYLIGHT
BEGIN:STANDARD
TZOFFSETFROM:+0200
TZOFFSETTO:+0100
TZNAME:CET
DTSTART:20191027T010000
END:STANDARD
BEGIN:DAYLIGHT
TZOFFSETFROM:+0100
TZOFFSETTO:+0200
TZNAME:CEST
DTSTART:20200329T010000
END:DAYLIGHT
BEGIN:STANDARD
TZOFFSETFROM:+0200
TZOFFSETTO:+0100
TZNAME:CET
DTSTART:20201025T010000
END:STANDARD
BEGIN:DAYLIGHT
TZOFFSETFROM:+0100
TZOFFSETTO:+0200
TZNAME:CEST
DTSTART:20210328T010000
END:DAYLIGHT
BEGIN:STANDARD
TZOFFSETFROM:+0200
TZOFFSETTO:+0100
TZNAME:CET
DTSTART:20211031T010000
END:STANDARD
END:VTIMEZONE
BEGIN:VEVENT
DTSTART;TZID=Europe/Paris:20200402T190000
DTEND;TZID=Europe/Paris:20200402T203000
DTSTAMP:20260425T151223
CREATED:20200228T101652Z
LAST-MODIFIED:20200228T102844Z
UID:2784-1585854000-1585859400@www.beimlis.lu
SUMMARY:Vinyasa Yoga
DESCRIPTION:Vinyasa Yoga ass eng fléissend an dynamesch Form vun Yoga bei där den Otem mam Kierper an verschidden Asanas (Yogapositiounen) a Verbannung steet. \nWien Loscht an Interessi huet dëse Cour zesummen mam Magali ze starten\, kann sech umellen op \nmoien@beimlis.lu \nDe Cour ass ëmmer Donneschdes vun 19.00-20.30 a kascht 17€/Seance
URL:https://www.beimlis.lu/calendrier/2784/
LOCATION:Bowéngsbierg  zu Roodt/Syr\, Roodt/Syr\, Luxembourg
CATEGORIES:Workshop
ATTACH;FMTTYPE=image/jpeg:https://www.beimlis.lu/wp-content/uploads/2019/07/Magali.Yoga_.4.jpg
ORGANIZER;CN="Duerftreff beim Lis":MAILTO:moien@beimlis.lu
END:VEVENT
BEGIN:VEVENT
DTSTART;TZID=Europe/Paris:20200403T180000
DTEND;TZID=Europe/Paris:20200403T193000
DTSTAMP:20260425T151223
CREATED:20200212T154956Z
LAST-MODIFIED:20200212T154956Z
UID:2724-1585936800-1585942200@www.beimlis.lu
SUMMARY:Ouschteren am Bëton
DESCRIPTION:Dir wëllt iech mol un de Bëton eruntaaschten\, da si dir genee richteg mir maachen kleng Cadeauen an Deko Iddien fir Ouschteren. \nDe Cour besteet aus 2 Owenter\, den 27.03 an den 03.04. \nDe Präis ass mam Material inclus \nMëllt iech elo un mir freeën eis op iech
URL:https://www.beimlis.lu/calendrier/ouschteren-am-beton-2/
LOCATION:Institut St Joseph Betzdorf\, 2 Rue de Wecker\, Betzdorf\, 6832\, Luxembourg
CATEGORIES:Workshop
ORGANIZER;CN="Duerftreff beim Lis":MAILTO:moien@beimlis.lu
END:VEVENT
BEGIN:VEVENT
DTSTART;TZID=Europe/Paris:20200409T190000
DTEND;TZID=Europe/Paris:20200409T203000
DTSTAMP:20260425T151223
CREATED:20200228T101913Z
LAST-MODIFIED:20200228T101913Z
UID:2786-1586458800-1586464200@www.beimlis.lu
SUMMARY:Vinyasa Yoga
DESCRIPTION:Vinyasa Yoga ass eng fléissend an dynamesch Form vun Yoga bei där den Otem mam Kierper an verschidden Asanas (Yogapositiounen) a Verbannung steet. \nWien Loscht an Interessi huet dëse Cour zesummen mam Magali ze starten\, kann sech umellen op \nmoien@beimlis.lu \nDe Cour ass ëmmer Donneschdes vun 19.00-20.30 a kascht 17€/Seance
URL:https://www.beimlis.lu/calendrier/vinyasa-yoga/
LOCATION:Bowéngsbierg  zu Roodt/Syr\, Roodt/Syr\, Luxembourg
CATEGORIES:Workshop
ATTACH;FMTTYPE=image/jpeg:https://www.beimlis.lu/wp-content/uploads/2019/07/Magali.Yoga_.1.jpg
ORGANIZER;CN="Duerftreff beim Lis":MAILTO:moien@beimlis.lu
END:VEVENT
BEGIN:VEVENT
DTSTART;TZID=Europe/Paris:20200416T190000
DTEND;TZID=Europe/Paris:20200416T203000
DTSTAMP:20260425T151223
CREATED:20200228T102553Z
LAST-MODIFIED:20200228T102553Z
UID:2788-1587063600-1587069000@www.beimlis.lu
SUMMARY:Vinyasa Yoga
DESCRIPTION:Vinyasa Yoga ass eng fléissend an dynamesch Form vun Yoga bei där den Otem mam Kierper an verschidden Asanas (Yogapositiounen) a Verbannung steet. \nWien Loscht an Interessi huet dëse Cour zesummen mam Magali ze starten\, kann sech umellen op \nmoien@beimlis.lu \nDe Cour ass ëmmer Donneschdes vun 19.00-20.30 a kascht 17€/Seance
URL:https://www.beimlis.lu/calendrier/vinyasa-yoga-2/
LOCATION:Bowéngsbierg  zu Roodt/Syr\, Roodt/Syr\, Luxembourg
CATEGORIES:Workshop
ATTACH;FMTTYPE=image/jpeg:https://www.beimlis.lu/wp-content/uploads/2019/07/Magali.Yoga_.4.jpg
ORGANIZER;CN="Duerftreff beim Lis":MAILTO:moien@beimlis.lu
END:VEVENT
BEGIN:VEVENT
DTSTART;TZID=Europe/Paris:20200417T180000
DTEND;TZID=Europe/Paris:20200417T210000
DTSTAMP:20260425T151223
CREATED:20200212T153730Z
LAST-MODIFIED:20200212T153730Z
UID:2712-1587146400-1587157200@www.beimlis.lu
SUMMARY:Fototransfert op Holz an Leinwand
DESCRIPTION:Et gëtt Zäit kreativ ze gi\, just eng Foto ass oft net genuch\, firwat se net op eng Leinwand oder Holz projezéieren? \nAm Workshop mam Jennifer Schneider hu dir Geleeënheet ronderëm ze experimentéieren an aus ärer Foto eppes ganz Besonnesches ze maachen. \n 
URL:https://www.beimlis.lu/calendrier/fototransfert-op-holz-an-leinwand/
LOCATION:Institut St Joseph Betzdorf\, 2 Rue de Wecker\, Betzdorf\, 6832\, Luxembourg
CATEGORIES:Workshop
ATTACH;FMTTYPE=application/pdf:https://www.beimlis.lu/wp-content/uploads/2020/02/PastedGraphic-1-1.pdf
ORGANIZER;CN="Duerftreff beim Lis":MAILTO:moien@beimlis.lu
END:VEVENT
BEGIN:VEVENT
DTSTART;TZID=Europe/Paris:20200421T180000
DTEND;TZID=Europe/Paris:20200421T191500
DTSTAMP:20260425T151223
CREATED:20200226T110704Z
LAST-MODIFIED:20200226T110704Z
UID:2761-1587492000-1587496500@www.beimlis.lu
SUMMARY:Slow flow Yoga
DESCRIPTION:Dëse Cour fënnt ëmmer Dënschdes statt \nAn dësem éischter passiven Yogacours gëtt den Fokus op Entspanung vum Kierper an Geescht geluecht. Ganz lues geet et mat Hëllef vun Këssen\, Decken\,etc vun enger Positioun an déi nächsten eranfonnt. All Positioun gëtt 3 bis 5 Minutten gehalen\, sou erreechs du eng douce awer effektiv Deenung an Entspanung vun dengem Muskel- an Fasziengewebe\,an dat ganz ouni Leeschtungsdrock. \nFir wien ? \n  \nDuerch déi laang Haalzäiten vun den eenzelen Positiounen ass d Wierkung vun dësem Yoga immens effektiv. Déi eenzel Positiounen ginn ëmmer mat engem ronnen Réck gemaach an ouni Ustrengung ausgefouert. Doduerch erreechs du eng méi héich Beweegungsfräiheet\, Rou am Kierper an Geescht an bass allgemeng méi flexibel an ausgeglach. \nSou hëlleft dësen Cours géint Verspanungen an eis dran an ass en immens hëllefräichen Ausgläich bei Stress am Alldag. Doduerch\, dass den Réck bei dëser Yogaform ëmmer geschount gëtt\, eegent en sech och fir Leit mat Réckeproblemer. \nOp geeschtlechem Niveau hëlleft dat laangt leien an deenen eenzelen Positiounen däin Kapp nees méi mat dengem Kierper ze verbannen. Du leiers däin Kierper nees nei ze verstoen\, auszeriichten an ze respektéieren. Lues an lues entwéckelt sech esou eng ganz nei Dankbarkeet fir däin Kierper an du gelaangs ganz automatesch zu ënnerlecher Rou an Zefriddenheet.
URL:https://www.beimlis.lu/calendrier/slow-flow-yoga/
LOCATION:Bowéngsbierg  zu Roodt/Syr\, Roodt/Syr\, Luxembourg
CATEGORIES:Workshop
ATTACH;FMTTYPE=image/jpeg:https://www.beimlis.lu/wp-content/uploads/2020/02/Yoga-Entspaanung-Magali.jpg
ORGANIZER;CN="Duerftreff beim Lis":MAILTO:moien@beimlis.lu
END:VEVENT
BEGIN:VEVENT
DTSTART;TZID=Europe/Paris:20200423T190000
DTEND;TZID=Europe/Paris:20200423T203000
DTSTAMP:20260425T151223
CREATED:20200228T102721Z
LAST-MODIFIED:20200228T102721Z
UID:2790-1587668400-1587673800@www.beimlis.lu
SUMMARY:Vinyasa Yoga
DESCRIPTION:Vinyasa Yoga ass eng fléissend an dynamesch Form vun Yoga bei där den Otem mam Kierper an verschidden Asanas (Yogapositiounen) a Verbannung steet. \nWien Loscht an Interessi huet dëse Cour zesummen mam Magali ze starten\, kann sech umellen op \nmoien@beimlis.lu \nDe Cour ass ëmmer Donneschdes vun 19.00-20.30 a kascht 17€/Seance
URL:https://www.beimlis.lu/calendrier/vinyasa-yoga-3/
LOCATION:Bowéngsbierg  zu Roodt/Syr\, Roodt/Syr\, Luxembourg
CATEGORIES:Workshop
ATTACH;FMTTYPE=image/jpeg:https://www.beimlis.lu/wp-content/uploads/2019/07/Magali.Yoga_.1.jpg
ORGANIZER;CN="Duerftreff beim Lis":MAILTO:moien@beimlis.lu
END:VEVENT
BEGIN:VEVENT
DTSTART;TZID=Europe/Paris:20200428T180000
DTEND;TZID=Europe/Paris:20200428T191500
DTSTAMP:20260425T151223
CREATED:20200228T093516Z
LAST-MODIFIED:20200228T093516Z
UID:2774-1588096800-1588101300@www.beimlis.lu
SUMMARY:Slow flow Yoga
DESCRIPTION:Dëse Cour fënnt ëmmer Dënschdes statt \nAn dësem éischter passiven Yogacours gëtt den Fokus op Entspanung vum Kierper an Geescht geluecht. Ganz lues geet et mat Hëllef vun Këssen\, Decken\,etc vun enger Positioun an déi nächsten eranfonnt. All Positioun gëtt 3 bis 5 Minutten gehalen\, sou erreechs du eng douce awer effektiv Deenung an Entspanung vun dengem Muskel- an Fasziengewebe\,an dat ganz ouni Leeschtungsdrock. \nFir wien ? \n  \nDuerch déi laang Haalzäiten vun den eenzelen Positiounen ass d Wierkung vun dësem Yoga immens effektiv. Déi eenzel Positiounen ginn ëmmer mat engem ronnen Réck gemaach an ouni Ustrengung ausgefouert. Doduerch erreechs du eng méi héich Beweegungsfräiheet\, Rou am Kierper an Geescht an bass allgemeng méi flexibel an ausgeglach. \nSou hëlleft dësen Cours géint Verspanungen an eis dran an ass en immens hëllefräichen Ausgläich bei Stress am Alldag. Doduerch\, dass den Réck bei dëser Yogaform ëmmer geschount gëtt\, eegent en sech och fir Leit mat Réckeproblemer. \nOp geeschtlechem Niveau hëlleft dat laangt leien an deenen eenzelen Positiounen däin Kapp nees méi mat dengem Kierper ze verbannen. Du leiers däin Kierper nees nei ze verstoen\, auszeriichten an ze respektéieren. Lues an lues entwéckelt sech esou eng ganz nei Dankbarkeet fir däin Kierper an du gelaangs ganz automatesch zu ënnerlecher Rou an Zefriddenheet.
URL:https://www.beimlis.lu/calendrier/slow-flow-yoga-2/
LOCATION:Bowéngsbierg  zu Roodt/Syr\, 14 rue d'Olingen\, Roodt/Syr\, 6914\, Luxembourg
CATEGORIES:Workshop
ATTACH;FMTTYPE=image/jpeg:https://www.beimlis.lu/wp-content/uploads/2020/02/Yoga-Entspaanung-Magali.jpg
ORGANIZER;CN="Duerftreff beim Lis":MAILTO:moien@beimlis.lu
END:VEVENT
BEGIN:VEVENT
DTSTART;TZID=Europe/Paris:20200430T190000
DTEND;TZID=Europe/Paris:20200430T203000
DTSTAMP:20260425T151223
CREATED:20200228T102815Z
LAST-MODIFIED:20200303T121016Z
UID:2792-1588273200-1588278600@www.beimlis.lu
SUMMARY:Vinyasa Yoga
DESCRIPTION:Vinyasa Yoga ass eng fléissend an dynamesch Form vun Yoga bei där den Otem mam Kierper an verschidden Asanas (Yogapositiounen) a Verbannung steet. \nWien Loscht an Interessi huet dëse Cour zesummen mam Magali ze starten\, kann sech umellen op \nmoien@beimlis.lu \nDe Cour ass ëmmer Donneschdes vun 19.00-20.30 a kascht 17€/Seance
URL:https://www.beimlis.lu/calendrier/vinyasa-yoga-4/
LOCATION:Bowéngsbierg  zu Roodt/Syr\, 14 rue d'Olingen\, Roodt/Syr\, 6914\, Luxembourg
CATEGORIES:Workshop
ATTACH;FMTTYPE=image/jpeg:https://www.beimlis.lu/wp-content/uploads/2019/07/Magali.Yoga_.1.jpg
ORGANIZER;CN="Duerftreff beim Lis":MAILTO:moien@beimlis.lu
END:VEVENT
END:VCALENDAR