BEGIN:VCALENDAR
VERSION:2.0
PRODID:-//beim Lis | Groupe elisabeth - ECPv6.15.16//NONSGML v1.0//EN
CALSCALE:GREGORIAN
METHOD:PUBLISH
X-ORIGINAL-URL:https://www.beimlis.lu
X-WR-CALDESC:évènements pour beim Lis | Groupe elisabeth
REFRESH-INTERVAL;VALUE=DURATION:PT1H
X-Robots-Tag:noindex
X-PUBLISHED-TTL:PT1H
BEGIN:VTIMEZONE
TZID:Europe/Paris
BEGIN:DAYLIGHT
TZOFFSETFROM:+0100
TZOFFSETTO:+0200
TZNAME:CEST
DTSTART:20250330T010000
END:DAYLIGHT
BEGIN:STANDARD
TZOFFSETFROM:+0200
TZOFFSETTO:+0100
TZNAME:CET
DTSTART:20251026T010000
END:STANDARD
BEGIN:DAYLIGHT
TZOFFSETFROM:+0100
TZOFFSETTO:+0200
TZNAME:CEST
DTSTART:20260329T010000
END:DAYLIGHT
BEGIN:STANDARD
TZOFFSETFROM:+0200
TZOFFSETTO:+0100
TZNAME:CET
DTSTART:20261025T010000
END:STANDARD
BEGIN:DAYLIGHT
TZOFFSETFROM:+0100
TZOFFSETTO:+0200
TZNAME:CEST
DTSTART:20270328T010000
END:DAYLIGHT
BEGIN:STANDARD
TZOFFSETFROM:+0200
TZOFFSETTO:+0100
TZNAME:CET
DTSTART:20271031T010000
END:STANDARD
END:VTIMEZONE
BEGIN:VEVENT
DTSTART;TZID=Europe/Paris:20260602T110000
DTEND;TZID=Europe/Paris:20260602T163000
DTSTAMP:20260423T115526
CREATED:20260324T164431Z
LAST-MODIFIED:20260324T164431Z
UID:5539-1780398000-1780417800@www.beimlis.lu
SUMMARY:Lis um Tour: Moselrundfahrt mat der "Princesse Marie-Astrid"
DESCRIPTION:
URL:https://www.beimlis.lu/calendrier/lis-um-tour-moselrundfahrt-mat-der-princesse-marie-astrid/
CATEGORIES:Lis on Tour
ATTACH;FMTTYPE=image/jpeg:https://www.beimlis.lu/wp-content/uploads/2026/03/Bild-Marie-Astrid.jpg
ORGANIZER;CN="Duerftreff beim Lis":MAILTO:moien@beimlis.lu
END:VEVENT
BEGIN:VEVENT
DTSTART;TZID=Europe/Paris:20260619T120000
DTEND;TZID=Europe/Paris:20260619T150000
DTSTAMP:20260423T115526
CREATED:20260324T170514Z
LAST-MODIFIED:20260327T091435Z
UID:5570-1781870400-1781881200@www.beimlis.lu
SUMMARY:Mir ginn zesummen iessen an d'Auberge du Lac op Meechtem
DESCRIPTION:
URL:https://www.beimlis.lu/calendrier/mir-ginn-zesummen-iessen-an-dauberge-du-lac-op-meechtem-3/
LOCATION:Auberge du lac\, 77\, Rte du Vin\, Machtum\, 6841\, Luxembourg
CATEGORIES:Lis on Tour
ATTACH;FMTTYPE=image/jpeg:https://www.beimlis.lu/wp-content/uploads/2026/01/Bild-Restaurant.jpg
ORGANIZER;CN="Duerftreff beim Lis":MAILTO:moien@beimlis.lu
END:VEVENT
END:VCALENDAR