BEGIN:VCALENDAR
VERSION:2.0
PRODID:-//beim Lis | Groupe elisabeth - ECPv6.15.16//NONSGML v1.0//EN
CALSCALE:GREGORIAN
METHOD:PUBLISH
X-ORIGINAL-URL:https://www.beimlis.lu
X-WR-CALDESC:évènements pour beim Lis | Groupe elisabeth
REFRESH-INTERVAL;VALUE=DURATION:PT1H
X-Robots-Tag:noindex
X-PUBLISHED-TTL:PT1H
BEGIN:VTIMEZONE
TZID:Europe/Paris
BEGIN:DAYLIGHT
TZOFFSETFROM:+0100
TZOFFSETTO:+0200
TZNAME:CEST
DTSTART:20240331T010000
END:DAYLIGHT
BEGIN:STANDARD
TZOFFSETFROM:+0200
TZOFFSETTO:+0100
TZNAME:CET
DTSTART:20241027T010000
END:STANDARD
BEGIN:DAYLIGHT
TZOFFSETFROM:+0100
TZOFFSETTO:+0200
TZNAME:CEST
DTSTART:20250330T010000
END:DAYLIGHT
BEGIN:STANDARD
TZOFFSETFROM:+0200
TZOFFSETTO:+0100
TZNAME:CET
DTSTART:20251026T010000
END:STANDARD
BEGIN:DAYLIGHT
TZOFFSETFROM:+0100
TZOFFSETTO:+0200
TZNAME:CEST
DTSTART:20260329T010000
END:DAYLIGHT
BEGIN:STANDARD
TZOFFSETFROM:+0200
TZOFFSETTO:+0100
TZNAME:CET
DTSTART:20261025T010000
END:STANDARD
END:VTIMEZONE
BEGIN:VEVENT
DTSTART;TZID=Europe/Paris:20251121T120000
DTEND;TZID=Europe/Paris:20251121T150000
DTSTAMP:20260423T214118
CREATED:20251029T113622Z
LAST-MODIFIED:20251029T113622Z
UID:5348-1763726400-1763737200@www.beimlis.lu
SUMMARY:Mir ginn zesummen iessen an d'La Familia op Gréiwemaacher
DESCRIPTION:
URL:https://www.beimlis.lu/calendrier/mir-ginn-zesummen-iessen-an-dla-familia-op-greiwemaacher-3/
LOCATION:La Familia\, 2\, rte Nationale 1\, Grevenmacher\, L-6776\, Luxembourg
CATEGORIES:Lis on Tour
ATTACH;FMTTYPE=image/jpeg:https://www.beimlis.lu/wp-content/uploads/2025/10/Bild-Pizzeria.jpg
ORGANIZER;CN="Duerftreff beim Lis":MAILTO:moien@beimlis.lu
END:VEVENT
END:VCALENDAR