BEGIN:VCALENDAR
VERSION:2.0
PRODID:-//beim Lis | Groupe elisabeth - ECPv6.15.16//NONSGML v1.0//EN
CALSCALE:GREGORIAN
METHOD:PUBLISH
X-ORIGINAL-URL:https://www.beimlis.lu
X-WR-CALDESC:évènements pour beim Lis | Groupe elisabeth
REFRESH-INTERVAL;VALUE=DURATION:PT1H
X-Robots-Tag:noindex
X-PUBLISHED-TTL:PT1H
BEGIN:VTIMEZONE
TZID:Europe/Paris
BEGIN:DAYLIGHT
TZOFFSETFROM:+0100
TZOFFSETTO:+0200
TZNAME:CEST
DTSTART:20240331T010000
END:DAYLIGHT
BEGIN:STANDARD
TZOFFSETFROM:+0200
TZOFFSETTO:+0100
TZNAME:CET
DTSTART:20241027T010000
END:STANDARD
BEGIN:DAYLIGHT
TZOFFSETFROM:+0100
TZOFFSETTO:+0200
TZNAME:CEST
DTSTART:20250330T010000
END:DAYLIGHT
BEGIN:STANDARD
TZOFFSETFROM:+0200
TZOFFSETTO:+0100
TZNAME:CET
DTSTART:20251026T010000
END:STANDARD
BEGIN:DAYLIGHT
TZOFFSETFROM:+0100
TZOFFSETTO:+0200
TZNAME:CEST
DTSTART:20260329T010000
END:DAYLIGHT
BEGIN:STANDARD
TZOFFSETFROM:+0200
TZOFFSETTO:+0100
TZNAME:CET
DTSTART:20261025T010000
END:STANDARD
END:VTIMEZONE
BEGIN:VEVENT
DTSTART;TZID=Europe/Paris:20250606T120000
DTEND;TZID=Europe/Paris:20250606T150000
DTSTAMP:20260425T172003
CREATED:20250408T142327Z
LAST-MODIFIED:20250408T142327Z
UID:5182-1749211200-1749222000@www.beimlis.lu
SUMMARY:Mir ginn zesummen iessen an de Relais du Château op Betzder
DESCRIPTION:
URL:https://www.beimlis.lu/calendrier/mir-ginn-zesummen-iessen-an-de-relais-du-chateau-op-betzder-5/
LOCATION:Relais du château\, 4\, rue de Wecker\, Betzdorf\, 6832\, Luxembourg
CATEGORIES:Lis on Tour
ATTACH;FMTTYPE=image/jpeg:https://www.beimlis.lu/wp-content/uploads/2023/03/Bild-Restaurant.jpg
ORGANIZER;CN="Duerftreff beim Lis":MAILTO:moien@beimlis.lu
END:VEVENT
BEGIN:VEVENT
DTSTART;TZID=Europe/Paris:20250617T110000
DTEND;TZID=Europe/Paris:20250617T170000
DTSTAMP:20260425T172003
CREATED:20250408T143158Z
LAST-MODIFIED:20250408T143158Z
UID:5195-1750158000-1750179600@www.beimlis.lu
SUMMARY:Lis um Tour: En Tour op Iechternach
DESCRIPTION:
URL:https://www.beimlis.lu/calendrier/lis-um-tour-en-tour-op-iechternach/
LOCATION:Echternach\, Echternach\, Luxembourg
CATEGORIES:Lis on Tour
ATTACH;FMTTYPE=image/jpeg:https://www.beimlis.lu/wp-content/uploads/2025/04/Bild-Iechternach.jpg
ORGANIZER;CN="Duerftreff beim Lis":MAILTO:moien@beimlis.lu
END:VEVENT
BEGIN:VEVENT
DTSTART;TZID=Europe/Paris:20250627T120000
DTEND;TZID=Europe/Paris:20250627T150000
DTSTAMP:20260425T172003
CREATED:20250408T143537Z
LAST-MODIFIED:20250408T143537Z
UID:5203-1751025600-1751036400@www.beimlis.lu
SUMMARY:Mir ginn zesummen iessen an de Simon's Plaza op Gréiwemaacher
DESCRIPTION:
URL:https://www.beimlis.lu/calendrier/mir-ginn-zesummen-iessen-an-de-simons-plaza-op-greiwemaacher-2/
LOCATION:Restaurant Simon’s Plaza\, 7\, Potaschberg\, Grevenmacher\, 6776\, Luxembourg
CATEGORIES:Lis on Tour
ATTACH;FMTTYPE=image/jpeg:https://www.beimlis.lu/wp-content/uploads/2023/03/Bild-Restaurant.jpg
ORGANIZER;CN="Duerftreff beim Lis":MAILTO:moien@beimlis.lu
END:VEVENT
END:VCALENDAR