BEGIN:VCALENDAR
VERSION:2.0
PRODID:-//beim Lis | Groupe elisabeth - ECPv6.15.16//NONSGML v1.0//EN
CALSCALE:GREGORIAN
METHOD:PUBLISH
X-WR-CALNAME:beim Lis | Groupe elisabeth
X-ORIGINAL-URL:https://www.beimlis.lu
X-WR-CALDESC:évènements pour beim Lis | Groupe elisabeth
REFRESH-INTERVAL;VALUE=DURATION:PT1H
X-Robots-Tag:noindex
X-PUBLISHED-TTL:PT1H
BEGIN:VTIMEZONE
TZID:Europe/Paris
BEGIN:DAYLIGHT
TZOFFSETFROM:+0100
TZOFFSETTO:+0200
TZNAME:CEST
DTSTART:20210328T010000
END:DAYLIGHT
BEGIN:STANDARD
TZOFFSETFROM:+0200
TZOFFSETTO:+0100
TZNAME:CET
DTSTART:20211031T010000
END:STANDARD
BEGIN:DAYLIGHT
TZOFFSETFROM:+0100
TZOFFSETTO:+0200
TZNAME:CEST
DTSTART:20220327T010000
END:DAYLIGHT
BEGIN:STANDARD
TZOFFSETFROM:+0200
TZOFFSETTO:+0100
TZNAME:CET
DTSTART:20221030T010000
END:STANDARD
BEGIN:DAYLIGHT
TZOFFSETFROM:+0100
TZOFFSETTO:+0200
TZNAME:CEST
DTSTART:20230326T010000
END:DAYLIGHT
BEGIN:STANDARD
TZOFFSETFROM:+0200
TZOFFSETTO:+0100
TZNAME:CET
DTSTART:20231029T010000
END:STANDARD
END:VTIMEZONE
BEGIN:VEVENT
DTSTART;TZID=Europe/Paris:20221108T180000
DTEND;TZID=Europe/Paris:20221108T184500
DTSTAMP:20260425T135824
CREATED:20220928T084634Z
LAST-MODIFIED:20220928T084851Z
UID:3791-1667930400-1667933100@www.beimlis.lu
SUMMARY:Inklusiv Schwammcouren fir Kanner ab 5 Joer
DESCRIPTION:Ab 5 Joer kennen d’Kanner bei eis an de Schwammcours kommen. \n145€ fir 10 Seancen an der Piscine zu Betzder am Institut St.Joseph \nDatumer: \n\nStunde am 08.11.22 18 Uhr\nStunde am 10.11.22 18 Uhr\nStunde am 12.11.22 13 Uhr\nStunde am 15.11.22 18 Uhr\nStunde am 17.11.22 18 Uhr\nStunde am 19.11.22 13 Uhr\nStunde am 22.11.22 18 Uhr\nStunde am 24.11.22 18 Uhr\nStunde am 26.11.22 13 Uhr\nStunde am 29.11.22 18 Uhr
URL:https://www.beimlis.lu/calendrier/inklusiv-schwammcouren-fir-kanner-ab-5-joer/
LOCATION:Piscine ISJB\, 2 rue de Wecker\, Betzdorf\, 6832\, Luxembourg
CATEGORIES:Kanneratelier
ATTACH;FMTTYPE=image/png:https://www.beimlis.lu/wp-content/uploads/2022/06/Sans-titre9.png
ORGANIZER;CN="Duerftreff beim Lis":MAILTO:moien@beimlis.lu
END:VEVENT
END:VCALENDAR