BEGIN:VCALENDAR
VERSION:2.0
PRODID:-//beim Lis | Groupe elisabeth - ECPv6.15.16//NONSGML v1.0//EN
CALSCALE:GREGORIAN
METHOD:PUBLISH
X-WR-CALNAME:beim Lis | Groupe elisabeth
X-ORIGINAL-URL:https://www.beimlis.lu
X-WR-CALDESC:évènements pour beim Lis | Groupe elisabeth
REFRESH-INTERVAL;VALUE=DURATION:PT1H
X-Robots-Tag:noindex
X-PUBLISHED-TTL:PT1H
BEGIN:VTIMEZONE
TZID:Europe/Paris
BEGIN:DAYLIGHT
TZOFFSETFROM:+0100
TZOFFSETTO:+0200
TZNAME:CEST
DTSTART:20210328T010000
END:DAYLIGHT
BEGIN:STANDARD
TZOFFSETFROM:+0200
TZOFFSETTO:+0100
TZNAME:CET
DTSTART:20211031T010000
END:STANDARD
BEGIN:DAYLIGHT
TZOFFSETFROM:+0100
TZOFFSETTO:+0200
TZNAME:CEST
DTSTART:20220327T010000
END:DAYLIGHT
BEGIN:STANDARD
TZOFFSETFROM:+0200
TZOFFSETTO:+0100
TZNAME:CET
DTSTART:20221030T010000
END:STANDARD
BEGIN:DAYLIGHT
TZOFFSETFROM:+0100
TZOFFSETTO:+0200
TZNAME:CEST
DTSTART:20230326T010000
END:DAYLIGHT
BEGIN:STANDARD
TZOFFSETFROM:+0200
TZOFFSETTO:+0100
TZNAME:CET
DTSTART:20231029T010000
END:STANDARD
END:VTIMEZONE
BEGIN:VEVENT
DTSTART;TZID=Europe/Paris:20220402T100000
DTEND;TZID=Europe/Paris:20220402T113000
DTSTAMP:20260425T055737
CREATED:20220112T104641Z
LAST-MODIFIED:20220112T104641Z
UID:3528-1648893600-1648899000@www.beimlis.lu
SUMMARY:Kanneratelier- Mixed media Collage
DESCRIPTION:  \nAn dësem kreativ Atelier gestalten mir eisen eegenen Portrait aus Kartong\, Pabeier Schnouer an Fiederen \nDe Cour ass fir Kanner ab 6 Joer\, d’Material ass am Präis mat abegraff
URL:https://www.beimlis.lu/calendrier/kanneratelier-mixed-media-collage/
LOCATION:Bowéngsbierg  zu Roodt/Syr\, 14 rue d'Olingen\, Roodt/Syr\, 6914\, Luxembourg
CATEGORIES:Kanneratelier
ATTACH;FMTTYPE=image/png:https://www.beimlis.lu/wp-content/uploads/2022/01/Mixed-Media-collage.png
END:VEVENT
END:VCALENDAR