BEGIN:VCALENDAR
VERSION:2.0
PRODID:-//beim Lis | Groupe elisabeth - ECPv6.15.16//NONSGML v1.0//EN
CALSCALE:GREGORIAN
METHOD:PUBLISH
X-ORIGINAL-URL:https://www.beimlis.lu
X-WR-CALDESC:évènements pour beim Lis | Groupe elisabeth
REFRESH-INTERVAL;VALUE=DURATION:PT1H
X-Robots-Tag:noindex
X-PUBLISHED-TTL:PT1H
BEGIN:VTIMEZONE
TZID:Europe/Paris
BEGIN:DAYLIGHT
TZOFFSETFROM:+0100
TZOFFSETTO:+0200
TZNAME:CEST
DTSTART:20240331T010000
END:DAYLIGHT
BEGIN:STANDARD
TZOFFSETFROM:+0200
TZOFFSETTO:+0100
TZNAME:CET
DTSTART:20241027T010000
END:STANDARD
BEGIN:DAYLIGHT
TZOFFSETFROM:+0100
TZOFFSETTO:+0200
TZNAME:CEST
DTSTART:20250330T010000
END:DAYLIGHT
BEGIN:STANDARD
TZOFFSETFROM:+0200
TZOFFSETTO:+0100
TZNAME:CET
DTSTART:20251026T010000
END:STANDARD
BEGIN:DAYLIGHT
TZOFFSETFROM:+0100
TZOFFSETTO:+0200
TZNAME:CEST
DTSTART:20260329T010000
END:DAYLIGHT
BEGIN:STANDARD
TZOFFSETFROM:+0200
TZOFFSETTO:+0100
TZNAME:CET
DTSTART:20261025T010000
END:STANDARD
END:VTIMEZONE
BEGIN:VEVENT
DTSTART;TZID=Europe/Paris:20250406T140000
DTEND;TZID=Europe/Paris:20250406T170000
DTSTAMP:20260425T173314
CREATED:20250214T101315Z
LAST-MODIFIED:20250325T104818Z
UID:5110-1743948000-1743958800@www.beimlis.lu
SUMMARY:Op der Sich nom fairen Ee
DESCRIPTION:
URL:https://www.beimlis.lu/calendrier/op-der-sich-nom-fairen-ee-3/
LOCATION:Al Millen\, 12\, rue de Flaxweiiler\, Olingen\, L-6950
CATEGORIES:Fairtrade,Kanneratelier
ATTACH;FMTTYPE=image/jpeg:https://www.beimlis.lu/wp-content/uploads/2025/02/Bild-Op-der-Sich-nom-fairen-Ee.jpg
END:VEVENT
BEGIN:VEVENT
DTSTART;TZID=Europe/Paris:20250422T140000
DTEND;TZID=Europe/Paris:20250422T160000
DTSTAMP:20260425T173314
CREATED:20250325T121441Z
LAST-MODIFIED:20250325T121441Z
UID:5157-1745330400-1745337600@www.beimlis.lu
SUMMARY:Kanneratelier: Reebéi
DESCRIPTION:
URL:https://www.beimlis.lu/calendrier/kanneratelier-reebei/
LOCATION:Bowéngsbierg  zu Roodt/Syr\, 14 rue d'Olingen\, Roodt/Syr\, 6914\, Luxembourg
CATEGORIES:Kanneratelier
ATTACH;FMTTYPE=image/jpeg:https://www.beimlis.lu/wp-content/uploads/2025/03/Bild-Reebei.jpg
ORGANIZER;CN="Duerftreff beim Lis":MAILTO:moien@beimlis.lu
END:VEVENT
BEGIN:VEVENT
DTSTART;TZID=Europe/Paris:20250427T100000
DTEND;TZID=Europe/Paris:20250427T110000
DTSTAMP:20260425T173314
CREATED:20250214T101535Z
LAST-MODIFIED:20250214T101535Z
UID:5116-1745748000-1745751600@www.beimlis.lu
SUMMARY:Familljeyoga mam Julie fir Kanner vun 4-8 Joer
DESCRIPTION:
URL:https://www.beimlis.lu/calendrier/familljeyoga-mam-julie-fir-kanner-vun-4-8-joer-5/
LOCATION:Turnsall ISJB\, 2\, rue Wecker\, Betzdorf\, 6832\, Luxembourg
CATEGORIES:Fit mam Lis,Kanneratelier
ATTACH;FMTTYPE=image/jpeg:https://www.beimlis.lu/wp-content/uploads/2025/02/Bild-Familljeyoga.jpg
ORGANIZER;CN="Duerftreff beim Lis":MAILTO:moien@beimlis.lu
END:VEVENT
BEGIN:VEVENT
DTSTART;TZID=Europe/Paris:20250427T110000
DTEND;TZID=Europe/Paris:20250427T120000
DTSTAMP:20260425T173314
CREATED:20250214T101715Z
LAST-MODIFIED:20250214T101715Z
UID:5121-1745751600-1745755200@www.beimlis.lu
SUMMARY:Kanneryoga mam Julie fir Kanner vun 5-10 Joer
DESCRIPTION:
URL:https://www.beimlis.lu/calendrier/kanneryoga-mam-julie-fir-kanner-vun-5-10-joer-7/
LOCATION:Turnsall ISJB\, 2\, rue Wecker\, Betzdorf\, 6832\, Luxembourg
CATEGORIES:Fit mam Lis,Kanneratelier
ATTACH;FMTTYPE=image/jpeg:https://www.beimlis.lu/wp-content/uploads/2025/02/Bild-Kanneryoga-Comic.jpg
ORGANIZER;CN="Duerftreff beim Lis":MAILTO:moien@beimlis.lu
END:VEVENT
END:VCALENDAR