BEGIN:VCALENDAR
VERSION:2.0
PRODID:-//beim Lis | Groupe elisabeth - ECPv6.15.16//NONSGML v1.0//EN
CALSCALE:GREGORIAN
METHOD:PUBLISH
X-ORIGINAL-URL:https://www.beimlis.lu
X-WR-CALDESC:évènements pour beim Lis | Groupe elisabeth
REFRESH-INTERVAL;VALUE=DURATION:PT1H
X-Robots-Tag:noindex
X-PUBLISHED-TTL:PT1H
BEGIN:VTIMEZONE
TZID:Europe/Paris
BEGIN:DAYLIGHT
TZOFFSETFROM:+0100
TZOFFSETTO:+0200
TZNAME:CEST
DTSTART:20200329T010000
END:DAYLIGHT
BEGIN:STANDARD
TZOFFSETFROM:+0200
TZOFFSETTO:+0100
TZNAME:CET
DTSTART:20201025T010000
END:STANDARD
BEGIN:DAYLIGHT
TZOFFSETFROM:+0100
TZOFFSETTO:+0200
TZNAME:CEST
DTSTART:20210328T010000
END:DAYLIGHT
BEGIN:STANDARD
TZOFFSETFROM:+0200
TZOFFSETTO:+0100
TZNAME:CET
DTSTART:20211031T010000
END:STANDARD
BEGIN:DAYLIGHT
TZOFFSETFROM:+0100
TZOFFSETTO:+0200
TZNAME:CEST
DTSTART:20220327T010000
END:DAYLIGHT
BEGIN:STANDARD
TZOFFSETFROM:+0200
TZOFFSETTO:+0100
TZNAME:CET
DTSTART:20221030T010000
END:STANDARD
END:VTIMEZONE
BEGIN:VEVENT
DTSTART;TZID=Europe/Paris:20211207T140000
DTEND;TZID=Europe/Paris:20211207T153000
DTSTAMP:20260425T001427
CREATED:20211006T092659Z
LAST-MODIFIED:20211006T092659Z
UID:3440-1638885600-1638891000@www.beimlis.lu
SUMMARY:Kanneratelier- Käerzen mol anescht
DESCRIPTION:Chrëschtdag duerf et och anescht sinn. \nMir maachen an eisem Käerzen Atelier am ISJB en inklusiven Workshop wou Käerzen hiergestallt ginn\, mee net einfach normal riicht Käerzen mee Muffins an Chrëschtbeemercher \nLoscht kritt? \nDann mëllt iech un per Email op moien@beimlis.lu oder iwwer SMS 691719013 \n 
URL:https://www.beimlis.lu/calendrier/kanneratelier-kaerzen-mol-anescht/
LOCATION:Käerzenatelier am Institut St Joseph Betzdorf\, 2\, rue de Wecker\, Betzdorf\, 6832\, Luxembourg
CATEGORIES:Kanneratelier
ORGANIZER;CN="Duerftreff beim Lis":MAILTO:moien@beimlis.lu
END:VEVENT
END:VCALENDAR