BEGIN:VCALENDAR
VERSION:2.0
PRODID:-//beim Lis | Groupe elisabeth - ECPv6.15.16//NONSGML v1.0//EN
CALSCALE:GREGORIAN
METHOD:PUBLISH
X-ORIGINAL-URL:https://www.beimlis.lu
X-WR-CALDESC:évènements pour beim Lis | Groupe elisabeth
REFRESH-INTERVAL;VALUE=DURATION:PT1H
X-Robots-Tag:noindex
X-PUBLISHED-TTL:PT1H
BEGIN:VTIMEZONE
TZID:Europe/Paris
BEGIN:DAYLIGHT
TZOFFSETFROM:+0100
TZOFFSETTO:+0200
TZNAME:CEST
DTSTART:20250330T010000
END:DAYLIGHT
BEGIN:STANDARD
TZOFFSETFROM:+0200
TZOFFSETTO:+0100
TZNAME:CET
DTSTART:20251026T010000
END:STANDARD
BEGIN:DAYLIGHT
TZOFFSETFROM:+0100
TZOFFSETTO:+0200
TZNAME:CEST
DTSTART:20260329T010000
END:DAYLIGHT
BEGIN:STANDARD
TZOFFSETFROM:+0200
TZOFFSETTO:+0100
TZNAME:CET
DTSTART:20261025T010000
END:STANDARD
BEGIN:DAYLIGHT
TZOFFSETFROM:+0100
TZOFFSETTO:+0200
TZNAME:CEST
DTSTART:20270328T010000
END:DAYLIGHT
BEGIN:STANDARD
TZOFFSETFROM:+0200
TZOFFSETTO:+0100
TZNAME:CET
DTSTART:20271031T010000
END:STANDARD
END:VTIMEZONE
BEGIN:VEVENT
DTSTART;TZID=Europe/Paris:20260307T130000
DTEND;TZID=Europe/Paris:20260307T150000
DTSTAMP:20260423T134005
CREATED:20260107T124512Z
LAST-MODIFIED:20260107T124512Z
UID:5391-1772888400-1772895600@www.beimlis.lu
SUMMARY:Schnuppertauchcours fir Kanner ab 8 Joer
DESCRIPTION:
URL:https://www.beimlis.lu/calendrier/schnuppertauchcours-fir-kanner-ab-8-joer-23/
LOCATION:Piscine ISJB\, 2 rue de Wecker\, Betzdorf\, 6832\, Luxembourg
CATEGORIES:Fit mam Lis,Kanneratelier
ATTACH;FMTTYPE=image/jpeg:https://www.beimlis.lu/wp-content/uploads/2026/01/Bild-Schnuppertauchen.jpg
ORGANIZER;CN="Euroschwimmpass":MAILTO:info@euroschwimmpass.de
END:VEVENT
BEGIN:VEVENT
DTSTART;TZID=Europe/Paris:20260308T100000
DTEND;TZID=Europe/Paris:20260308T110000
DTSTAMP:20260423T134005
CREATED:20260116T143146Z
LAST-MODIFIED:20260211T110500Z
UID:5438-1772964000-1772967600@www.beimlis.lu
SUMMARY:Familljeyoga mam Julie fir Kanner vun 4-8 Joer
DESCRIPTION:
URL:https://www.beimlis.lu/calendrier/familljeyoga-mam-julie-fir-kanner-vun-4-8-joer-14/
LOCATION:Turnsall ISJB\, 2\, rue Wecker\, Betzdorf\, 6832\, Luxembourg
CATEGORIES:Fit mam Lis,Kanneratelier
ATTACH;FMTTYPE=image/jpeg:https://www.beimlis.lu/wp-content/uploads/2026/01/Bild-Familljeyoga-1.jpg
ORGANIZER;CN="Duerftreff beim Lis":MAILTO:moien@beimlis.lu
END:VEVENT
BEGIN:VEVENT
DTSTART;TZID=Europe/Paris:20260308T110000
DTEND;TZID=Europe/Paris:20260308T120000
DTSTAMP:20260423T134005
CREATED:20260116T143322Z
LAST-MODIFIED:20260211T110553Z
UID:5442-1772967600-1772971200@www.beimlis.lu
SUMMARY:Kanneryoga mam Julie fir Kanner vun 5-10 Joer
DESCRIPTION:
URL:https://www.beimlis.lu/calendrier/kanneryoga-mam-julie-fir-kanner-vun-5-10-joer-16/
LOCATION:Turnsall ISJB\, 2\, rue Wecker\, Betzdorf\, 6832\, Luxembourg
CATEGORIES:Fit mam Lis,Kanneratelier
ATTACH;FMTTYPE=image/jpeg:https://www.beimlis.lu/wp-content/uploads/2026/01/Bild-Kanneryoga.jpg
ORGANIZER;CN="Duerftreff beim Lis":MAILTO:moien@beimlis.lu
END:VEVENT
END:VCALENDAR