BEGIN:VCALENDAR
VERSION:2.0
PRODID:-//beim Lis | Groupe elisabeth - ECPv6.15.16//NONSGML v1.0//EN
CALSCALE:GREGORIAN
METHOD:PUBLISH
X-WR-CALNAME:beim Lis | Groupe elisabeth
X-ORIGINAL-URL:https://www.beimlis.lu
X-WR-CALDESC:évènements pour beim Lis | Groupe elisabeth
REFRESH-INTERVAL;VALUE=DURATION:PT1H
X-Robots-Tag:noindex
X-PUBLISHED-TTL:PT1H
BEGIN:VTIMEZONE
TZID:Europe/Paris
BEGIN:DAYLIGHT
TZOFFSETFROM:+0100
TZOFFSETTO:+0200
TZNAME:CEST
DTSTART:20250330T010000
END:DAYLIGHT
BEGIN:STANDARD
TZOFFSETFROM:+0200
TZOFFSETTO:+0100
TZNAME:CET
DTSTART:20251026T010000
END:STANDARD
BEGIN:DAYLIGHT
TZOFFSETFROM:+0100
TZOFFSETTO:+0200
TZNAME:CEST
DTSTART:20260329T010000
END:DAYLIGHT
BEGIN:STANDARD
TZOFFSETFROM:+0200
TZOFFSETTO:+0100
TZNAME:CET
DTSTART:20261025T010000
END:STANDARD
BEGIN:DAYLIGHT
TZOFFSETFROM:+0100
TZOFFSETTO:+0200
TZNAME:CEST
DTSTART:20270328T010000
END:DAYLIGHT
BEGIN:STANDARD
TZOFFSETFROM:+0200
TZOFFSETTO:+0100
TZNAME:CET
DTSTART:20271031T010000
END:STANDARD
END:VTIMEZONE
BEGIN:VEVENT
DTSTART;TZID=Europe/Paris:20260422T170000
DTEND;TZID=Europe/Paris:20260422T174500
DTSTAMP:20260423T115252
CREATED:20260116T121334Z
LAST-MODIFIED:20260116T121334Z
UID:5435-1776877200-1776879900@www.beimlis.lu
SUMMARY:Kannerschwammcours fir Geübter
DESCRIPTION:
URL:https://www.beimlis.lu/calendrier/kannerschwammcours-fir-geubter-28/
LOCATION:Piscine ISJB\, 2 rue de Wecker\, Betzdorf\, 6832\, Luxembourg
CATEGORIES:Fit mam Lis,Kanneratelier
ATTACH;FMTTYPE=image/jpeg:https://www.beimlis.lu/wp-content/uploads/2026/01/Bild-Schwammen-1.jpg
ORGANIZER;CN="Euroschwimmpass":MAILTO:info@euroschwimmpass.de
END:VEVENT
END:VCALENDAR