BEGIN:VCALENDAR
VERSION:2.0
PRODID:-//beim Lis | Groupe elisabeth - ECPv6.15.16//NONSGML v1.0//EN
CALSCALE:GREGORIAN
METHOD:PUBLISH
X-WR-CALNAME:beim Lis | Groupe elisabeth
X-ORIGINAL-URL:https://www.beimlis.lu
X-WR-CALDESC:évènements pour beim Lis | Groupe elisabeth
REFRESH-INTERVAL;VALUE=DURATION:PT1H
X-Robots-Tag:noindex
X-PUBLISHED-TTL:PT1H
BEGIN:VTIMEZONE
TZID:Europe/Paris
BEGIN:DAYLIGHT
TZOFFSETFROM:+0100
TZOFFSETTO:+0200
TZNAME:CEST
DTSTART:20210328T010000
END:DAYLIGHT
BEGIN:STANDARD
TZOFFSETFROM:+0200
TZOFFSETTO:+0100
TZNAME:CET
DTSTART:20211031T010000
END:STANDARD
BEGIN:DAYLIGHT
TZOFFSETFROM:+0100
TZOFFSETTO:+0200
TZNAME:CEST
DTSTART:20220327T010000
END:DAYLIGHT
BEGIN:STANDARD
TZOFFSETFROM:+0200
TZOFFSETTO:+0100
TZNAME:CET
DTSTART:20221030T010000
END:STANDARD
BEGIN:DAYLIGHT
TZOFFSETFROM:+0100
TZOFFSETTO:+0200
TZNAME:CEST
DTSTART:20230326T010000
END:DAYLIGHT
BEGIN:STANDARD
TZOFFSETFROM:+0200
TZOFFSETTO:+0100
TZNAME:CET
DTSTART:20231029T010000
END:STANDARD
END:VTIMEZONE
BEGIN:VEVENT
DTSTART;TZID=Europe/Paris:20221125T160000
DTEND;TZID=Europe/Paris:20221127T180000
DTSTAMP:20260424T210710
CREATED:20221116T143830Z
LAST-MODIFIED:20221116T143830Z
UID:3876-1669392000-1669572000@www.beimlis.lu
SUMMARY:Betzder Chrëschtmaart
DESCRIPTION:🎄Start zesummen mat eis an d’Adventszäit\, besicht eis Konschthandwierker Stänn\, sicht iech schonn eng flott Chrëschtdeko oder schonn deen een oder anere Cadeau fir ënnert de Beemchen.🎄\n\n\n \n\n\nEis Veräiner suergen dofir dass de groussen a klengen Honger gestëllt gëtt\, e Patt ze drénken gëtt et natierlech och.\n\n\n \n\n\nAn enger heemlecher Ambiance freeën mir eis iech wëllkomm ze heeschen\n\n\n \n\n\nVum 25-27 November zu Rued beim Syrkus\, mir freeën eis op ären Besuch.
URL:https://www.beimlis.lu/calendrier/betzder-chreschtmaart-4/
LOCATION:Syrkus\, 20 rte de Luxembourg\, Rued\, 6910\, Luxembourg
CATEGORIES:Foires et Marchés
ATTACH;FMTTYPE=image/jpeg:https://www.beimlis.lu/wp-content/uploads/2022/11/Plakat-Chreschtmaart-2022-scaled.jpg
END:VEVENT
BEGIN:VEVENT
DTSTART;TZID=Europe/Paris:20221126T150000
DTEND;TZID=Europe/Paris:20221126T170000
DTSTAMP:20260424T210710
CREATED:20221114T103556Z
LAST-MODIFIED:20221114T103556Z
UID:3869-1669474800-1669482000@www.beimlis.lu
SUMMARY:Kannertauchen Schnuppercours
DESCRIPTION:Wolls du schon ëmmer emol wëssen wei et ass mat engem Gerät ze tauchen\, ënner Waasser Saachen ze sichen an Rätselen ze léisen? \nDann ass eisen Schnuppercours genau dat richtegt fir dech. \nFir Kanner ab 8 Joer \nPrais 45€ all Material inclus
URL:https://www.beimlis.lu/calendrier/kannertauchen-schnuppercours-7/
LOCATION:Piscine ISJB\, 2 rue de Wecker\, Betzdorf\, 6832\, Luxembourg
CATEGORIES:Kanneratelier
ATTACH;FMTTYPE=image/jpeg:https://www.beimlis.lu/wp-content/uploads/2022/07/Kannertauchen.jpg
ORGANIZER;CN="Duerftreff beim Lis":MAILTO:moien@beimlis.lu
END:VEVENT
END:VCALENDAR