BEGIN:VCALENDAR
VERSION:2.0
PRODID:-//beim Lis | Groupe elisabeth - ECPv6.15.16//NONSGML v1.0//EN
CALSCALE:GREGORIAN
METHOD:PUBLISH
X-WR-CALNAME:beim Lis | Groupe elisabeth
X-ORIGINAL-URL:https://www.beimlis.lu
X-WR-CALDESC:évènements pour beim Lis | Groupe elisabeth
REFRESH-INTERVAL;VALUE=DURATION:PT1H
X-Robots-Tag:noindex
X-PUBLISHED-TTL:PT1H
BEGIN:VTIMEZONE
TZID:Europe/Paris
BEGIN:DAYLIGHT
TZOFFSETFROM:+0100
TZOFFSETTO:+0200
TZNAME:CEST
DTSTART:20210328T010000
END:DAYLIGHT
BEGIN:STANDARD
TZOFFSETFROM:+0200
TZOFFSETTO:+0100
TZNAME:CET
DTSTART:20211031T010000
END:STANDARD
BEGIN:DAYLIGHT
TZOFFSETFROM:+0100
TZOFFSETTO:+0200
TZNAME:CEST
DTSTART:20220327T010000
END:DAYLIGHT
BEGIN:STANDARD
TZOFFSETFROM:+0200
TZOFFSETTO:+0100
TZNAME:CET
DTSTART:20221030T010000
END:STANDARD
BEGIN:DAYLIGHT
TZOFFSETFROM:+0100
TZOFFSETTO:+0200
TZNAME:CEST
DTSTART:20230326T010000
END:DAYLIGHT
BEGIN:STANDARD
TZOFFSETFROM:+0200
TZOFFSETTO:+0100
TZNAME:CET
DTSTART:20231029T010000
END:STANDARD
END:VTIMEZONE
BEGIN:VEVENT
DTSTART;TZID=Europe/Paris:20221012T140000
DTEND;TZID=Europe/Paris:20221012T153000
DTSTAMP:20260424T192744
CREATED:20220812T083514Z
LAST-MODIFIED:20220812T083514Z
UID:3762-1665583200-1665588600@www.beimlis.lu
SUMMARY:Gediechtnestraining
DESCRIPTION:Dir stitt virum Bankomat a wësst äre Code net méi.. \nKenn dir dat? \nWat fir de Kierper Beweegung ass\, ass fir d’Gehier d’Denken resp. Notzen vun den geeschtegen Fäegkeeten. \nDuerch gezielt Übungen \, a Kombinatioun mat Beweegungs- an Entspanungsmomenter kënnt dir är Leeschtung vum Gehier verbesseren. \nCarine Sauer \nGedächtnistrainerin vum Lëtzebuerger Veräin fir Gedächtnistraining (LVGT). \n 
URL:https://www.beimlis.lu/calendrier/gediechtnestraining/
LOCATION:Bowéngsbierg  zu Roodt/Syr\, 14 rue d'Olingen\, Roodt/Syr\, 6914\, Luxembourg
CATEGORIES:Workshop
ATTACH;FMTTYPE=image/png:https://www.beimlis.lu/wp-content/uploads/2022/08/Gediechtnistraining-Oktober.png
ORGANIZER;CN="Duerftreff beim Lis":MAILTO:moien@beimlis.lu
END:VEVENT
END:VCALENDAR