BEGIN:VCALENDAR
VERSION:2.0
PRODID:-//beim Lis | Groupe elisabeth - ECPv6.15.16//NONSGML v1.0//EN
CALSCALE:GREGORIAN
METHOD:PUBLISH
X-WR-CALNAME:beim Lis | Groupe elisabeth
X-ORIGINAL-URL:https://www.beimlis.lu
X-WR-CALDESC:évènements pour beim Lis | Groupe elisabeth
REFRESH-INTERVAL;VALUE=DURATION:PT1H
X-Robots-Tag:noindex
X-PUBLISHED-TTL:PT1H
BEGIN:VTIMEZONE
TZID:Europe/Paris
BEGIN:DAYLIGHT
TZOFFSETFROM:+0100
TZOFFSETTO:+0200
TZNAME:CEST
DTSTART:20210328T010000
END:DAYLIGHT
BEGIN:STANDARD
TZOFFSETFROM:+0200
TZOFFSETTO:+0100
TZNAME:CET
DTSTART:20211031T010000
END:STANDARD
BEGIN:DAYLIGHT
TZOFFSETFROM:+0100
TZOFFSETTO:+0200
TZNAME:CEST
DTSTART:20220327T010000
END:DAYLIGHT
BEGIN:STANDARD
TZOFFSETFROM:+0200
TZOFFSETTO:+0100
TZNAME:CET
DTSTART:20221030T010000
END:STANDARD
BEGIN:DAYLIGHT
TZOFFSETFROM:+0100
TZOFFSETTO:+0200
TZNAME:CEST
DTSTART:20230326T010000
END:DAYLIGHT
BEGIN:STANDARD
TZOFFSETFROM:+0200
TZOFFSETTO:+0100
TZNAME:CET
DTSTART:20231029T010000
END:STANDARD
END:VTIMEZONE
BEGIN:VEVENT
DTSTART;TZID=Europe/Paris:20221009T110000
DTEND;TZID=Europe/Paris:20221009T140000
DTSTAMP:20260424T192851
CREATED:20220808T130147Z
LAST-MODIFIED:20220808T130147Z
UID:3736-1665313200-1665324000@www.beimlis.lu
SUMMARY:Intensiv-Workshop Wohlfühlprodukte
DESCRIPTION:Wohlfühlprodukte individuell selbst herstellen \nDie Natur stellt uns nicht nur Essen und Trinken zur Verfügung\, sie bietet auch einiges für unser menschliches Wohlbefinden. Die Herstellung von persönlichen Wohlfühlprodukten mit natürlichen Zutaten macht Spaß\, Freude und tut gut. \nIn diesem sehr intensiven Workshop mit nur wenigen Teilnehmern lernen wir Zubehör und Zutaten kennen\, die zum Herstellen von Wohlfühlprodukten benötigt werden. Einfache Naturvielfalt. \nAus diesen hochwertigen Zutaten stellt jeder Teilnehmer individuell verschiedene\, herrliche Pflegeprodukte her nach eigenen Bedürfnissen und Interesse. Die individuelle Kreativität kann gerne frei zum Ausdruck gebracht werden. \nZu jedem Workshop gibt es Kräuter-Tee\, Kräuter-Wasser\, Sirup\, kleiner Snack\, Ansichtsexemplare von Büchern zum Thema liegen bereit. \nmin 5/max 6 Personen
URL:https://www.beimlis.lu/calendrier/intensiv-workshop-wohlfuhlprodukte/
LOCATION:A Wiewesch\, 12 Syrdallstrooss\,\, Manternach\, L-6850\, Luxembourg
CATEGORIES:Workshop
ATTACH;FMTTYPE=image/png:https://www.beimlis.lu/wp-content/uploads/2022/05/Wohlfuhlprodukte.png
END:VEVENT
END:VCALENDAR