BEGIN:VCALENDAR
VERSION:2.0
PRODID:-//beim Lis | Groupe elisabeth - ECPv6.15.16//NONSGML v1.0//EN
CALSCALE:GREGORIAN
METHOD:PUBLISH
X-ORIGINAL-URL:https://www.beimlis.lu
X-WR-CALDESC:évènements pour beim Lis | Groupe elisabeth
REFRESH-INTERVAL;VALUE=DURATION:PT1H
X-Robots-Tag:noindex
X-PUBLISHED-TTL:PT1H
BEGIN:VTIMEZONE
TZID:Europe/Paris
BEGIN:DAYLIGHT
TZOFFSETFROM:+0100
TZOFFSETTO:+0200
TZNAME:CEST
DTSTART:20210328T010000
END:DAYLIGHT
BEGIN:STANDARD
TZOFFSETFROM:+0200
TZOFFSETTO:+0100
TZNAME:CET
DTSTART:20211031T010000
END:STANDARD
BEGIN:DAYLIGHT
TZOFFSETFROM:+0100
TZOFFSETTO:+0200
TZNAME:CEST
DTSTART:20220327T010000
END:DAYLIGHT
BEGIN:STANDARD
TZOFFSETFROM:+0200
TZOFFSETTO:+0100
TZNAME:CET
DTSTART:20221030T010000
END:STANDARD
BEGIN:DAYLIGHT
TZOFFSETFROM:+0100
TZOFFSETTO:+0200
TZNAME:CEST
DTSTART:20230326T010000
END:DAYLIGHT
BEGIN:STANDARD
TZOFFSETFROM:+0200
TZOFFSETTO:+0100
TZNAME:CET
DTSTART:20231029T010000
END:STANDARD
END:VTIMEZONE
BEGIN:VEVENT
DTSTART;TZID=Europe/Paris:20221006T153000
DTEND;TZID=Europe/Paris:20221006T173000
DTSTAMP:20260424T192915
CREATED:20210518T074647Z
LAST-MODIFIED:20220919T115728Z
UID:3285-1665070200-1665077400@www.beimlis.lu
SUMMARY:Heekelen - Atelier Crochet
DESCRIPTION:Venez apprendre ce loisir créatif passionant avec Veronica\, vous serez guidée pas à pas pour vous familiariser avec les outils et lire les\ngraphiques\, apprendre à tenir le crochet\, voir les differents types de matières\, apprendre les points (chaînette\, maille serrée et brides)\,\napprendre à terminer un ouvrage et rentrer les fils.\nUne fois les techniques de base apprises\, des projets simples comme confectionner les carrés « grannys squares»\, des écharpes\,\nmitaines\, bandeaux\, tout ce qui est carré ou rectangle. L’idée est de pratiquer la manipulation du crochet et de mémoriser les points de bases.\nLangues parlées : français – anglais \nPrix pour les 6 séances 160€ \nDates:\n06.10.2022\n20.10.2022\n03.11.2022\n17.11.2022\n15.12.2022
URL:https://www.beimlis.lu/calendrier/heekelen-atelier-crochet-3/
LOCATION:Bowéngsbierg  zu Roodt/Syr\, 14 rue d'Olingen\, Roodt/Syr\, 6914\, Luxembourg
CATEGORIES:Workshop
ATTACH;FMTTYPE=image/jpeg:https://www.beimlis.lu/wp-content/uploads/2021/02/Heekelen-oktober.jpg
ORGANIZER;CN="Duerftreff beim Lis":MAILTO:moien@beimlis.lu
END:VEVENT
END:VCALENDAR