BEGIN:VCALENDAR
VERSION:2.0
PRODID:-//beim Lis | Groupe elisabeth - ECPv6.15.16//NONSGML v1.0//EN
CALSCALE:GREGORIAN
METHOD:PUBLISH
X-ORIGINAL-URL:https://www.beimlis.lu
X-WR-CALDESC:évènements pour beim Lis | Groupe elisabeth
REFRESH-INTERVAL;VALUE=DURATION:PT1H
X-Robots-Tag:noindex
X-PUBLISHED-TTL:PT1H
BEGIN:VTIMEZONE
TZID:Europe/Paris
BEGIN:DAYLIGHT
TZOFFSETFROM:+0100
TZOFFSETTO:+0200
TZNAME:CEST
DTSTART:20210328T010000
END:DAYLIGHT
BEGIN:STANDARD
TZOFFSETFROM:+0200
TZOFFSETTO:+0100
TZNAME:CET
DTSTART:20211031T010000
END:STANDARD
BEGIN:DAYLIGHT
TZOFFSETFROM:+0100
TZOFFSETTO:+0200
TZNAME:CEST
DTSTART:20220327T010000
END:DAYLIGHT
BEGIN:STANDARD
TZOFFSETFROM:+0200
TZOFFSETTO:+0100
TZNAME:CET
DTSTART:20221030T010000
END:STANDARD
BEGIN:DAYLIGHT
TZOFFSETFROM:+0100
TZOFFSETTO:+0200
TZNAME:CEST
DTSTART:20230326T010000
END:DAYLIGHT
BEGIN:STANDARD
TZOFFSETFROM:+0200
TZOFFSETTO:+0100
TZNAME:CET
DTSTART:20231029T010000
END:STANDARD
END:VTIMEZONE
BEGIN:VEVENT
DTSTART;TZID=Europe/Paris:20220923T120000
DTEND;TZID=Europe/Paris:20220923T140000
DTSTAMP:20260424T180036
CREATED:20220919T115345Z
LAST-MODIFIED:20220919T115513Z
UID:3774-1663934400-1663941600@www.beimlis.lu
SUMMARY:Zesummen iessen
DESCRIPTION:All 2te Freiden gi mir zesummen iessen. Mir wiesselen eis mat de Restauranten aus der Gemeng an ronderëm of. Jiddereen deen net eleng well iessen oder einfach a Gesellschaft well sinn ass wëllkomm \nUmellen iwwer Tel 691719013 oder moien@beimlis.lu
URL:https://www.beimlis.lu/calendrier/zesummen-iessen/
CATEGORIES:Lis Treff
END:VEVENT
END:VCALENDAR