BEGIN:VCALENDAR
VERSION:2.0
PRODID:-//beim Lis | Groupe elisabeth - ECPv6.15.16//NONSGML v1.0//EN
CALSCALE:GREGORIAN
METHOD:PUBLISH
X-ORIGINAL-URL:https://www.beimlis.lu
X-WR-CALDESC:évènements pour beim Lis | Groupe elisabeth
REFRESH-INTERVAL;VALUE=DURATION:PT1H
X-Robots-Tag:noindex
X-PUBLISHED-TTL:PT1H
BEGIN:VTIMEZONE
TZID:Europe/Paris
BEGIN:DAYLIGHT
TZOFFSETFROM:+0100
TZOFFSETTO:+0200
TZNAME:CEST
DTSTART:20210328T010000
END:DAYLIGHT
BEGIN:STANDARD
TZOFFSETFROM:+0200
TZOFFSETTO:+0100
TZNAME:CET
DTSTART:20211031T010000
END:STANDARD
BEGIN:DAYLIGHT
TZOFFSETFROM:+0100
TZOFFSETTO:+0200
TZNAME:CEST
DTSTART:20220327T010000
END:DAYLIGHT
BEGIN:STANDARD
TZOFFSETFROM:+0200
TZOFFSETTO:+0100
TZNAME:CET
DTSTART:20221030T010000
END:STANDARD
BEGIN:DAYLIGHT
TZOFFSETFROM:+0100
TZOFFSETTO:+0200
TZNAME:CEST
DTSTART:20230326T010000
END:DAYLIGHT
BEGIN:STANDARD
TZOFFSETFROM:+0200
TZOFFSETTO:+0100
TZNAME:CET
DTSTART:20231029T010000
END:STANDARD
END:VTIMEZONE
BEGIN:VEVENT
DTSTART;TZID=Europe/Paris:20220423T140000
DTEND;TZID=Europe/Paris:20220423T173000
DTSTAMP:20260424T193034
CREATED:20210324T075217Z
LAST-MODIFIED:20220302T105751Z
UID:3215-1650722400-1650735000@www.beimlis.lu
SUMMARY:Wildkräuterrundgang für die Alltagsküche
DESCRIPTION:Kleine Wildkräuterführung \nSchon immer hat man mit den Schätzen der Natur etwas hergestellt und viel Zeit mit Pflanzen und\nKräutern verbracht. Genau das wollen wir zusammen erleben und wiederentdecken. Gemeinsam\nwerden wir uns auf Entdeckungsreise begeben und gesammelte Schätze der Natur einfach und\nalltagstauglich verarbeiten.\nIn der kleinen Kräuterführung werden wir Pflanzen suchen\, sammeln\, die Nutzung für die Küche\nbesprechen und uns über die praktische Verarbeitung austauschen. Wir besprechen was wir alles\nmit unseren gesammelten Pflanzen tun können. z.b. das Trocknen der Pflanzen\, die Verwendung\nfür Speisen\, Kräuteröle Tee\, Körper Öl und mehr.\nDas Ziel ist\, ein paar schöne Stunden in der Welt der Pflanzen zu verbringen und Anregungen mit\nin den Alltag zu nehmen. \nGetränken.
URL:https://www.beimlis.lu/calendrier/wildkrauterrundgang-fur-die-alltagskuche/
CATEGORIES:Lis on Tour,Workshop
ATTACH;FMTTYPE=image/jpeg:https://www.beimlis.lu/wp-content/uploads/2021/03/Kraider-scaled.jpg
ORGANIZER;CN="Duerftreff beim Lis":MAILTO:moien@beimlis.lu
END:VEVENT
END:VCALENDAR