BEGIN:VCALENDAR
VERSION:2.0
PRODID:-//beim Lis | Groupe elisabeth - ECPv6.15.16//NONSGML v1.0//EN
CALSCALE:GREGORIAN
METHOD:PUBLISH
X-WR-CALNAME:beim Lis | Groupe elisabeth
X-ORIGINAL-URL:https://www.beimlis.lu
X-WR-CALDESC:évènements pour beim Lis | Groupe elisabeth
REFRESH-INTERVAL;VALUE=DURATION:PT1H
X-Robots-Tag:noindex
X-PUBLISHED-TTL:PT1H
BEGIN:VTIMEZONE
TZID:Europe/Paris
BEGIN:DAYLIGHT
TZOFFSETFROM:+0100
TZOFFSETTO:+0200
TZNAME:CEST
DTSTART:20200329T010000
END:DAYLIGHT
BEGIN:STANDARD
TZOFFSETFROM:+0200
TZOFFSETTO:+0100
TZNAME:CET
DTSTART:20201025T010000
END:STANDARD
BEGIN:DAYLIGHT
TZOFFSETFROM:+0100
TZOFFSETTO:+0200
TZNAME:CEST
DTSTART:20210328T010000
END:DAYLIGHT
BEGIN:STANDARD
TZOFFSETFROM:+0200
TZOFFSETTO:+0100
TZNAME:CET
DTSTART:20211031T010000
END:STANDARD
BEGIN:DAYLIGHT
TZOFFSETFROM:+0100
TZOFFSETTO:+0200
TZNAME:CEST
DTSTART:20220327T010000
END:DAYLIGHT
BEGIN:STANDARD
TZOFFSETFROM:+0200
TZOFFSETTO:+0100
TZNAME:CET
DTSTART:20221030T010000
END:STANDARD
END:VTIMEZONE
BEGIN:VEVENT
DTSTART;TZID=Europe/Paris:20211128T120000
DTEND;TZID=Europe/Paris:20211128T200000
DTSTAMP:20260424T204948
CREATED:20211115T152257Z
LAST-MODIFIED:20211115T152257Z
UID:3477-1638100800-1638129600@www.beimlis.lu
SUMMARY:Betzder Chrëschtmaart
DESCRIPTION:Mir lueden Iech heimat häerzlech op den Chrëschtmaart vun der Gemeng Betzder an.\nMaacht en Tour iwwert de Maart mat sengen villen flotten Stänn\, dëst am Schoulhaff zu Roodt/Syr.\nDir kënnt net nëmmen eng helle Wull un Produite vun verschiddenen Associatiounen\, Organisatiounen an der Schoul kafen\, mee et ass och beschten ‘s fir Iessen an Drénken gesuergt.\nDëst Joer gëtt et um Chrëschtmaart och e kulturelle Programm\, wou an enger festlecher Ambiance eng ganz Rei Kënschtler optrieden. \nSonndeg: op vun 12:00 bis 20:00 Auer\n12:45 Auer – Optrëtt vun der Menster Musek\n14:00 Auer – Blechbléiser vun der Luxembourg Philharmonia\n17:00 Auer – Janine unplugged Duo – Live Musek passend zur Chrëschtzäit
URL:https://www.beimlis.lu/calendrier/betzder-chreschtmaart-3/
LOCATION:Beim Syrkus zu Rued-Sir\, 20 Route de Luxembourg\, 6916 Roodt-sur-Syre\, 6916\, Luxembourg
ATTACH;FMTTYPE=image/jpeg:https://www.beimlis.lu/wp-content/uploads/2021/11/Betzder-Cheschtmaart-cover-2.jpg
END:VEVENT
END:VCALENDAR