BEGIN:VCALENDAR
VERSION:2.0
PRODID:-//beim Lis | Groupe elisabeth - ECPv6.15.16//NONSGML v1.0//EN
CALSCALE:GREGORIAN
METHOD:PUBLISH
X-WR-CALNAME:beim Lis | Groupe elisabeth
X-ORIGINAL-URL:https://www.beimlis.lu
X-WR-CALDESC:évènements pour beim Lis | Groupe elisabeth
REFRESH-INTERVAL;VALUE=DURATION:PT1H
X-Robots-Tag:noindex
X-PUBLISHED-TTL:PT1H
BEGIN:VTIMEZONE
TZID:Europe/Paris
BEGIN:DAYLIGHT
TZOFFSETFROM:+0100
TZOFFSETTO:+0200
TZNAME:CEST
DTSTART:20200329T010000
END:DAYLIGHT
BEGIN:STANDARD
TZOFFSETFROM:+0200
TZOFFSETTO:+0100
TZNAME:CET
DTSTART:20201025T010000
END:STANDARD
BEGIN:DAYLIGHT
TZOFFSETFROM:+0100
TZOFFSETTO:+0200
TZNAME:CEST
DTSTART:20210328T010000
END:DAYLIGHT
BEGIN:STANDARD
TZOFFSETFROM:+0200
TZOFFSETTO:+0100
TZNAME:CET
DTSTART:20211031T010000
END:STANDARD
BEGIN:DAYLIGHT
TZOFFSETFROM:+0100
TZOFFSETTO:+0200
TZNAME:CEST
DTSTART:20220327T010000
END:DAYLIGHT
BEGIN:STANDARD
TZOFFSETFROM:+0200
TZOFFSETTO:+0100
TZNAME:CET
DTSTART:20221030T010000
END:STANDARD
END:VTIMEZONE
BEGIN:VEVENT
DTSTART;TZID=Europe/Paris:20211126T160000
DTEND;TZID=Europe/Paris:20211126T210000
DTSTAMP:20260424T205004
CREATED:20211115T151505Z
LAST-MODIFIED:20211115T152556Z
UID:3466-1637942400-1637960400@www.beimlis.lu
SUMMARY:Betzder Chrëschtmaart
DESCRIPTION:Nous vous invitons cordialement au marché de Noël de la commune de Betzdorf de cette année.\nFlânez sur le marché avec ses nombreux stands dans la cour de l’école à Roodt-sur-Syre.\nNon seulement vous pourrez acheter des produits provenant d’une grande variété d’associations\, d’organisations et de l’école\, mais il y aura aussi des spécialités saisonnières pour manger et pour boire.\nCette année\, le Betzder marché de noël propose également un programme culturel avec de nombreux artistes qui se produisent dans une ambiance festive. \nVendredi : ouvert de 16h00 à 21h00\n16h00 – Ouverture officielle du marché de noël\n17h00 – Chœur d’enfants de l’école régionale de musique de Grevenmacher\n18h00 – Concert – Ouljer Musek \nSamedi : ouvert de 14h00 à 21h00\n15h00 à 18h00 – Le Saint-Nicolas arrive (les enfants de la commune reçoivent un petit cadeau)\n18h30 à 20h30 – « Revival Band » avec les plus belles chansons pour le temps contemplatif \nDimanche : ouvert de 12h00 à 20h00\n12h45 – Concert – Fanfare Menster\n14h00 – Cuivres de la Philharmonia Luxembourg\n17h00 – Janine unplugged Duo – musique live pour la période avant Noël
URL:https://www.beimlis.lu/calendrier/betzder-chreschtmaart/
LOCATION:Beim Syrkus zu Rued-Sir\, 20 Route de Luxembourg\, 6916 Roodt-sur-Syre\, 6916\, Luxembourg
ATTACH;FMTTYPE=image/jpeg:https://www.beimlis.lu/wp-content/uploads/2021/11/Betzder-Cheschtmaart-cover-2.jpg
END:VEVENT
END:VCALENDAR