BEGIN:VCALENDAR
VERSION:2.0
PRODID:-//beim Lis | Groupe elisabeth - ECPv6.15.16//NONSGML v1.0//EN
CALSCALE:GREGORIAN
METHOD:PUBLISH
X-ORIGINAL-URL:https://www.beimlis.lu
X-WR-CALDESC:évènements pour beim Lis | Groupe elisabeth
REFRESH-INTERVAL;VALUE=DURATION:PT1H
X-Robots-Tag:noindex
X-PUBLISHED-TTL:PT1H
BEGIN:VTIMEZONE
TZID:Europe/Paris
BEGIN:DAYLIGHT
TZOFFSETFROM:+0100
TZOFFSETTO:+0200
TZNAME:CEST
DTSTART:20200329T010000
END:DAYLIGHT
BEGIN:STANDARD
TZOFFSETFROM:+0200
TZOFFSETTO:+0100
TZNAME:CET
DTSTART:20201025T010000
END:STANDARD
BEGIN:DAYLIGHT
TZOFFSETFROM:+0100
TZOFFSETTO:+0200
TZNAME:CEST
DTSTART:20210328T010000
END:DAYLIGHT
BEGIN:STANDARD
TZOFFSETFROM:+0200
TZOFFSETTO:+0100
TZNAME:CET
DTSTART:20211031T010000
END:STANDARD
BEGIN:DAYLIGHT
TZOFFSETFROM:+0100
TZOFFSETTO:+0200
TZNAME:CEST
DTSTART:20220327T010000
END:DAYLIGHT
BEGIN:STANDARD
TZOFFSETFROM:+0200
TZOFFSETTO:+0100
TZNAME:CET
DTSTART:20221030T010000
END:STANDARD
END:VTIMEZONE
BEGIN:VEVENT
DTSTART;TZID=Europe/Paris:20210827T180000
DTEND;TZID=Europe/Paris:20210827T193000
DTSTAMP:20260424T161959
CREATED:20200816T174400Z
LAST-MODIFIED:20210630T093332Z
UID:2880-1630087200-1630092600@www.beimlis.lu
SUMMARY:Kapp aus Beton/Deel 3
DESCRIPTION:Mir modelléieren en Kapp aus Beton\, en richtegen Hikucker deen een flott mat Blimmercher oder Sukkulenten beplanzen kann. \nDësen Cour fënnt iwwer 3 Owenter statt. 13.8/20.8/27.8 \nDeel 1: De Kapp gëtt mat Beton modelléiert \nDeel 2: Nues\, Mond\, Aen an Oueren gi ausgeschafft \nDeel 3: Ofschläifen a bemolen/finitiounen \nDe Präis ass mam Material abegraff
URL:https://www.beimlis.lu/calendrier/kapp-aus-beton-deel-3/
LOCATION:Institut St Joseph Betzdorf\, 2 Rue de Wecker\, Betzdorf\, 6832\, Luxembourg
CATEGORIES:Workshop
ATTACH;FMTTYPE=image/jpeg:https://www.beimlis.lu/wp-content/uploads/2020/08/Kapp-Beton-isjb.jpg
ORGANIZER;CN="Duerftreff beim Lis":MAILTO:moien@beimlis.lu
END:VEVENT
END:VCALENDAR