BEGIN:VCALENDAR
VERSION:2.0
PRODID:-//beim Lis | Groupe elisabeth - ECPv6.15.16//NONSGML v1.0//EN
CALSCALE:GREGORIAN
METHOD:PUBLISH
X-ORIGINAL-URL:https://www.beimlis.lu
X-WR-CALDESC:évènements pour beim Lis | Groupe elisabeth
REFRESH-INTERVAL;VALUE=DURATION:PT1H
X-Robots-Tag:noindex
X-PUBLISHED-TTL:PT1H
BEGIN:VTIMEZONE
TZID:Europe/Paris
BEGIN:DAYLIGHT
TZOFFSETFROM:+0100
TZOFFSETTO:+0200
TZNAME:CEST
DTSTART:20200329T010000
END:DAYLIGHT
BEGIN:STANDARD
TZOFFSETFROM:+0200
TZOFFSETTO:+0100
TZNAME:CET
DTSTART:20201025T010000
END:STANDARD
BEGIN:DAYLIGHT
TZOFFSETFROM:+0100
TZOFFSETTO:+0200
TZNAME:CEST
DTSTART:20210328T010000
END:DAYLIGHT
BEGIN:STANDARD
TZOFFSETFROM:+0200
TZOFFSETTO:+0100
TZNAME:CET
DTSTART:20211031T010000
END:STANDARD
BEGIN:DAYLIGHT
TZOFFSETFROM:+0100
TZOFFSETTO:+0200
TZNAME:CEST
DTSTART:20220327T010000
END:DAYLIGHT
BEGIN:STANDARD
TZOFFSETFROM:+0200
TZOFFSETTO:+0100
TZNAME:CET
DTSTART:20221030T010000
END:STANDARD
END:VTIMEZONE
BEGIN:VEVENT
DTSTART;TZID=Europe/Paris:20210417T140000
DTEND;TZID=Europe/Paris:20210417T160000
DTSTAMP:20260424T103016
CREATED:20210225T080446Z
LAST-MODIFIED:20210225T080446Z
UID:3146-1618668000-1618675200@www.beimlis.lu
SUMMARY:Yoga & Flexibilität Workshop
DESCRIPTION:„Dafür bin ich nicht flexibel genug“…ein Satz den jeder Yogalehrer schon mehrere 100 Mal gehört hat.\nDabei kann Flexibilität erlernt und trainiert werden und zwar von Jedermann!\nIn diesem Workshop lernst du\, worauf es ankommt\, wenn man an seiner Flexibilität arbeiten möchte. Mit\nHilfe einer dreiteiligen Methode tasten wir uns schrittweise an das Thema heran. Wir behandeln\nverschiedene Bereiche des Körpers und arbeiten gemeinsam an der Dehnbarkeit unserer Hüften und\nHamstrings. Außerdem legen wir den Fokus auf die Flexibilität in Seit- und Rückbeugen. Schritt für\nSchritt\, achtsam\, mit Spaß an der Sache und am allerwichtigsten – losgelöst von einem bestimmten\nErgebnis. Nicht vergessen man muss nicht flexibel sein\, um Yoga zu machen aber Yoga ist der\nSchlüssel\, um flexibler zu werden (nicht nur im Körper)..\nMaximal 6 Personen
URL:https://www.beimlis.lu/calendrier/yoga-flexibilitat-workshop/
CATEGORIES:Workshop
ATTACH;FMTTYPE=image/jpeg:https://www.beimlis.lu/wp-content/uploads/2021/02/Flexibilitat.jpg
END:VEVENT
END:VCALENDAR