BEGIN:VCALENDAR
VERSION:2.0
PRODID:-//beim Lis | Groupe elisabeth - ECPv6.15.16//NONSGML v1.0//EN
CALSCALE:GREGORIAN
METHOD:PUBLISH
X-WR-CALNAME:beim Lis | Groupe elisabeth
X-ORIGINAL-URL:https://www.beimlis.lu
X-WR-CALDESC:évènements pour beim Lis | Groupe elisabeth
REFRESH-INTERVAL;VALUE=DURATION:PT1H
X-Robots-Tag:noindex
X-PUBLISHED-TTL:PT1H
BEGIN:VTIMEZONE
TZID:Europe/Paris
BEGIN:DAYLIGHT
TZOFFSETFROM:+0100
TZOFFSETTO:+0200
TZNAME:CEST
DTSTART:20200329T010000
END:DAYLIGHT
BEGIN:STANDARD
TZOFFSETFROM:+0200
TZOFFSETTO:+0100
TZNAME:CET
DTSTART:20201025T010000
END:STANDARD
BEGIN:DAYLIGHT
TZOFFSETFROM:+0100
TZOFFSETTO:+0200
TZNAME:CEST
DTSTART:20210328T010000
END:DAYLIGHT
BEGIN:STANDARD
TZOFFSETFROM:+0200
TZOFFSETTO:+0100
TZNAME:CET
DTSTART:20211031T010000
END:STANDARD
BEGIN:DAYLIGHT
TZOFFSETFROM:+0100
TZOFFSETTO:+0200
TZNAME:CEST
DTSTART:20220327T010000
END:DAYLIGHT
BEGIN:STANDARD
TZOFFSETFROM:+0200
TZOFFSETTO:+0100
TZNAME:CET
DTSTART:20221030T010000
END:STANDARD
END:VTIMEZONE
BEGIN:VEVENT
DTSTART;TZID=Europe/Paris:20210303T163000
DTEND;TZID=Europe/Paris:20210303T183000
DTSTAMP:20260424T115343
CREATED:20210113T143928Z
LAST-MODIFIED:20210113T143928Z
UID:3060-1614789000-1614796200@www.beimlis.lu
SUMMARY:Heekelen mat Arte Sana
DESCRIPTION:Et geet weider… Den Duerftreff bitt erëm en Heekelcour un\, zesummen mat Arte Sana gett iwwer 6 Nomëtteger am Duerftreff geheekelt . Si dir schonn e bëssi geüübt an start gären en neien Projet\, oder si dir Ufänger. An eisem klengen Grupp si dir häerzlech wëllkomm \nHei leiert dir déi gängeg Kniet an leiert esou wei een kleng a méi grouss Projeten realiséiert. \nDe Cour geet iwwer 6 Nomëtteger\, Mëttwochs den 03.02/10.02/17.02/24.02/03.03 an den 10.03.2021 a kascht am ganzen 130 EUR.
URL:https://www.beimlis.lu/calendrier/heekelen-mat-arte-sana-6/
LOCATION:Bowéngsbierg  zu Roodt/Syr\, 14 rue d'Olingen\, Roodt/Syr\, 6914\, Luxembourg
CATEGORIES:Workshop
ATTACH;FMTTYPE=image/png:https://www.beimlis.lu/wp-content/uploads/2020/07/Artesana.png
ORGANIZER;CN="Duerftreff beim Lis":MAILTO:moien@beimlis.lu
END:VEVENT
END:VCALENDAR