BEGIN:VCALENDAR
VERSION:2.0
PRODID:-//beim Lis | Groupe elisabeth - ECPv6.15.16//NONSGML v1.0//EN
CALSCALE:GREGORIAN
METHOD:PUBLISH
X-ORIGINAL-URL:https://www.beimlis.lu
X-WR-CALDESC:évènements pour beim Lis | Groupe elisabeth
REFRESH-INTERVAL;VALUE=DURATION:PT1H
X-Robots-Tag:noindex
X-PUBLISHED-TTL:PT1H
BEGIN:VTIMEZONE
TZID:Europe/Paris
BEGIN:DAYLIGHT
TZOFFSETFROM:+0100
TZOFFSETTO:+0200
TZNAME:CEST
DTSTART:20180325T010000
END:DAYLIGHT
BEGIN:STANDARD
TZOFFSETFROM:+0200
TZOFFSETTO:+0100
TZNAME:CET
DTSTART:20181028T010000
END:STANDARD
BEGIN:DAYLIGHT
TZOFFSETFROM:+0100
TZOFFSETTO:+0200
TZNAME:CEST
DTSTART:20190331T010000
END:DAYLIGHT
BEGIN:STANDARD
TZOFFSETFROM:+0200
TZOFFSETTO:+0100
TZNAME:CET
DTSTART:20191027T010000
END:STANDARD
BEGIN:DAYLIGHT
TZOFFSETFROM:+0100
TZOFFSETTO:+0200
TZNAME:CEST
DTSTART:20200329T010000
END:DAYLIGHT
BEGIN:STANDARD
TZOFFSETFROM:+0200
TZOFFSETTO:+0100
TZNAME:CET
DTSTART:20201025T010000
END:STANDARD
END:VTIMEZONE
BEGIN:VEVENT
DTSTART;TZID=Europe/Paris:20191129T160000
DTEND;TZID=Europe/Paris:20191129T210000
DTSTAMP:20260424T210828
CREATED:20191119T132903Z
LAST-MODIFIED:20191119T133822Z
UID:2668-1575043200-1575061200@www.beimlis.lu
SUMMARY:Chrëschtmaart Beim Syrkus
DESCRIPTION:Méi Informatioune fannt Dir  hei\n 
URL:https://www.beimlis.lu/calendrier/chreschtmaart-beim-syrkus/
LOCATION:Beim Syrkus zu Rued-Sir\, 20 Route de Luxembourg\, 6916 Roodt-sur-Syre\, 6916\, Luxembourg
ATTACH;FMTTYPE=image/jpeg:https://www.beimlis.lu/wp-content/uploads/2019/11/fire-2915539_1920.jpg
END:VEVENT
END:VCALENDAR