BEGIN:VCALENDAR
VERSION:2.0
PRODID:-//beim Lis | Groupe elisabeth - ECPv6.15.16//NONSGML v1.0//EN
CALSCALE:GREGORIAN
METHOD:PUBLISH
X-ORIGINAL-URL:https://www.beimlis.lu
X-WR-CALDESC:évènements pour beim Lis | Groupe elisabeth
REFRESH-INTERVAL;VALUE=DURATION:PT1H
X-Robots-Tag:noindex
X-PUBLISHED-TTL:PT1H
BEGIN:VTIMEZONE
TZID:Europe/Paris
BEGIN:DAYLIGHT
TZOFFSETFROM:+0100
TZOFFSETTO:+0200
TZNAME:CEST
DTSTART:20180325T010000
END:DAYLIGHT
BEGIN:STANDARD
TZOFFSETFROM:+0200
TZOFFSETTO:+0100
TZNAME:CET
DTSTART:20181028T010000
END:STANDARD
BEGIN:DAYLIGHT
TZOFFSETFROM:+0100
TZOFFSETTO:+0200
TZNAME:CEST
DTSTART:20190331T010000
END:DAYLIGHT
BEGIN:STANDARD
TZOFFSETFROM:+0200
TZOFFSETTO:+0100
TZNAME:CET
DTSTART:20191027T010000
END:STANDARD
BEGIN:DAYLIGHT
TZOFFSETFROM:+0100
TZOFFSETTO:+0200
TZNAME:CEST
DTSTART:20200329T010000
END:DAYLIGHT
BEGIN:STANDARD
TZOFFSETFROM:+0200
TZOFFSETTO:+0100
TZNAME:CET
DTSTART:20201025T010000
END:STANDARD
END:VTIMEZONE
BEGIN:VEVENT
DTSTART;TZID=Europe/Paris:20191115T180000
DTEND;TZID=Europe/Paris:20191115T200000
DTSTAMP:20260424T223451
CREATED:20191009T125957Z
LAST-MODIFIED:20191018T092235Z
UID:2565-1573840800-1573848000@www.beimlis.lu
SUMMARY:Biller mat Rascht - Workshop 2. Deel
DESCRIPTION:Dëse Workshop ass an 2 Kéieren\, den 8. an den 15. November. \nZesumme mam Jennifer gëtt weider an der Zär zu Betzder experimentéiert fir datt jiddwereen säi ganz perséinlecht\, aussergewéinlecht Konschtwierk ka mat Heem huelen. \n  \nAm Präis ass och d’Material fir déi 2 Owenter abegraff.
URL:https://www.beimlis.lu/calendrier/biller-mat-rascht-workshop-2-deel/
LOCATION:Institut St Joseph Betzdorf\, 2 Rue de Wecker\, Betzdorf\, 6832\, Luxembourg
CATEGORIES:Workshop
ATTACH;FMTTYPE=image/jpeg:https://www.beimlis.lu/wp-content/uploads/2019/10/Rost.jpg
ORGANIZER;CN="Duerftreff beim Lis":MAILTO:moien@beimlis.lu
END:VEVENT
END:VCALENDAR